{"text_format":"3","workbook":"xlsx","n_sheets":6,"sheets":["80岁本月在册高龄公示名单","80岁本月补发高龄公示名单 ","90岁本月在册高龄公示名单","90岁本月补发高龄公示名单  ","100岁本月在册高龄公示名单  ","100岁本月补发高龄公示名单  "],"not_rendered":{"external_links":9,"defined_names":6},"read":"whole","date_system":"1900"}

{"sheet":"80岁本月在册高龄公示名单","index":0,"n_rows":709,"n_cols":7,"rows_kept":709,"merged":[[0,0,0,6],[1,0,1,6],[706,0,706,6],[707,0,707,6],[708,5,708,6]]}
["跃进街道高龄老年人生活补贴公示"]
["　　本街道共有 703  人申请 2025 年第 8 月高龄补贴，根据《柳州市高龄老年人生活补贴发放管理暂行办法》（柳民规〔2020〕5号）的有关规定，现予以公示"]
["序\n号","所属社区","申请人\n姓名","性别","年龄","补助金额\n（元/月）","发放\n时段"]
[1,{"$f":"'[1]2025年8月80岁本月在册高龄公示名单'!B4","v":"和兴园社区"},{"$f":"'[1]2025年8月80岁本月在册高龄公示名单'!C4","v":"覃建芳"},{"$f":"'[1]2025年8月80岁本月在册高龄公示名单'!D4","v":"男"},{"$f":"'[1]2025年8月80岁本月在册高龄公示名单'!E4","v":84},{"$f":"'[1]2025年8月80岁本月在册高龄公示名单'!F4","v":50},{"$f":"'[1]2025年8月80岁本月在册高龄公示名单'!G4","v":"2025-08-01"}]
[2,{"$f":"'[1]2025年8月80岁本月在册高龄公示名单'!B5","v":"和兴园社区"},{"$f":"'[1]2025年8月80岁本月在册高龄公示名单'!C5","v":"苏亚全"},{"$f":"'[1]2025年8月80岁本月在册高龄公示名单'!D5","v":"男"},{"$f":"'[1]2025年8月80岁本月在册高龄公示名单'!E5","v":84},{"$f":"'[1]2025年8月80岁本月在册高龄公示名单'!F5","v":50},{"$f":"'[1]2025年8月80岁本月在册高龄公示名单'!G5","v":"2025-08-01"}]
[3,{"$f":"'[1]2025年8月80岁本月在册高龄公示名单'!B6","v":"和兴园社区"},{"$f":"'[1]2025年8月80岁本月在册高龄公示名单'!C6","v":"覃瑞合"},{"$f":"'[1]2025年8月80岁本月在册高龄公示名单'!D6","v":"女"},{"$f":"'[1]2025年8月80岁本月在册高龄公示名单'!E6","v":80},{"$f":"'[1]2025年8月80岁本月在册高龄公示名单'!F6","v":50},{"$f":"'[1]2025年8月80岁本月在册高龄公示名单'!G6","v":"2025-08-01"}]
[4,{"$f":"'[1]2025年8月80岁本月在册高龄公示名单'!B7","v":"和兴园社区"},{"$f":"'[1]2025年8月80岁本月在册高龄公示名单'!C7","v":"覃德水"},{"$f":"'[1]2025年8月80岁本月在册高龄公示名单'!D7","v":"男"},{"$f":"'[1]2025年8月80岁本月在册高龄公示名单'!E7","v":83},{"$f":"'[1]2025年8月80岁本月在册高龄公示名单'!F7","v":50},{"$f":"'[1]2025年8月80岁本月在册高龄公示名单'!G7","v":"2025-08-01"}]
[5,{"$f":"'[1]2025年8月80岁本月在册高龄公示名单'!B8","v":"和兴园社区"},{"$f":"'[1]2025年8月80岁本月在册高龄公示名单'!C8","v":"黄玉英"},{"$f":"'[1]2025年8月80岁本月在册高龄公示名单'!D8","v":"女"},{"$f":"'[1]2025年8月80岁本月在册高龄公示名单'!E8","v":83},{"$f":"'[1]2025年8月80岁本月在册高龄公示名单'!F8","v":50},{"$f":"'[1]2025年8月80岁本月在册高龄公示名单'!G8","v":"2025-08-01"}]
[6,{"$f":"'[1]2025年8月80岁本月在册高龄公示名单'!B9","v":"和兴园社区"},{"$f":"'[1]2025年8月80岁本月在册高龄公示名单'!C9","v":"陈旭升"},{"$f":"'[1]2025年8月80岁本月在册高龄公示名单'!D9","v":"男"},{"$f":"'[1]2025年8月80岁本月在册高龄公示名单'!E9","v":83},{"$f":"'[1]2025年8月80岁本月在册高龄公示名单'!F9","v":50},{"$f":"'[1]2025年8月80岁本月在册高龄公示名单'!G9","v":"2025-08-01"}]
[7,{"$f":"'[1]2025年8月80岁本月在册高龄公示名单'!B10","v":"和兴园社区"},{"$f":"'[1]2025年8月80岁本月在册高龄公示名单'!C10","v":"陈翠瑜"},{"$f":"'[1]2025年8月80岁本月在册高龄公示名单'!D10","v":"女"},{"$f":"'[1]2025年8月80岁本月在册高龄公示名单'!E10","v":85},{"$f":"'[1]2025年8月80岁本月在册高龄公示名单'!F10","v":50},{"$f":"'[1]2025年8月80岁本月在册高龄公示名单'!G10","v":"2025-08-01"}]
[8,{"$f":"'[1]2025年8月80岁本月在册高龄公示名单'!B11","v":"和兴园社区"},{"$f":"'[1]2025年8月80岁本月在册高龄公示名单'!C11","v":"林金妹"},{"$f":"'[1]2025年8月80岁本月在册高龄公示名单'!D11","v":"女"},{"$f":"'[1]2025年8月80岁本月在册高龄公示名单'!E11","v":83},{"$f":"'[1]2025年8月80岁本月在册高龄公示名单'!F11","v":50},{"$f":"'[1]2025年8月80岁本月在册高龄公示名单'!G11","v":"2025-08-01"}]
[9,{"$f":"'[1]2025年8月80岁本月在册高龄公示名单'!B12","v":"和兴园社区"},{"$f":"'[1]2025年8月80岁本月在册高龄公示名单'!C12","v":"杨少文"},{"$f":"'[1]2025年8月80岁本月在册高龄公示名单'!D12","v":"男"},{"$f":"'[1]2025年8月80岁本月在册高龄公示名单'!E12","v":83},{"$f":"'[1]2025年8月80岁本月在册高龄公示名单'!F12","v":50},{"$f":"'[1]2025年8月80岁本月在册高龄公示名单'!G12","v":"2025-08-01"}]
[10,{"$f":"'[1]2025年8月80岁本月在册高龄公示名单'!B13","v":"和兴园社区"},{"$f":"'[1]2025年8月80岁本月在册高龄公示名单'!C13","v":"李春荣"},{"$f":"'[1]2025年8月80岁本月在册高龄公示名单'!D13","v":"女"},{"$f":"'[1]2025年8月80岁本月在册高龄公示名单'!E13","v":83},{"$f":"'[1]2025年8月80岁本月在册高龄公示名单'!F13","v":50},{"$f":"'[1]2025年8月80岁本月在册高龄公示名单'!G13","v":"2025-08-01"}]
[11,{"$f":"'[1]2025年8月80岁本月在册高龄公示名单'!B14","v":"和兴园社区"},{"$f":"'[1]2025年8月80岁本月在册高龄公示名单'!C14","v":"何秀凤"},{"$f":"'[1]2025年8月80岁本月在册高龄公示名单'!D14","v":"女"},{"$f":"'[1]2025年8月80岁本月在册高龄公示名单'!E14","v":83},{"$f":"'[1]2025年8月80岁本月在册高龄公示名单'!F14","v":50},{"$f":"'[1]2025年8月80岁本月在册高龄公示名单'!G14","v":"2025-08-01"}]
[12,{"$f":"'[1]2025年8月80岁本月在册高龄公示名单'!B15","v":"和兴园社区"},{"$f":"'[1]2025年8月80岁本月在册高龄公示名单'!C15","v":"赵如定"},{"$f":"'[1]2025年8月80岁本月在册高龄公示名单'!D15","v":"女"},{"$f":"'[1]2025年8月80岁本月在册高龄公示名单'!E15","v":84},{"$f":"'[1]2025年8月80岁本月在册高龄公示名单'!F15","v":50},{"$f":"'[1]2025年8月80岁本月在册高龄公示名单'!G15","v":"2025-08-01"}]
[13,{"$f":"'[1]2025年8月80岁本月在册高龄公示名单'!B16","v":"和兴园社区"},{"$f":"'[1]2025年8月80岁本月在册高龄公示名单'!C16","v":"吴美琴"},{"$f":"'[1]2025年8月80岁本月在册高龄公示名单'!D16","v":"女"},{"$f":"'[1]2025年8月80岁本月在册高龄公示名单'!E16","v":80},{"$f":"'[1]2025年8月80岁本月在册高龄公示名单'!F16","v":50},{"$f":"'[1]2025年8月80岁本月在册高龄公示名单'!G16","v":"2025-08-01"}]
[14,{"$f":"'[1]2025年8月80岁本月在册高龄公示名单'!B17","v":"和兴园社区"},{"$f":"'[1]2025年8月80岁本月在册高龄公示名单'!C17","v":"管华英"},{"$f":"'[1]2025年8月80岁本月在册高龄公示名单'!D17","v":"女"},{"$f":"'[1]2025年8月80岁本月在册高龄公示名单'!E17","v":82},{"$f":"'[1]2025年8月80岁本月在册高龄公示名单'!F17","v":50},{"$f":"'[1]2025年8月80岁本月在册高龄公示名单'!G17","v":"2025-08-01"}]
[15,{"$f":"'[1]2025年8月80岁本月在册高龄公示名单'!B18","v":"和兴园社区"},{"$f":"'[1]2025年8月80岁本月在册高龄公示名单'!C18","v":"李炎娥"},{"$f":"'[1]2025年8月80岁本月在册高龄公示名单'!D18","v":"女"},{"$f":"'[1]2025年8月80岁本月在册高龄公示名单'!E18","v":82},{"$f":"'[1]2025年8月80岁本月在册高龄公示名单'!F18","v":50},{"$f":"'[1]2025年8月80岁本月在册高龄公示名单'!G18","v":"2025-08-01"}]
[16,{"$f":"'[1]2025年8月80岁本月在册高龄公示名单'!B19","v":"和兴园社区"},{"$f":"'[1]2025年8月80岁本月在册高龄公示名单'!C19","v":"曾泽球"},{"$f":"'[1]2025年8月80岁本月在册高龄公示名单'!D19","v":"男"},{"$f":"'[1]2025年8月80岁本月在册高龄公示名单'!E19","v":84},{"$f":"'[1]2025年8月80岁本月在册高龄公示名单'!F19","v":50},{"$f":"'[1]2025年8月80岁本月在册高龄公示名单'!G19","v":"2025-08-01"}]
[17,{"$f":"'[1]2025年8月80岁本月在册高龄公示名单'!B20","v":"和兴园社区"},{"$f":"'[1]2025年8月80岁本月在册高龄公示名单'!C20","v":"岳如兰"},{"$f":"'[1]2025年8月80岁本月在册高龄公示名单'!D20","v":"女"},{"$f":"'[1]2025年8月80岁本月在册高龄公示名单'!E20","v":82},{"$f":"'[1]2025年8月80岁本月在册高龄公示名单'!F20","v":50},{"$f":"'[1]2025年8月80岁本月在册高龄公示名单'!G20","v":"2025-08-01"}]
[18,{"$f":"'[1]2025年8月80岁本月在册高龄公示名单'!B21","v":"和兴园社区"},{"$f":"'[1]2025年8月80岁本月在册高龄公示名单'!C21","v":"刘超琼"},{"$f":"'[1]2025年8月80岁本月在册高龄公示名单'!D21","v":"女"},{"$f":"'[1]2025年8月80岁本月在册高龄公示名单'!E21","v":82},{"$f":"'[1]2025年8月80岁本月在册高龄公示名单'!F21","v":50},{"$f":"'[1]2025年8月80岁本月在册高龄公示名单'!G21","v":"2025-08-01"}]
[19,{"$f":"'[1]2025年8月80岁本月在册高龄公示名单'!B22","v":"和兴园社区"},{"$f":"'[1]2025年8月80岁本月在册高龄公示名单'!C22","v":"冼秀珍"},{"$f":"'[1]2025年8月80岁本月在册高龄公示名单'!D22","v":"女"},{"$f":"'[1]2025年8月80岁本月在册高龄公示名单'!E22","v":82},{"$f":"'[1]2025年8月80岁本月在册高龄公示名单'!F22","v":50},{"$f":"'[1]2025年8月80岁本月在册高龄公示名单'!G22","v":"2025-08-01"}]
[20,{"$f":"'[1]2025年8月80岁本月在册高龄公示名单'!B23","v":"和兴园社区"},{"$f":"'[1]2025年8月80岁本月在册高龄公示名单'!C23","v":"韦钧元"},{"$f":"'[1]2025年8月80岁本月在册高龄公示名单'!D23","v":"男"},{"$f":"'[1]2025年8月80岁本月在册高龄公示名单'!E23","v":81},{"$f":"'[1]2025年8月80岁本月在册高龄公示名单'!F23","v":50},{"$f":"'[1]2025年8月80岁本月在册高龄公示名单'!G23","v":"2025-08-01"}]
[21,{"$f":"'[1]2025年8月80岁本月在册高龄公示名单'!B24","v":"和兴园社区"},{"$f":"'[1]2025年8月80岁本月在册高龄公示名单'!C24","v":"杨金莲"},{"$f":"'[1]2025年8月80岁本月在册高龄公示名单'!D24","v":"女"},{"$f":"'[1]2025年8月80岁本月在册高龄公示名单'!E24","v":81},{"$f":"'[1]2025年8月80岁本月在册高龄公示名单'!F24","v":50},{"$f":"'[1]2025年8月80岁本月在册高龄公示名单'!G24","v":"2025-08-01"}]
[22,{"$f":"'[1]2025年8月80岁本月在册高龄公示名单'!B25","v":"和兴园社区"},{"$f":"'[1]2025年8月80岁本月在册高龄公示名单'!C25","v":"付志萍"},{"$f":"'[1]2025年8月80岁本月在册高龄公示名单'!D25","v":"女"},{"$f":"'[1]2025年8月80岁本月在册高龄公示名单'!E25","v":81},{"$f":"'[1]2025年8月80岁本月在册高龄公示名单'!F25","v":50},{"$f":"'[1]2025年8月80岁本月在册高龄公示名单'!G25","v":"2025-08-01"}]
[23,{"$f":"'[1]2025年8月80岁本月在册高龄公示名单'!B26","v":"和兴园社区"},{"$f":"'[1]2025年8月80岁本月在册高龄公示名单'!C26","v":"杨臣虎"},{"$f":"'[1]2025年8月80岁本月在册高龄公示名单'!D26","v":"男"},{"$f":"'[1]2025年8月80岁本月在册高龄公示名单'!E26","v":81},{"$f":"'[1]2025年8月80岁本月在册高龄公示名单'!F26","v":50},{"$f":"'[1]2025年8月80岁本月在册高龄公示名单'!G26","v":"2025-08-01"}]
[24,{"$f":"'[1]2025年8月80岁本月在册高龄公示名单'!B27","v":"和兴园社区"},{"$f":"'[1]2025年8月80岁本月在册高龄公示名单'!C27","v":"朱佩钧"},{"$f":"'[1]2025年8月80岁本月在册高龄公示名单'!D27","v":"女"},{"$f":"'[1]2025年8月80岁本月在册高龄公示名单'!E27","v":81},{"$f":"'[1]2025年8月80岁本月在册高龄公示名单'!F27","v":50},{"$f":"'[1]2025年8月80岁本月在册高龄公示名单'!G27","v":"2025-08-01"}]
[25,{"$f":"'[1]2025年8月80岁本月在册高龄公示名单'!B28","v":"和兴园社区"},{"$f":"'[1]2025年8月80岁本月在册高龄公示名单'!C28","v":"钟燕云"},{"$f":"'[1]2025年8月80岁本月在册高龄公示名单'!D28","v":"女"},{"$f":"'[1]2025年8月80岁本月在册高龄公示名单'!E28","v":81},{"$f":"'[1]2025年8月80岁本月在册高龄公示名单'!F28","v":50},{"$f":"'[1]2025年8月80岁本月在册高龄公示名单'!G28","v":"2025-08-01"}]
[26,{"$f":"'[1]2025年8月80岁本月在册高龄公示名单'!B29","v":"和兴园社区"},{"$f":"'[1]2025年8月80岁本月在册高龄公示名单'!C29","v":"颜丽梅"},{"$f":"'[1]2025年8月80岁本月在册高龄公示名单'!D29","v":"女"},{"$f":"'[1]2025年8月80岁本月在册高龄公示名单'!E29","v":81},{"$f":"'[1]2025年8月80岁本月在册高龄公示名单'!F29","v":50},{"$f":"'[1]2025年8月80岁本月在册高龄公示名单'!G29","v":"2025-08-01"}]
[27,{"$f":"'[1]2025年8月80岁本月在册高龄公示名单'!B30","v":"和兴园社区"},{"$f":"'[1]2025年8月80岁本月在册高龄公示名单'!C30","v":"韦碤萍"},{"$f":"'[1]2025年8月80岁本月在册高龄公示名单'!D30","v":"男"},{"$f":"'[1]2025年8月80岁本月在册高龄公示名单'!E30","v":81},{"$f":"'[1]2025年8月80岁本月在册高龄公示名单'!F30","v":50},{"$f":"'[1]2025年8月80岁本月在册高龄公示名单'!G30","v":"2025-08-01"}]
[28,{"$f":"'[1]2025年8月80岁本月在册高龄公示名单'!B31","v":"和兴园社区"},{"$f":"'[1]2025年8月80岁本月在册高龄公示名单'!C31","v":"韦献周"},{"$f":"'[1]2025年8月80岁本月在册高龄公示名单'!D31","v":"男"},{"$f":"'[1]2025年8月80岁本月在册高龄公示名单'!E31","v":81},{"$f":"'[1]2025年8月80岁本月在册高龄公示名单'!F31","v":50},{"$f":"'[1]2025年8月80岁本月在册高龄公示名单'!G31","v":"2025-08-01"}]
[29,{"$f":"'[1]2025年8月80岁本月在册高龄公示名单'!B32","v":"和兴园社区"},{"$f":"'[1]2025年8月80岁本月在册高龄公示名单'!C32","v":"卢达良"},{"$f":"'[1]2025年8月80岁本月在册高龄公示名单'!D32","v":"男"},{"$f":"'[1]2025年8月80岁本月在册高龄公示名单'!E32","v":82},{"$f":"'[1]2025年8月80岁本月在册高龄公示名单'!F32","v":50},{"$f":"'[1]2025年8月80岁本月在册高龄公示名单'!G32","v":"2025-08-01"}]
[30,{"$f":"'[1]2025年8月80岁本月在册高龄公示名单'!B33","v":"和兴园社区"},{"$f":"'[1]2025年8月80岁本月在册高龄公示名单'!C33","v":"宋奇珍"},{"$f":"'[1]2025年8月80岁本月在册高龄公示名单'!D33","v":"女"},{"$f":"'[1]2025年8月80岁本月在册高龄公示名单'!E33","v":84},{"$f":"'[1]2025年8月80岁本月在册高龄公示名单'!F33","v":50},{"$f":"'[1]2025年8月80岁本月在册高龄公示名单'!G33","v":"2025-08-01"}]
[31,{"$f":"'[1]2025年8月80岁本月在册高龄公示名单'!B34","v":"和兴园社区"},{"$f":"'[1]2025年8月80岁本月在册高龄公示名单'!C34","v":"冯美群"},{"$f":"'[1]2025年8月80岁本月在册高龄公示名单'!D34","v":"女"},{"$f":"'[1]2025年8月80岁本月在册高龄公示名单'!E34","v":81},{"$f":"'[1]2025年8月80岁本月在册高龄公示名单'!F34","v":50},{"$f":"'[1]2025年8月80岁本月在册高龄公示名单'!G34","v":"2025-08-01"}]
[32,{"$f":"'[1]2025年8月80岁本月在册高龄公示名单'!B35","v":"和兴园社区"},{"$f":"'[1]2025年8月80岁本月在册高龄公示名单'!C35","v":"王志光"},{"$f":"'[1]2025年8月80岁本月在册高龄公示名单'!D35","v":"男"},{"$f":"'[1]2025年8月80岁本月在册高龄公示名单'!E35","v":81},{"$f":"'[1]2025年8月80岁本月在册高龄公示名单'!F35","v":50},{"$f":"'[1]2025年8月80岁本月在册高龄公示名单'!G35","v":"2025-08-01"}]
[33,{"$f":"'[1]2025年8月80岁本月在册高龄公示名单'!B36","v":"和兴园社区"},{"$f":"'[1]2025年8月80岁本月在册高龄公示名单'!C36","v":"陈燕珍"},{"$f":"'[1]2025年8月80岁本月在册高龄公示名单'!D36","v":"女"},{"$f":"'[1]2025年8月80岁本月在册高龄公示名单'!E36","v":80},{"$f":"'[1]2025年8月80岁本月在册高龄公示名单'!F36","v":50},{"$f":"'[1]2025年8月80岁本月在册高龄公示名单'!G36","v":"2025-08-01"}]
[34,{"$f":"'[1]2025年8月80岁本月在册高龄公示名单'!B37","v":"和兴园社区"},{"$f":"'[1]2025年8月80岁本月在册高龄公示名单'!C37","v":"张甲英"},{"$f":"'[1]2025年8月80岁本月在册高龄公示名单'!D37","v":"女"},{"$f":"'[1]2025年8月80岁本月在册高龄公示名单'!E37","v":80},{"$f":"'[1]2025年8月80岁本月在册高龄公示名单'!F37","v":50},{"$f":"'[1]2025年8月80岁本月在册高龄公示名单'!G37","v":"2025-08-01"}]
[35,{"$f":"'[1]2025年8月80岁本月在册高龄公示名单'!B38","v":"和兴园社区"},{"$f":"'[1]2025年8月80岁本月在册高龄公示名单'!C38","v":"李国昌"},{"$f":"'[1]2025年8月80岁本月在册高龄公示名单'!D38","v":"男"},{"$f":"'[1]2025年8月80岁本月在册高龄公示名单'!E38","v":80},{"$f":"'[1]2025年8月80岁本月在册高龄公示名单'!F38","v":50},{"$f":"'[1]2025年8月80岁本月在册高龄公示名单'!G38","v":"2025-08-01"}]
[36,{"$f":"'[1]2025年8月80岁本月在册高龄公示名单'!B39","v":"和兴园社区"},{"$f":"'[1]2025年8月80岁本月在册高龄公示名单'!C39","v":"李瑞珩"},{"$f":"'[1]2025年8月80岁本月在册高龄公示名单'!D39","v":"男"},{"$f":"'[1]2025年8月80岁本月在册高龄公示名单'!E39","v":80},{"$f":"'[1]2025年8月80岁本月在册高龄公示名单'!F39","v":50},{"$f":"'[1]2025年8月80岁本月在册高龄公示名单'!G39","v":"2025-08-01"}]
[37,{"$f":"'[1]2025年8月80岁本月在册高龄公示名单'!B40","v":"和兴园社区"},{"$f":"'[1]2025年8月80岁本月在册高龄公示名单'!C40","v":"张锦萍"},{"$f":"'[1]2025年8月80岁本月在册高龄公示名单'!D40","v":"女"},{"$f":"'[1]2025年8月80岁本月在册高龄公示名单'!E40","v":80},{"$f":"'[1]2025年8月80岁本月在册高龄公示名单'!F40","v":50},{"$f":"'[1]2025年8月80岁本月在册高龄公示名单'!G40","v":"2025-08-01"}]
[38,{"$f":"'[1]2025年8月80岁本月在册高龄公示名单'!B41","v":"和兴园社区"},{"$f":"'[1]2025年8月80岁本月在册高龄公示名单'!C41","v":"李宝善"},{"$f":"'[1]2025年8月80岁本月在册高龄公示名单'!D41","v":"女"},{"$f":"'[1]2025年8月80岁本月在册高龄公示名单'!E41","v":80},{"$f":"'[1]2025年8月80岁本月在册高龄公示名单'!F41","v":50},{"$f":"'[1]2025年8月80岁本月在册高龄公示名单'!G41","v":"2025-08-01"}]
[39,{"$f":"'[1]2025年8月80岁本月在册高龄公示名单'!B42","v":"和兴园社区"},{"$f":"'[1]2025年8月80岁本月在册高龄公示名单'!C42","v":"涂世琚"},{"$f":"'[1]2025年8月80岁本月在册高龄公示名单'!D42","v":"女"},{"$f":"'[1]2025年8月80岁本月在册高龄公示名单'!E42","v":80},{"$f":"'[1]2025年8月80岁本月在册高龄公示名单'!F42","v":50},{"$f":"'[1]2025年8月80岁本月在册高龄公示名单'!G42","v":"2025-08-01"}]
[40,{"$f":"'[1]2025年8月80岁本月在册高龄公示名单'!B43","v":"和兴园社区"},{"$f":"'[1]2025年8月80岁本月在册高龄公示名单'!C43","v":"邱瑞珍"},{"$f":"'[1]2025年8月80岁本月在册高龄公示名单'!D43","v":"女"},{"$f":"'[1]2025年8月80岁本月在册高龄公示名单'!E43","v":80},{"$f":"'[1]2025年8月80岁本月在册高龄公示名单'!F43","v":50},{"$f":"'[1]2025年8月80岁本月在册高龄公示名单'!G43","v":"2025-08-01"}]
[41,{"$f":"'[1]2025年8月80岁本月在册高龄公示名单'!B44","v":"和兴园社区"},{"$f":"'[1]2025年8月80岁本月在册高龄公示名单'!C44","v":"谭克"},{"$f":"'[1]2025年8月80岁本月在册高龄公示名单'!D44","v":"男"},{"$f":"'[1]2025年8月80岁本月在册高龄公示名单'!E44","v":80},{"$f":"'[1]2025年8月80岁本月在册高龄公示名单'!F44","v":50},{"$f":"'[1]2025年8月80岁本月在册高龄公示名单'!G44","v":"2025-08-01"}]
[42,{"$f":"'[1]2025年8月80岁本月在册高龄公示名单'!B45","v":"和兴园社区"},{"$f":"'[1]2025年8月80岁本月在册高龄公示名单'!C45","v":"陈燕珍"},{"$f":"'[1]2025年8月80岁本月在册高龄公示名单'!D45","v":"女"},{"$f":"'[1]2025年8月80岁本月在册高龄公示名单'!E45","v":80},{"$f":"'[1]2025年8月80岁本月在册高龄公示名单'!F45","v":50},{"$f":"'[1]2025年8月80岁本月在册高龄公示名单'!G45","v":"2025-08-01"}]
[43,{"$f":"'[1]2025年8月80岁本月在册高龄公示名单'!B46","v":"和兴园社区"},{"$f":"'[1]2025年8月80岁本月在册高龄公示名单'!C46","v":"林桂珍"},{"$f":"'[1]2025年8月80岁本月在册高龄公示名单'!D46","v":"女"},{"$f":"'[1]2025年8月80岁本月在册高龄公示名单'!E46","v":80},{"$f":"'[1]2025年8月80岁本月在册高龄公示名单'!F46","v":50},{"$f":"'[1]2025年8月80岁本月在册高龄公示名单'!G46","v":"2025-08-01"}]
[44,{"$f":"'[1]2025年8月80岁本月在册高龄公示名单'!B47","v":"和兴园社区"},{"$f":"'[1]2025年8月80岁本月在册高龄公示名单'!C47","v":"张贵德"},{"$f":"'[1]2025年8月80岁本月在册高龄公示名单'!D47","v":"男"},{"$f":"'[1]2025年8月80岁本月在册高龄公示名单'!E47","v":80},{"$f":"'[1]2025年8月80岁本月在册高龄公示名单'!F47","v":50},{"$f":"'[1]2025年8月80岁本月在册高龄公示名单'!G47","v":"2025-08-01"}]
[45,{"$f":"'[1]2025年8月80岁本月在册高龄公示名单'!B48","v":"和兴园社区"},{"$f":"'[1]2025年8月80岁本月在册高龄公示名单'!C48","v":"刘志源"},{"$f":"'[1]2025年8月80岁本月在册高龄公示名单'!D48","v":"男"},{"$f":"'[1]2025年8月80岁本月在册高龄公示名单'!E48","v":"80"},{"$f":"'[1]2025年8月80岁本月在册高龄公示名单'!F48","v":50},{"$f":"'[1]2025年8月80岁本月在册高龄公示名单'!G48","v":"2025-08-01"}]
[46,{"$f":"'[1]2025年8月80岁本月在册高龄公示名单'!B49","v":"和兴园社区"},{"$f":"'[1]2025年8月80岁本月在册高龄公示名单'!C49","v":"熊国华"},{"$f":"'[1]2025年8月80岁本月在册高龄公示名单'!D49","v":"男"},{"$f":"'[1]2025年8月80岁本月在册高龄公示名单'!E49","v":"80"},{"$f":"'[1]2025年8月80岁本月在册高龄公示名单'!F49","v":50},{"$f":"'[1]2025年8月80岁本月在册高龄公示名单'!G49","v":"2025-08-01"}]
[47,{"$f":"'[1]2025年8月80岁本月在册高龄公示名单'!B50","v":"和兴园社区"},{"$f":"'[1]2025年8月80岁本月在册高龄公示名单'!C50","v":"赵振义"},{"$f":"'[1]2025年8月80岁本月在册高龄公示名单'!D50","v":"男"},{"$f":"'[1]2025年8月80岁本月在册高龄公示名单'!E50","v":82},{"$f":"'[1]2025年8月80岁本月在册高龄公示名单'!F50","v":50},{"$f":"'[1]2025年8月80岁本月在册高龄公示名单'!G50","v":"2025-08-01"}]
[48,{"$f":"'[1]2025年8月80岁本月在册高龄公示名单'!B51","v":"和兴园社区"},{"$f":"'[1]2025年8月80岁本月在册高龄公示名单'!C51","v":"邓喜娟"},{"$f":"'[1]2025年8月80岁本月在册高龄公示名单'!D51","v":"女"},{"$f":"'[1]2025年8月80岁本月在册高龄公示名单'!E51","v":82},{"$f":"'[1]2025年8月80岁本月在册高龄公示名单'!F51","v":50},{"$f":"'[1]2025年8月80岁本月在册高龄公示名单'!G51","v":"2025-08-01"}]
[49,{"$f":"'[1]2025年8月80岁本月在册高龄公示名单'!B52","v":"和兴园社区"},{"$f":"'[1]2025年8月80岁本月在册高龄公示名单'!C52","v":"王湘"},{"$f":"'[1]2025年8月80岁本月在册高龄公示名单'!D52","v":"女"},{"$f":"'[1]2025年8月80岁本月在册高龄公示名单'!E52","v":80},{"$f":"'[1]2025年8月80岁本月在册高龄公示名单'!F52","v":50},{"$f":"'[1]2025年8月80岁本月在册高龄公示名单'!G52","v":"2025-08-01"}]
[50,{"$f":"'[1]2025年8月80岁本月在册高龄公示名单'!B53","v":"和兴园社区"},{"$f":"'[1]2025年8月80岁本月在册高龄公示名单'!C53","v":"何汉全"},{"$f":"'[1]2025年8月80岁本月在册高龄公示名单'!D53","v":"男"},{"$f":"'[1]2025年8月80岁本月在册高龄公示名单'!E53","v":80},{"$f":"'[1]2025年8月80岁本月在册高龄公示名单'!F53","v":50},{"$f":"'[1]2025年8月80岁本月在册高龄公示名单'!G53","v":"2025-08-01"}]
[51,{"$f":"'[1]2025年8月80岁本月在册高龄公示名单'!B54","v":"和兴园社区"},{"$f":"'[1]2025年8月80岁本月在册高龄公示名单'!C54","v":"冯国雄"},{"$f":"'[1]2025年8月80岁本月在册高龄公示名单'!D54","v":"男"},{"$f":"'[1]2025年8月80岁本月在册高龄公示名单'!E54","v":80},{"$f":"'[1]2025年8月80岁本月在册高龄公示名单'!F54","v":50},{"$f":"'[1]2025年8月80岁本月在册高龄公示名单'!G54","v":"2025-08-01"}]
[52,{"$f":"'[1]2025年8月80岁本月在册高龄公示名单'!B55","v":"和兴园社区"},{"$f":"'[1]2025年8月80岁本月在册高龄公示名单'!C55","v":"黄柏杨"},{"$f":"'[1]2025年8月80岁本月在册高龄公示名单'!D55","v":"男"},{"$f":"'[1]2025年8月80岁本月在册高龄公示名单'!E55","v":80},{"$f":"'[1]2025年8月80岁本月在册高龄公示名单'!F55","v":50},{"$f":"'[1]2025年8月80岁本月在册高龄公示名单'!G55","v":"2025-08-01"}]
[53,{"$f":"'[1]2025年8月80岁本月在册高龄公示名单'!B56","v":"和兴园社区"},{"$f":"'[1]2025年8月80岁本月在册高龄公示名单'!C56","v":"周玉兰"},{"$f":"'[1]2025年8月80岁本月在册高龄公示名单'!D56","v":"女"},{"$f":"'[1]2025年8月80岁本月在册高龄公示名单'!E56","v":84},{"$f":"'[1]2025年8月80岁本月在册高龄公示名单'!F56","v":50},{"$f":"'[1]2025年8月80岁本月在册高龄公示名单'!G56","v":"2025-08-01"}]
[54,{"$f":"'[1]2025年8月80岁本月在册高龄公示名单'!B57","v":"和兴园社区"},{"$f":"'[1]2025年8月80岁本月在册高龄公示名单'!C57","v":"莫朗贤"},{"$f":"'[1]2025年8月80岁本月在册高龄公示名单'!D57","v":"女"},{"$f":"'[1]2025年8月80岁本月在册高龄公示名单'!E57","v":80},{"$f":"'[1]2025年8月80岁本月在册高龄公示名单'!F57","v":50},{"$f":"'[1]2025年8月80岁本月在册高龄公示名单'!G57","v":"2025-08-01"}]
[55,{"$f":"'[1]2025年8月80岁本月在册高龄公示名单'!B58","v":"和兴园社区"},{"$f":"'[1]2025年8月80岁本月在册高龄公示名单'!C58","v":"周庆明"},{"$f":"'[1]2025年8月80岁本月在册高龄公示名单'!D58","v":"男"},{"$f":"'[1]2025年8月80岁本月在册高龄公示名单'!E58","v":80},{"$f":"'[1]2025年8月80岁本月在册高龄公示名单'!F58","v":50},{"$f":"'[1]2025年8月80岁本月在册高龄公示名单'!G58","v":"2025-08-01"}]
[56,{"$f":"'[1]2025年8月80岁本月在册高龄公示名单'!B59","v":"和兴园社区"},{"$f":"'[1]2025年8月80岁本月在册高龄公示名单'!C59","v":"邓传兴"},{"$f":"'[1]2025年8月80岁本月在册高龄公示名单'!D59","v":"男"},{"$f":"'[1]2025年8月80岁本月在册高龄公示名单'!E59","v":82},{"$f":"'[1]2025年8月80岁本月在册高龄公示名单'!F59","v":50},{"$f":"'[1]2025年8月80岁本月在册高龄公示名单'!G59","v":"2025-08-01"}]
[57,{"$f":"'[1]2025年8月80岁本月在册高龄公示名单'!B60","v":"和兴园社区"},{"$f":"'[1]2025年8月80岁本月在册高龄公示名单'!C60","v":"申华连"},{"$f":"'[1]2025年8月80岁本月在册高龄公示名单'!D60","v":"男"},{"$f":"'[1]2025年8月80岁本月在册高龄公示名单'!E60","v":83},{"$f":"'[1]2025年8月80岁本月在册高龄公示名单'!F60","v":50},{"$f":"'[1]2025年8月80岁本月在册高龄公示名单'!G60","v":"2025-08-01"}]
[58,{"$f":"'[1]2025年8月80岁本月在册高龄公示名单'!B61","v":"和兴园社区"},{"$f":"'[1]2025年8月80岁本月在册高龄公示名单'!C61","v":"刘运有"},{"$f":"'[1]2025年8月80岁本月在册高龄公示名单'!D61","v":"男"},{"$f":"'[1]2025年8月80岁本月在册高龄公示名单'!E61","v":84},{"$f":"'[1]2025年8月80岁本月在册高龄公示名单'!F61","v":50},{"$f":"'[1]2025年8月80岁本月在册高龄公示名单'!G61","v":"2025-08-01"}]
[59,{"$f":"'[1]2025年8月80岁本月在册高龄公示名单'!B62","v":"和兴园社区"},{"$f":"'[1]2025年8月80岁本月在册高龄公示名单'!C62","v":"莫瑞奎"},{"$f":"'[1]2025年8月80岁本月在册高龄公示名单'!D62","v":"女"},{"$f":"'[1]2025年8月80岁本月在册高龄公示名单'!E62","v":80},{"$f":"'[1]2025年8月80岁本月在册高龄公示名单'!F62","v":50},{"$f":"'[1]2025年8月80岁本月在册高龄公示名单'!G62","v":"2025-08-01"}]
[60,{"$f":"'[1]2025年8月80岁本月在册高龄公示名单'!B63","v":"和兴园社区"},{"$f":"'[1]2025年8月80岁本月在册高龄公示名单'!C63","v":"丁祥菊"},{"$f":"'[1]2025年8月80岁本月在册高龄公示名单'!D63","v":"女"},{"$f":"'[1]2025年8月80岁本月在册高龄公示名单'!E63","v":80},{"$f":"'[1]2025年8月80岁本月在册高龄公示名单'!F63","v":50},{"$f":"'[1]2025年8月80岁本月在册高龄公示名单'!G63","v":"2025-08-01"}]
[61,{"$f":"'[1]2025年8月80岁本月在册高龄公示名单'!B64","v":"和兴园社区"},{"$f":"'[1]2025年8月80岁本月在册高龄公示名单'!C64","v":"彭翠屏"},{"$f":"'[1]2025年8月80岁本月在册高龄公示名单'!D64","v":"女"},{"$f":"'[1]2025年8月80岁本月在册高龄公示名单'!E64","v":80},{"$f":"'[1]2025年8月80岁本月在册高龄公示名单'!F64","v":50},{"$f":"'[1]2025年8月80岁本月在册高龄公示名单'!G64","v":"2025-08-01"}]
[62,{"$f":"'[1]2025年8月80岁本月在册高龄公示名单'!B65","v":"和兴园社区"},{"$f":"'[1]2025年8月80岁本月在册高龄公示名单'!C65","v":"郑象娟"},{"$f":"'[1]2025年8月80岁本月在册高龄公示名单'!D65","v":"女"},{"$f":"'[1]2025年8月80岁本月在册高龄公示名单'!E65","v":80},{"$f":"'[1]2025年8月80岁本月在册高龄公示名单'!F65","v":50},{"$f":"'[1]2025年8月80岁本月在册高龄公示名单'!G65","v":"2025-08-01"}]
[63,{"$f":"'[1]2025年8月80岁本月在册高龄公示名单'!B66","v":"和兴园社区"},{"$f":"'[1]2025年8月80岁本月在册高龄公示名单'!C66","v":"孙加珍"},{"$f":"'[1]2025年8月80岁本月在册高龄公示名单'!D66","v":"女"},{"$f":"'[1]2025年8月80岁本月在册高龄公示名单'!E66","v":86},{"$f":"'[1]2025年8月80岁本月在册高龄公示名单'!F66","v":50},{"$f":"'[1]2025年8月80岁本月在册高龄公示名单'!G66","v":"2025-08-01"}]
[64,{"$f":"'[1]2025年8月80岁本月在册高龄公示名单'!B67","v":"和兴园社区"},{"$f":"'[1]2025年8月80岁本月在册高龄公示名单'!C67","v":"蔚鑫"},{"$f":"'[1]2025年8月80岁本月在册高龄公示名单'!D67","v":"男"},{"$f":"'[1]2025年8月80岁本月在册高龄公示名单'!E67","v":80},{"$f":"'[1]2025年8月80岁本月在册高龄公示名单'!F67","v":50},{"$f":"'[1]2025年8月80岁本月在册高龄公示名单'!G67","v":"2025-08-01"}]
[65,{"$f":"'[1]2025年8月80岁本月在册高龄公示名单'!B68","v":"和兴园社区"},{"$f":"'[1]2025年8月80岁本月在册高龄公示名单'!C68","v":"陈卫生"},{"$f":"'[1]2025年8月80岁本月在册高龄公示名单'!D68","v":"男"},{"$f":"'[1]2025年8月80岁本月在册高龄公示名单'!E68","v":80},{"$f":"'[1]2025年8月80岁本月在册高龄公示名单'!F68","v":50},{"$f":"'[1]2025年8月80岁本月在册高龄公示名单'!G68","v":"2025-08-01"}]
[66,{"$f":"'[1]2025年8月80岁本月在册高龄公示名单'!B69","v":"和兴园社区"},{"$f":"'[1]2025年8月80岁本月在册高龄公示名单'!C69","v":"何凤英"},{"$f":"'[1]2025年8月80岁本月在册高龄公示名单'!D69","v":"女"},{"$f":"'[1]2025年8月80岁本月在册高龄公示名单'!E69","v":80},{"$f":"'[1]2025年8月80岁本月在册高龄公示名单'!F69","v":50},{"$f":"'[1]2025年8月80岁本月在册高龄公示名单'!G69","v":"2025-08-01"}]
[67,{"$f":"'[1]2025年8月80岁本月在册高龄公示名单'!B70","v":"和兴园社区"},{"$f":"'[1]2025年8月80岁本月在册高龄公示名单'!C70","v":"伍顺珠"},{"$f":"'[1]2025年8月80岁本月在册高龄公示名单'!D70","v":"女"},{"$f":"'[1]2025年8月80岁本月在册高龄公示名单'!E70","v":81},{"$f":"'[1]2025年8月80岁本月在册高龄公示名单'!F70","v":50},{"$f":"'[1]2025年8月80岁本月在册高龄公示名单'!G70","v":"2025-08-01"}]
[68,{"$f":"'[1]2025年8月80岁本月在册高龄公示名单'!B71","v":"和兴园社区"},{"$f":"'[1]2025年8月80岁本月在册高龄公示名单'!C71","v":"朱珍娣"},{"$f":"'[1]2025年8月80岁本月在册高龄公示名单'!D71","v":"女"},{"$f":"'[1]2025年8月80岁本月在册高龄公示名单'!E71","v":80},{"$f":"'[1]2025年8月80岁本月在册高龄公示名单'!F71","v":50},{"$f":"'[1]2025年8月80岁本月在册高龄公示名单'!G71","v":"2025-08-01"}]
[69,{"$f":"'[1]2025年8月80岁本月在册高龄公示名单'!B72","v":"和兴园社区"},{"$f":"'[1]2025年8月80岁本月在册高龄公示名单'!C72","v":"韦文强"},{"$f":"'[1]2025年8月80岁本月在册高龄公示名单'!D72","v":"女"},{"$f":"'[1]2025年8月80岁本月在册高龄公示名单'!E72","v":80},{"$f":"'[1]2025年8月80岁本月在册高龄公示名单'!F72","v":50},{"$f":"'[1]2025年8月80岁本月在册高龄公示名单'!G72","v":"2025-08-01"}]
[70,{"$f":"'[1]2025年8月80岁本月在册高龄公示名单'!B73","v":"和兴园社区"},{"$f":"'[1]2025年8月80岁本月在册高龄公示名单'!C73","v":"范玉清"},{"$f":"'[1]2025年8月80岁本月在册高龄公示名单'!D73","v":"女"},{"$f":"'[1]2025年8月80岁本月在册高龄公示名单'!E73","v":80},{"$f":"'[1]2025年8月80岁本月在册高龄公示名单'!F73","v":50},{"$f":"'[1]2025年8月80岁本月在册高龄公示名单'!G73","v":"2025-08-01"}]
[71,{"$f":"'[1]2025年8月80岁本月在册高龄公示名单'!B74","v":"和兴园社区"},{"$f":"'[1]2025年8月80岁本月在册高龄公示名单'!C74","v":"张林根"},{"$f":"'[1]2025年8月80岁本月在册高龄公示名单'!D74","v":"女"},{"$f":"'[1]2025年8月80岁本月在册高龄公示名单'!E74","v":80},{"$f":"'[1]2025年8月80岁本月在册高龄公示名单'!F74","v":50},{"$f":"'[1]2025年8月80岁本月在册高龄公示名单'!G74","v":"2025-08-01"}]
[72,{"$f":"'[1]2025年8月80岁本月在册高龄公示名单'!B75","v":"和兴园社区"},{"$f":"'[1]2025年8月80岁本月在册高龄公示名单'!C75","v":"李强珍"},{"$f":"'[1]2025年8月80岁本月在册高龄公示名单'!D75","v":"女"},{"$f":"'[1]2025年8月80岁本月在册高龄公示名单'!E75","v":80},{"$f":"'[1]2025年8月80岁本月在册高龄公示名单'!F75","v":50},{"$f":"'[1]2025年8月80岁本月在册高龄公示名单'!G75","v":"2025-08-01"}]
[73,{"$f":"'[1]2025年8月80岁本月在册高龄公示名单'!B76","v":"和兴园社区"},{"$f":"'[1]2025年8月80岁本月在册高龄公示名单'!C76","v":"廖汉琪"},{"$f":"'[1]2025年8月80岁本月在册高龄公示名单'!D76","v":"女"},{"$f":"'[1]2025年8月80岁本月在册高龄公示名单'!E76","v":80},{"$f":"'[1]2025年8月80岁本月在册高龄公示名单'!F76","v":50},{"$f":"'[1]2025年8月80岁本月在册高龄公示名单'!G76","v":"2025-08-01"}]
[74,{"$f":"'[1]2025年8月80岁本月在册高龄公示名单'!B77","v":"和兴园社区"},{"$f":"'[1]2025年8月80岁本月在册高龄公示名单'!C77","v":"韦玉英"},{"$f":"'[1]2025年8月80岁本月在册高龄公示名单'!D77","v":"女"},{"$f":"'[1]2025年8月80岁本月在册高龄公示名单'!E77","v":80},{"$f":"'[1]2025年8月80岁本月在册高龄公示名单'!F77","v":50},{"$f":"'[1]2025年8月80岁本月在册高龄公示名单'!G77","v":"2025-08-01"}]
[75,{"$f":"'[1]2025年8月80岁本月在册高龄公示名单'!B78","v":"和兴园社区"},{"$f":"'[1]2025年8月80岁本月在册高龄公示名单'!C78","v":"张询娘"},{"$f":"'[1]2025年8月80岁本月在册高龄公示名单'!D78","v":"女"},{"$f":"'[1]2025年8月80岁本月在册高龄公示名单'!E78","v":80},{"$f":"'[1]2025年8月80岁本月在册高龄公示名单'!F78","v":50},{"$f":"'[1]2025年8月80岁本月在册高龄公示名单'!G78","v":"2025-08-01"}]
[76,{"$f":"'[1]2025年8月80岁本月在册高龄公示名单'!B79","v":"和兴园社区"},{"$f":"'[1]2025年8月80岁本月在册高龄公示名单'!C79","v":"高素珍"},{"$f":"'[1]2025年8月80岁本月在册高龄公示名单'!D79","v":"女"},{"$f":"'[1]2025年8月80岁本月在册高龄公示名单'!E79","v":80},{"$f":"'[1]2025年8月80岁本月在册高龄公示名单'!F79","v":50},{"$f":"'[1]2025年8月80岁本月在册高龄公示名单'!G79","v":"2025-08-01"}]
[77,{"$f":"'[1]2025年8月80岁本月在册高龄公示名单'!B80","v":"和兴园社区"},{"$f":"'[1]2025年8月80岁本月在册高龄公示名单'!C80","v":"方乐卫"},{"$f":"'[1]2025年8月80岁本月在册高龄公示名单'!D80","v":"男"},{"$f":"'[1]2025年8月80岁本月在册高龄公示名单'!E80","v":80},{"$f":"'[1]2025年8月80岁本月在册高龄公示名单'!F80","v":50},{"$f":"'[1]2025年8月80岁本月在册高龄公示名单'!G80","v":"2025-08-01"}]
[78,{"$f":"'[1]2025年8月80岁本月在册高龄公示名单'!B81","v":"和兴园社区"},{"$f":"'[1]2025年8月80岁本月在册高龄公示名单'!C81","v":"罗世志"},{"$f":"'[1]2025年8月80岁本月在册高龄公示名单'!D81","v":"男"},{"$f":"'[1]2025年8月80岁本月在册高龄公示名单'!E81","v":80},{"$f":"'[1]2025年8月80岁本月在册高龄公示名单'!F81","v":50},{"$f":"'[1]2025年8月80岁本月在册高龄公示名单'!G81","v":"2025-08-01"}]
[79,{"$f":"'[1]2025年8月80岁本月在册高龄公示名单'!B82","v":"和兴园社区"},{"$f":"'[1]2025年8月80岁本月在册高龄公示名单'!C82","v":"苏静贤"},{"$f":"'[1]2025年8月80岁本月在册高龄公示名单'!D82","v":"男"},{"$f":"'[1]2025年8月80岁本月在册高龄公示名单'!E82","v":80},{"$f":"'[1]2025年8月80岁本月在册高龄公示名单'!F82","v":50},{"$f":"'[1]2025年8月80岁本月在册高龄公示名单'!G82","v":"2025-08-01"}]
[80,{"$f":"'[1]2025年8月80岁本月在册高龄公示名单'!B83","v":"和兴园社区"},{"$f":"'[1]2025年8月80岁本月在册高龄公示名单'!C83","v":"方利珍"},{"$f":"'[1]2025年8月80岁本月在册高龄公示名单'!D83","v":"男"},{"$f":"'[1]2025年8月80岁本月在册高龄公示名单'!E83","v":80},{"$f":"'[1]2025年8月80岁本月在册高龄公示名单'!F83","v":50},{"$f":"'[1]2025年8月80岁本月在册高龄公示名单'!G83","v":"2025-08-01"}]
[81,{"$f":"'[1]2025年8月80岁本月在册高龄公示名单'!B84","v":"和兴园社区"},{"$f":"'[1]2025年8月80岁本月在册高龄公示名单'!C84","v":"刘仁芬"},{"$f":"'[1]2025年8月80岁本月在册高龄公示名单'!D84","v":"女"},{"$f":"'[1]2025年8月80岁本月在册高龄公示名单'!E84","v":80},{"$f":"'[1]2025年8月80岁本月在册高龄公示名单'!F84","v":50},{"$f":"'[1]2025年8月80岁本月在册高龄公示名单'!G84","v":"2025-08-01"}]
[82,{"$f":"'[1]2025年8月80岁本月在册高龄公示名单'!B85","v":"和兴园社区"},{"$f":"'[1]2025年8月80岁本月在册高龄公示名单'!C85","v":"覃淑钦"},{"$f":"'[1]2025年8月80岁本月在册高龄公示名单'!D85","v":"女"},{"$f":"'[1]2025年8月80岁本月在册高龄公示名单'!E85","v":84},{"$f":"'[1]2025年8月80岁本月在册高龄公示名单'!F85","v":50},{"$f":"'[1]2025年8月80岁本月在册高龄公示名单'!G85","v":"2025-08-01"}]
[83,{"$f":"'[1]2025年8月80岁本月在册高龄公示名单'!B86","v":"和兴园社区"},{"$f":"'[1]2025年8月80岁本月在册高龄公示名单'!C86","v":"张文侠"},{"$f":"'[1]2025年8月80岁本月在册高龄公示名单'!D86","v":"男"},{"$f":"'[1]2025年8月80岁本月在册高龄公示名单'!E86","v":86},{"$f":"'[1]2025年8月80岁本月在册高龄公示名单'!F86","v":50},{"$f":"'[1]2025年8月80岁本月在册高龄公示名单'!G86","v":"2025-08-01"}]
[84,{"$f":"'[1]2025年8月80岁本月在册高龄公示名单'!B87","v":"和兴园社区"},{"$f":"'[1]2025年8月80岁本月在册高龄公示名单'!C87","v":"莫喜娟"},{"$f":"'[1]2025年8月80岁本月在册高龄公示名单'!D87","v":"女"},{"$f":"'[1]2025年8月80岁本月在册高龄公示名单'!E87","v":80},{"$f":"'[1]2025年8月80岁本月在册高龄公示名单'!F87","v":50},{"$f":"'[1]2025年8月80岁本月在册高龄公示名单'!G87","v":"2025-08-01"}]
[85,{"$f":"'[1]2025年8月80岁本月在册高龄公示名单'!B88","v":"和兴园社区"},{"$f":"'[1]2025年8月80岁本月在册高龄公示名单'!C88","v":"周汝航"},{"$f":"'[1]2025年8月80岁本月在册高龄公示名单'!D88","v":"男"},{"$f":"'[1]2025年8月80岁本月在册高龄公示名单'!E88","v":80},{"$f":"'[1]2025年8月80岁本月在册高龄公示名单'!F88","v":50},{"$f":"'[1]2025年8月80岁本月在册高龄公示名单'!G88","v":"2025-08-01"}]
[86,{"$f":"'[1]2025年8月80岁本月在册高龄公示名单'!B89","v":"和兴园社区"},{"$f":"'[1]2025年8月80岁本月在册高龄公示名单'!C89","v":"唐立强"},{"$f":"'[1]2025年8月80岁本月在册高龄公示名单'!D89","v":"男"},{"$f":"'[1]2025年8月80岁本月在册高龄公示名单'!E89","v":80},{"$f":"'[1]2025年8月80岁本月在册高龄公示名单'!F89","v":50},{"$f":"'[1]2025年8月80岁本月在册高龄公示名单'!G89","v":"2025-08-01"}]
[87,{"$f":"'[1]2025年8月80岁本月在册高龄公示名单'!B90","v":"和兴园社区"},{"$f":"'[1]2025年8月80岁本月在册高龄公示名单'!C90","v":"丁绍杰"},{"$f":"'[1]2025年8月80岁本月在册高龄公示名单'!D90","v":"男"},{"$f":"'[1]2025年8月80岁本月在册高龄公示名单'!E90","v":80},{"$f":"'[1]2025年8月80岁本月在册高龄公示名单'!F90","v":50},{"$f":"'[1]2025年8月80岁本月在册高龄公示名单'!G90","v":"2025-08-01"}]
[88,{"$f":"'[1]2025年8月80岁本月在册高龄公示名单'!B91","v":"和兴园社区"},{"$f":"'[1]2025年8月80岁本月在册高龄公示名单'!C91","v":"陈都"},{"$f":"'[1]2025年8月80岁本月在册高龄公示名单'!D91","v":"男"},{"$f":"'[1]2025年8月80岁本月在册高龄公示名单'!E91","v":80},{"$f":"'[1]2025年8月80岁本月在册高龄公示名单'!F91","v":50},{"$f":"'[1]2025年8月80岁本月在册高龄公示名单'!G91","v":"2025-08-01"}]
[89,{"$f":"'[1]2025年8月80岁本月在册高龄公示名单'!B92","v":"和兴园社区"},{"$f":"'[1]2025年8月80岁本月在册高龄公示名单'!C92","v":"陈乃芳"},{"$f":"'[1]2025年8月80岁本月在册高龄公示名单'!D92","v":"男"},{"$f":"'[1]2025年8月80岁本月在册高龄公示名单'!E92","v":80},{"$f":"'[1]2025年8月80岁本月在册高龄公示名单'!F92","v":50},{"$f":"'[1]2025年8月80岁本月在册高龄公示名单'!G92","v":"2025-08-01"}]
[90,{"$f":"'[1]2025年8月80岁本月在册高龄公示名单'!B93","v":"和兴园社区"},{"$f":"'[1]2025年8月80岁本月在册高龄公示名单'!C93","v":"李子修"},{"$f":"'[1]2025年8月80岁本月在册高龄公示名单'!D93","v":"男"},{"$f":"'[1]2025年8月80岁本月在册高龄公示名单'!E93","v":80},{"$f":"'[1]2025年8月80岁本月在册高龄公示名单'!F93","v":50},{"$f":"'[1]2025年8月80岁本月在册高龄公示名单'!G93","v":"2025-08-01"}]
[91,{"$f":"'[1]2025年8月80岁本月在册高龄公示名单'!B94","v":"和兴园社区"},{"$f":"'[1]2025年8月80岁本月在册高龄公示名单'!C94","v":"吴秀香"},{"$f":"'[1]2025年8月80岁本月在册高龄公示名单'!D94","v":"女"},{"$f":"'[1]2025年8月80岁本月在册高龄公示名单'!E94","v":81},{"$f":"'[1]2025年8月80岁本月在册高龄公示名单'!F94","v":50},{"$f":"'[1]2025年8月80岁本月在册高龄公示名单'!G94","v":"2025-08-01"}]
[92,{"$f":"'[1]2025年8月80岁本月在册高龄公示名单'!B95","v":"和兴园社区"},{"$f":"'[1]2025年8月80岁本月在册高龄公示名单'!C95","v":"陈金玉"},{"$f":"'[1]2025年8月80岁本月在册高龄公示名单'!D95","v":"女"},{"$f":"'[1]2025年8月80岁本月在册高龄公示名单'!E95","v":84},{"$f":"'[1]2025年8月80岁本月在册高龄公示名单'!F95","v":50},{"$f":"'[1]2025年8月80岁本月在册高龄公示名单'!G95","v":"2025-08-01"}]
[93,{"$f":"'[1]2025年8月80岁本月在册高龄公示名单'!B96","v":"和兴园社区"},{"$f":"'[1]2025年8月80岁本月在册高龄公示名单'!C96","v":"彭纪生"},{"$f":"'[1]2025年8月80岁本月在册高龄公示名单'!D96","v":"男"},{"$f":"'[1]2025年8月80岁本月在册高龄公示名单'!E96","v":80},{"$f":"'[1]2025年8月80岁本月在册高龄公示名单'!F96","v":50},{"$f":"'[1]2025年8月80岁本月在册高龄公示名单'!G96","v":"2025-08-01"}]
[94,{"$f":"'[1]2025年8月80岁本月在册高龄公示名单'!B97","v":"和兴园社区"},{"$f":"'[1]2025年8月80岁本月在册高龄公示名单'!C97","v":"韦秀调"},{"$f":"'[1]2025年8月80岁本月在册高龄公示名单'!D97","v":"女"},{"$f":"'[1]2025年8月80岁本月在册高龄公示名单'!E97","v":82},{"$f":"'[1]2025年8月80岁本月在册高龄公示名单'!F97","v":50},{"$f":"'[1]2025年8月80岁本月在册高龄公示名单'!G97","v":"2025-08-01"}]
[95,{"$f":"'[1]2025年8月80岁本月在册高龄公示名单'!B98","v":"和兴园社区"},{"$f":"'[1]2025年8月80岁本月在册高龄公示名单'!C98","v":"梁见珍"},{"$f":"'[1]2025年8月80岁本月在册高龄公示名单'!D98","v":"女"},{"$f":"'[1]2025年8月80岁本月在册高龄公示名单'!E98","v":81},{"$f":"'[1]2025年8月80岁本月在册高龄公示名单'!F98","v":50},{"$f":"'[1]2025年8月80岁本月在册高龄公示名单'!G98","v":"2025-08-01"}]
[96,{"$f":"'[1]2025年8月80岁本月在册高龄公示名单'!B99","v":"和兴园社区"},{"$f":"'[1]2025年8月80岁本月在册高龄公示名单'!C99","v":"陈媛仙"},{"$f":"'[1]2025年8月80岁本月在册高龄公示名单'!D99","v":"女"},{"$f":"'[1]2025年8月80岁本月在册高龄公示名单'!E99","v":80},{"$f":"'[1]2025年8月80岁本月在册高龄公示名单'!F99","v":50},{"$f":"'[1]2025年8月80岁本月在册高龄公示名单'!G99","v":"2025-08-01"}]
[97,{"$f":"'[1]2025年8月80岁本月在册高龄公示名单'!B100","v":"和兴园社区"},{"$f":"'[1]2025年8月80岁本月在册高龄公示名单'!C100","v":"李玉龙"},{"$f":"'[1]2025年8月80岁本月在册高龄公示名单'!D100","v":"女"},{"$f":"'[1]2025年8月80岁本月在册高龄公示名单'!E100","v":80},{"$f":"'[1]2025年8月80岁本月在册高龄公示名单'!F100","v":50},{"$f":"'[1]2025年8月80岁本月在册高龄公示名单'!G100","v":"2025-08-01"}]
[98,{"$f":"'[1]2025年8月80岁本月在册高龄公示名单'!B101","v":"和兴园社区"},{"$f":"'[1]2025年8月80岁本月在册高龄公示名单'!C101","v":"莫夏玲"},{"$f":"'[1]2025年8月80岁本月在册高龄公示名单'!D101","v":"女"},{"$f":"'[1]2025年8月80岁本月在册高龄公示名单'!E101","v":80},{"$f":"'[1]2025年8月80岁本月在册高龄公示名单'!F101","v":50},{"$f":"'[1]2025年8月80岁本月在册高龄公示名单'!G101","v":"2025-08-01"}]
[99,{"$f":"'[1]2025年8月80岁本月在册高龄公示名单'!B102","v":"和兴园社区"},{"$f":"'[1]2025年8月80岁本月在册高龄公示名单'!C102","v":"韦胜全"},{"$f":"'[1]2025年8月80岁本月在册高龄公示名单'!D102","v":"男"},{"$f":"'[1]2025年8月80岁本月在册高龄公示名单'!E102","v":80},{"$f":"'[1]2025年8月80岁本月在册高龄公示名单'!F102","v":50},{"$f":"'[1]2025年8月80岁本月在册高龄公示名单'!G102","v":"2025-08-01"}]
[100,{"$f":"'[1]2025年8月80岁本月在册高龄公示名单'!B103","v":"和兴园社区"},{"$f":"'[1]2025年8月80岁本月在册高龄公示名单'!C103","v":"杨文基"},{"$f":"'[1]2025年8月80岁本月在册高龄公示名单'!D103","v":"男"},{"$f":"'[1]2025年8月80岁本月在册高龄公示名单'!E103","v":80},{"$f":"'[1]2025年8月80岁本月在册高龄公示名单'!F103","v":50},{"$f":"'[1]2025年8月80岁本月在册高龄公示名单'!G103","v":"2025-08-01"}]
[101,{"$f":"'[1]2025年8月80岁本月在册高龄公示名单'!B104","v":"和兴园社区"},{"$f":"'[1]2025年8月80岁本月在册高龄公示名单'!C104","v":"梁金兰"},{"$f":"'[1]2025年8月80岁本月在册高龄公示名单'!D104","v":"女"},{"$f":"'[1]2025年8月80岁本月在册高龄公示名单'!E104","v":80},{"$f":"'[1]2025年8月80岁本月在册高龄公示名单'!F104","v":50},{"$f":"'[1]2025年8月80岁本月在册高龄公示名单'!G104","v":"2025-08-01"}]
[102,{"$f":"'[1]2025年8月80岁本月在册高龄公示名单'!B105","v":"和兴园社区"},{"$f":"'[1]2025年8月80岁本月在册高龄公示名单'!C105","v":"符碧章"},{"$f":"'[1]2025年8月80岁本月在册高龄公示名单'!D105","v":"女"},{"$f":"'[1]2025年8月80岁本月在册高龄公示名单'!E105","v":80},{"$f":"'[1]2025年8月80岁本月在册高龄公示名单'!F105","v":50},{"$f":"'[1]2025年8月80岁本月在册高龄公示名单'!G105","v":"2025-08-01"}]
[103,{"$f":"'[1]2025年8月80岁本月在册高龄公示名单'!B106","v":"和兴园社区"},{"$f":"'[1]2025年8月80岁本月在册高龄公示名单'!C106","v":"赵臻"},{"$f":"'[1]2025年8月80岁本月在册高龄公示名单'!D106","v":"女"},{"$f":"'[1]2025年8月80岁本月在册高龄公示名单'!E106","v":80},{"$f":"'[1]2025年8月80岁本月在册高龄公示名单'!F106","v":50},{"$f":"'[1]2025年8月80岁本月在册高龄公示名单'!G106","v":"2025-08-01"}]
[104,{"$f":"'[2]80-89周岁公示'!B6","v":"柳星社区"},{"$f":"'[2]80-89周岁公示'!C6","v":"覃得兰"},{"$f":"'[2]80-89周岁公示'!D6","v":"女"},{"$f":"'[2]80-89周岁公示'!E6","v":89},{"$f":"'[2]80-89周岁公示'!F6","v":50},{"$f":"'[2]80-89周岁公示'!G6","v":"2025-08-23"}]
[105,{"$f":"'[2]80-89周岁公示'!B7","v":"柳星社区"},{"$f":"'[2]80-89周岁公示'!C7","v":"陈东福"},{"$f":"'[2]80-89周岁公示'!D7","v":"男"},{"$f":"'[2]80-89周岁公示'!E7","v":89},{"$f":"'[2]80-89周岁公示'!F7","v":50},{"$f":"'[2]80-89周岁公示'!G7","v":"2025-08-29"}]
[106,{"$f":"'[2]80-89周岁公示'!B8","v":"柳星社区"},{"$f":"'[2]80-89周岁公示'!C8","v":"董福珍"},{"$f":"'[2]80-89周岁公示'!D8","v":"女"},{"$f":"'[2]80-89周岁公示'!E8","v":89},{"$f":"'[2]80-89周岁公示'!F8","v":50},{"$f":"'[2]80-89周岁公示'!G8","v":"2025-08-01"}]
[107,{"$f":"'[2]80-89周岁公示'!B9","v":"柳星社区"},{"$f":"'[2]80-89周岁公示'!C9","v":"唐爱清"},{"$f":"'[2]80-89周岁公示'!D9","v":"女"},{"$f":"'[2]80-89周岁公示'!E9","v":89},{"$f":"'[2]80-89周岁公示'!F9","v":50},{"$f":"'[2]80-89周岁公示'!G9","v":"2025-08-23"}]
[108,{"$f":"'[2]80-89周岁公示'!B10","v":"柳星社区"},{"$f":"'[2]80-89周岁公示'!C10","v":"刘选元"},{"$f":"'[2]80-89周岁公示'!D10","v":"男"},{"$f":"'[2]80-89周岁公示'!E10","v":89},{"$f":"'[2]80-89周岁公示'!F10","v":50},{"$f":"'[2]80-89周岁公示'!G10","v":"2025-08-29"}]
[109,{"$f":"'[2]80-89周岁公示'!B11","v":"柳星社区"},{"$f":"'[2]80-89周岁公示'!C11","v":"韦兰桂"},{"$f":"'[2]80-89周岁公示'!D11","v":"女"},{"$f":"'[2]80-89周岁公示'!E11","v":88},{"$f":"'[2]80-89周岁公示'!F11","v":50},{"$f":"'[2]80-89周岁公示'!G11","v":"2025-08-01"}]
[110,{"$f":"'[2]80-89周岁公示'!B12","v":"柳星社区"},{"$f":"'[2]80-89周岁公示'!C12","v":"李玉芳"},{"$f":"'[2]80-89周岁公示'!D12","v":"女"},{"$f":"'[2]80-89周岁公示'!E12","v":88},{"$f":"'[2]80-89周岁公示'!F12","v":50},{"$f":"'[2]80-89周岁公示'!G12","v":"2025-08-23"}]
[111,{"$f":"'[2]80-89周岁公示'!B13","v":"柳星社区"},{"$f":"'[2]80-89周岁公示'!C13","v":"黄静芝"},{"$f":"'[2]80-89周岁公示'!D13","v":"女"},{"$f":"'[2]80-89周岁公示'!E13","v":88},{"$f":"'[2]80-89周岁公示'!F13","v":50},{"$f":"'[2]80-89周岁公示'!G13","v":"2025-08-29"}]
[112,{"$f":"'[2]80-89周岁公示'!B14","v":"柳星社区"},{"$f":"'[2]80-89周岁公示'!C14","v":"包翠华"},{"$f":"'[2]80-89周岁公示'!D14","v":"女"},{"$f":"'[2]80-89周岁公示'!E14","v":88},{"$f":"'[2]80-89周岁公示'!F14","v":50},{"$f":"'[2]80-89周岁公示'!G14","v":"2025-08-01"}]
[113,{"$f":"'[2]80-89周岁公示'!B15","v":"柳星社区"},{"$f":"'[2]80-89周岁公示'!C15","v":"覃桂芳"},{"$f":"'[2]80-89周岁公示'!D15","v":"女"},{"$f":"'[2]80-89周岁公示'!E15","v":88},{"$f":"'[2]80-89周岁公示'!F15","v":50},{"$f":"'[2]80-89周岁公示'!G15","v":"2025-08-23"}]
[114,{"$f":"'[2]80-89周岁公示'!B16","v":"柳星社区"},{"$f":"'[2]80-89周岁公示'!C16","v":"蔡国明"},{"$f":"'[2]80-89周岁公示'!D16","v":"男"},{"$f":"'[2]80-89周岁公示'!E16","v":88},{"$f":"'[2]80-89周岁公示'!F16","v":50},{"$f":"'[2]80-89周岁公示'!G16","v":"2025-08-29"}]
[115,{"$f":"'[2]80-89周岁公示'!B17","v":"柳星社区"},{"$f":"'[2]80-89周岁公示'!C17","v":"钟志群"},{"$f":"'[2]80-89周岁公示'!D17","v":"女"},{"$f":"'[2]80-89周岁公示'!E17","v":88},{"$f":"'[2]80-89周岁公示'!F17","v":50},{"$f":"'[2]80-89周岁公示'!G17","v":"2025-08-01"}]
[116,{"$f":"'[2]80-89周岁公示'!B18","v":"柳星社区"},{"$f":"'[2]80-89周岁公示'!C18","v":"王炳生"},{"$f":"'[2]80-89周岁公示'!D18","v":"男"},{"$f":"'[2]80-89周岁公示'!E18","v":88},{"$f":"'[2]80-89周岁公示'!F18","v":50},{"$f":"'[2]80-89周岁公示'!G18","v":"2025-08-23"}]
[117,{"$f":"'[2]80-89周岁公示'!B19","v":"柳星社区"},{"$f":"'[2]80-89周岁公示'!C19","v":"卢丽华"},{"$f":"'[2]80-89周岁公示'!D19","v":"女"},{"$f":"'[2]80-89周岁公示'!E19","v":88},{"$f":"'[2]80-89周岁公示'!F19","v":50},{"$f":"'[2]80-89周岁公示'!G19","v":"2025-08-29"}]
[118,{"$f":"'[2]80-89周岁公示'!B20","v":"柳星社区"},{"$f":"'[2]80-89周岁公示'!C20","v":"古兰英"},{"$f":"'[2]80-89周岁公示'!D20","v":"女"},{"$f":"'[2]80-89周岁公示'!E20","v":88},{"$f":"'[2]80-89周岁公示'!F20","v":50},{"$f":"'[2]80-89周岁公示'!G20","v":"2025-08-01"}]
[119,{"$f":"'[2]80-89周岁公示'!B21","v":"柳星社区"},{"$f":"'[2]80-89周岁公示'!C21","v":"杨公朋"},{"$f":"'[2]80-89周岁公示'!D21","v":"男"},{"$f":"'[2]80-89周岁公示'!E21","v":88},{"$f":"'[2]80-89周岁公示'!F21","v":50},{"$f":"'[2]80-89周岁公示'!G21","v":"2025-08-23"}]
[120,{"$f":"'[2]80-89周岁公示'!B22","v":"柳星社区"},{"$f":"'[2]80-89周岁公示'!C22","v":"游象书"},{"$f":"'[2]80-89周岁公示'!D22","v":"男"},{"$f":"'[2]80-89周岁公示'!E22","v":88},{"$f":"'[2]80-89周岁公示'!F22","v":50},{"$f":"'[2]80-89周岁公示'!G22","v":"2025-08-29"}]
[121,{"$f":"'[2]80-89周岁公示'!B23","v":"柳星社区"},{"$f":"'[2]80-89周岁公示'!C23","v":"廖美琼"},{"$f":"'[2]80-89周岁公示'!D23","v":"女"},{"$f":"'[2]80-89周岁公示'!E23","v":88},{"$f":"'[2]80-89周岁公示'!F23","v":50},{"$f":"'[2]80-89周岁公示'!G23","v":"2025-08-01"}]
[122,{"$f":"'[2]80-89周岁公示'!B24","v":"柳星社区"},{"$f":"'[2]80-89周岁公示'!C24","v":"姚克荣"},{"$f":"'[2]80-89周岁公示'!D24","v":"女"},{"$f":"'[2]80-89周岁公示'!E24","v":88},{"$f":"'[2]80-89周岁公示'!F24","v":50},{"$f":"'[2]80-89周岁公示'!G24","v":"2025-08-23"}]
[123,{"$f":"'[2]80-89周岁公示'!B25","v":"柳星社区"},{"$f":"'[2]80-89周岁公示'!C25","v":"邓智芳"},{"$f":"'[2]80-89周岁公示'!D25","v":"女"},{"$f":"'[2]80-89周岁公示'!E25","v":88},{"$f":"'[2]80-89周岁公示'!F25","v":50},{"$f":"'[2]80-89周岁公示'!G25","v":"2025-08-29"}]
[124,{"$f":"'[2]80-89周岁公示'!B26","v":"柳星社区"},{"$f":"'[2]80-89周岁公示'!C26","v":"桂许祥"},{"$f":"'[2]80-89周岁公示'!D26","v":"女"},{"$f":"'[2]80-89周岁公示'!E26","v":88},{"$f":"'[2]80-89周岁公示'!F26","v":50},{"$f":"'[2]80-89周岁公示'!G26","v":"2025-08-01"}]
[125,{"$f":"'[2]80-89周岁公示'!B27","v":"柳星社区"},{"$f":"'[2]80-89周岁公示'!C27","v":"吴爱琴"},{"$f":"'[2]80-89周岁公示'!D27","v":"女"},{"$f":"'[2]80-89周岁公示'!E27","v":88},{"$f":"'[2]80-89周岁公示'!F27","v":50},{"$f":"'[2]80-89周岁公示'!G27","v":"2025-08-23"}]
[126,{"$f":"'[2]80-89周岁公示'!B28","v":"柳星社区"},{"$f":"'[2]80-89周岁公示'!C28","v":"钟兴兰"},{"$f":"'[2]80-89周岁公示'!D28","v":"男"},{"$f":"'[2]80-89周岁公示'!E28","v":88},{"$f":"'[2]80-89周岁公示'!F28","v":50},{"$f":"'[2]80-89周岁公示'!G28","v":"2025-08-29"}]
[127,{"$f":"'[2]80-89周岁公示'!B29","v":"柳星社区"},{"$f":"'[2]80-89周岁公示'!C29","v":"林桂珍"},{"$f":"'[2]80-89周岁公示'!D29","v":"女"},{"$f":"'[2]80-89周岁公示'!E29","v":88},{"$f":"'[2]80-89周岁公示'!F29","v":50},{"$f":"'[2]80-89周岁公示'!G29","v":"2025-08-01"}]
[128,{"$f":"'[2]80-89周岁公示'!B30","v":"柳星社区"},{"$f":"'[2]80-89周岁公示'!C30","v":"农达眉"},{"$f":"'[2]80-89周岁公示'!D30","v":"女"},{"$f":"'[2]80-89周岁公示'!E30","v":87},{"$f":"'[2]80-89周岁公示'!F30","v":50},{"$f":"'[2]80-89周岁公示'!G30","v":"2025-08-23"}]
[129,{"$f":"'[2]80-89周岁公示'!B31","v":"柳星社区"},{"$f":"'[2]80-89周岁公示'!C31","v":"覃凤英"},{"$f":"'[2]80-89周岁公示'!D31","v":"女"},{"$f":"'[2]80-89周岁公示'!E31","v":87},{"$f":"'[2]80-89周岁公示'!F31","v":50},{"$f":"'[2]80-89周岁公示'!G31","v":"2025-08-29"}]
[130,{"$f":"'[2]80-89周岁公示'!B32","v":"柳星社区"},{"$f":"'[2]80-89周岁公示'!C32","v":"张普香"},{"$f":"'[2]80-89周岁公示'!D32","v":"女"},{"$f":"'[2]80-89周岁公示'!E32","v":87},{"$f":"'[2]80-89周岁公示'!F32","v":50},{"$f":"'[2]80-89周岁公示'!G32","v":"2025-08-01"}]
[131,{"$f":"'[2]80-89周岁公示'!B33","v":"柳星社区"},{"$f":"'[2]80-89周岁公示'!C33","v":"刘春明"},{"$f":"'[2]80-89周岁公示'!D33","v":"男"},{"$f":"'[2]80-89周岁公示'!E33","v":87},{"$f":"'[2]80-89周岁公示'!F33","v":50},{"$f":"'[2]80-89周岁公示'!G33","v":"2025-08-23"}]
[132,{"$f":"'[2]80-89周岁公示'!B34","v":"柳星社区"},{"$f":"'[2]80-89周岁公示'!C34","v":"杨希实"},{"$f":"'[2]80-89周岁公示'!D34","v":"男"},{"$f":"'[2]80-89周岁公示'!E34","v":87},{"$f":"'[2]80-89周岁公示'!F34","v":50},{"$f":"'[2]80-89周岁公示'!G34","v":"2025-08-29"}]
[133,{"$f":"'[2]80-89周岁公示'!B35","v":"柳星社区"},{"$f":"'[2]80-89周岁公示'!C35","v":"张月娥"},{"$f":"'[2]80-89周岁公示'!D35","v":"女"},{"$f":"'[2]80-89周岁公示'!E35","v":87},{"$f":"'[2]80-89周岁公示'!F35","v":50},{"$f":"'[2]80-89周岁公示'!G35","v":"2025-08-01"}]
[134,{"$f":"'[2]80-89周岁公示'!B36","v":"柳星社区"},{"$f":"'[2]80-89周岁公示'!C36","v":"张利英"},{"$f":"'[2]80-89周岁公示'!D36","v":"女"},{"$f":"'[2]80-89周岁公示'!E36","v":87},{"$f":"'[2]80-89周岁公示'!F36","v":50},{"$f":"'[2]80-89周岁公示'!G36","v":"2025-08-23"}]
[135,{"$f":"'[2]80-89周岁公示'!B37","v":"柳星社区"},{"$f":"'[2]80-89周岁公示'!C37","v":"胡廷翠"},{"$f":"'[2]80-89周岁公示'!D37","v":"女"},{"$f":"'[2]80-89周岁公示'!E37","v":87},{"$f":"'[2]80-89周岁公示'!F37","v":50},{"$f":"'[2]80-89周岁公示'!G37","v":"2025-08-29"}]
[136,{"$f":"'[2]80-89周岁公示'!B38","v":"柳星社区"},{"$f":"'[2]80-89周岁公示'!C38","v":"卢惠珍"},{"$f":"'[2]80-89周岁公示'!D38","v":"女"},{"$f":"'[2]80-89周岁公示'!E38","v":87},{"$f":"'[2]80-89周岁公示'!F38","v":50},{"$f":"'[2]80-89周岁公示'!G38","v":"2025-08-01"}]
[137,{"$f":"'[2]80-89周岁公示'!B39","v":"柳星社区"},{"$f":"'[2]80-89周岁公示'!C39","v":"凌振芳"},{"$f":"'[2]80-89周岁公示'!D39","v":"女"},{"$f":"'[2]80-89周岁公示'!E39","v":87},{"$f":"'[2]80-89周岁公示'!F39","v":50},{"$f":"'[2]80-89周岁公示'!G39","v":"2025-08-23"}]
[138,{"$f":"'[2]80-89周岁公示'!B40","v":"柳星社区"},{"$f":"'[2]80-89周岁公示'!C40","v":"曾志光"},{"$f":"'[2]80-89周岁公示'!D40","v":"男"},{"$f":"'[2]80-89周岁公示'!E40","v":87},{"$f":"'[2]80-89周岁公示'!F40","v":50},{"$f":"'[2]80-89周岁公示'!G40","v":"2025-08-29"}]
[139,{"$f":"'[2]80-89周岁公示'!B41","v":"柳星社区"},{"$f":"'[2]80-89周岁公示'!C41","v":"古伟珍"},{"$f":"'[2]80-89周岁公示'!D41","v":"女"},{"$f":"'[2]80-89周岁公示'!E41","v":87},{"$f":"'[2]80-89周岁公示'!F41","v":50},{"$f":"'[2]80-89周岁公示'!G41","v":"2025-08-01"}]
[140,{"$f":"'[2]80-89周岁公示'!B42","v":"柳星社区"},{"$f":"'[2]80-89周岁公示'!C42","v":"蒋素珍"},{"$f":"'[2]80-89周岁公示'!D42","v":"女"},{"$f":"'[2]80-89周岁公示'!E42","v":87},{"$f":"'[2]80-89周岁公示'!F42","v":50},{"$f":"'[2]80-89周岁公示'!G42","v":"2025-08-23"}]
[141,{"$f":"'[2]80-89周岁公示'!B43","v":"柳星社区"},{"$f":"'[2]80-89周岁公示'!C43","v":"梁旭"},{"$f":"'[2]80-89周岁公示'!D43","v":"男"},{"$f":"'[2]80-89周岁公示'!E43","v":87},{"$f":"'[2]80-89周岁公示'!F43","v":50},{"$f":"'[2]80-89周岁公示'!G43","v":"2025-08-29"}]
[142,{"$f":"'[2]80-89周岁公示'!B44","v":"柳星社区"},{"$f":"'[2]80-89周岁公示'!C44","v":"董丽芳"},{"$f":"'[2]80-89周岁公示'!D44","v":"女"},{"$f":"'[2]80-89周岁公示'!E44","v":87},{"$f":"'[2]80-89周岁公示'!F44","v":50},{"$f":"'[2]80-89周岁公示'!G44","v":"2025-08-01"}]
[143,{"$f":"'[2]80-89周岁公示'!B45","v":"柳星社区"},{"$f":"'[2]80-89周岁公示'!C45","v":"孔宪珍"},{"$f":"'[2]80-89周岁公示'!D45","v":"女"},{"$f":"'[2]80-89周岁公示'!E45","v":87},{"$f":"'[2]80-89周岁公示'!F45","v":50},{"$f":"'[2]80-89周岁公示'!G45","v":"2025-08-23"}]
[144,{"$f":"'[2]80-89周岁公示'!B46","v":"柳星社区"},{"$f":"'[2]80-89周岁公示'!C46","v":"吕宗奇"},{"$f":"'[2]80-89周岁公示'!D46","v":"男"},{"$f":"'[2]80-89周岁公示'!E46","v":87},{"$f":"'[2]80-89周岁公示'!F46","v":50},{"$f":"'[2]80-89周岁公示'!G46","v":"2025-08-29"}]
[145,{"$f":"'[2]80-89周岁公示'!B47","v":"柳星社区"},{"$f":"'[2]80-89周岁公示'!C47","v":"陈础"},{"$f":"'[2]80-89周岁公示'!D47","v":"男"},{"$f":"'[2]80-89周岁公示'!E47","v":87},{"$f":"'[2]80-89周岁公示'!F47","v":50},{"$f":"'[2]80-89周岁公示'!G47","v":"2025-08-01"}]
[146,{"$f":"'[2]80-89周岁公示'!B48","v":"柳星社区"},{"$f":"'[2]80-89周岁公示'!C48","v":"王汉新"},{"$f":"'[2]80-89周岁公示'!D48","v":"男"},{"$f":"'[2]80-89周岁公示'!E48","v":86},{"$f":"'[2]80-89周岁公示'!F48","v":50},{"$f":"'[2]80-89周岁公示'!G48","v":"2025-08-23"}]
[147,{"$f":"'[2]80-89周岁公示'!B49","v":"柳星社区"},{"$f":"'[2]80-89周岁公示'!C49","v":"赵翠云"},{"$f":"'[2]80-89周岁公示'!D49","v":"女"},{"$f":"'[2]80-89周岁公示'!E49","v":89},{"$f":"'[2]80-89周岁公示'!F49","v":50},{"$f":"'[2]80-89周岁公示'!G49","v":"2025-08-29"}]
[148,{"$f":"'[2]80-89周岁公示'!B50","v":"柳星社区"},{"$f":"'[2]80-89周岁公示'!C50","v":"周碧琴"},{"$f":"'[2]80-89周岁公示'!D50","v":"女"},{"$f":"'[2]80-89周岁公示'!E50","v":87},{"$f":"'[2]80-89周岁公示'!F50","v":50},{"$f":"'[2]80-89周岁公示'!G50","v":"2025-08-01"}]
[149,{"$f":"'[2]80-89周岁公示'!B51","v":"柳星社区"},{"$f":"'[2]80-89周岁公示'!C51","v":"梁秀凤"},{"$f":"'[2]80-89周岁公示'!D51","v":"女"},{"$f":"'[2]80-89周岁公示'!E51","v":86},{"$f":"'[2]80-89周岁公示'!F51","v":50},{"$f":"'[2]80-89周岁公示'!G51","v":"2025-08-23"}]
[150,{"$f":"'[2]80-89周岁公示'!B52","v":"柳星社区"},{"$f":"'[2]80-89周岁公示'!C52","v":"李作英"},{"$f":"'[2]80-89周岁公示'!D52","v":"女"},{"$f":"'[2]80-89周岁公示'!E52","v":86},{"$f":"'[2]80-89周岁公示'!F52","v":50},{"$f":"'[2]80-89周岁公示'!G52","v":"2025-08-29"}]
[151,{"$f":"'[2]80-89周岁公示'!B53","v":"柳星社区"},{"$f":"'[2]80-89周岁公示'!C53","v":"黄秀玲"},{"$f":"'[2]80-89周岁公示'!D53","v":"女"},{"$f":"'[2]80-89周岁公示'!E53","v":86},{"$f":"'[2]80-89周岁公示'!F53","v":50},{"$f":"'[2]80-89周岁公示'!G53","v":"2025-08-01"}]
[152,{"$f":"'[2]80-89周岁公示'!B54","v":"柳星社区"},{"$f":"'[2]80-89周岁公示'!C54","v":"何辉"},{"$f":"'[2]80-89周岁公示'!D54","v":"女"},{"$f":"'[2]80-89周岁公示'!E54","v":86},{"$f":"'[2]80-89周岁公示'!F54","v":50},{"$f":"'[2]80-89周岁公示'!G54","v":"2025-08-23"}]
[153,{"$f":"'[2]80-89周岁公示'!B55","v":"柳星社区"},{"$f":"'[2]80-89周岁公示'!C55","v":"励维同 "},{"$f":"'[2]80-89周岁公示'!D55","v":"男"},{"$f":"'[2]80-89周岁公示'!E55","v":86},{"$f":"'[2]80-89周岁公示'!F55","v":50},{"$f":"'[2]80-89周岁公示'!G55","v":"2025-08-29"}]
[154,{"$f":"'[2]80-89周岁公示'!B56","v":"柳星社区"},{"$f":"'[2]80-89周岁公示'!C56","v":"何世炎"},{"$f":"'[2]80-89周岁公示'!D56","v":"男"},{"$f":"'[2]80-89周岁公示'!E56","v":86},{"$f":"'[2]80-89周岁公示'!F56","v":50},{"$f":"'[2]80-89周岁公示'!G56","v":"2025-08-01"}]
[155,{"$f":"'[2]80-89周岁公示'!B57","v":"柳星社区"},{"$f":"'[2]80-89周岁公示'!C57","v":"刘柳生"},{"$f":"'[2]80-89周岁公示'!D57","v":"男"},{"$f":"'[2]80-89周岁公示'!E57","v":86},{"$f":"'[2]80-89周岁公示'!F57","v":50},{"$f":"'[2]80-89周岁公示'!G57","v":"2025-08-23"}]
[156,{"$f":"'[2]80-89周岁公示'!B58","v":"柳星社区"},{"$f":"'[2]80-89周岁公示'!C58","v":"唐凤英"},{"$f":"'[2]80-89周岁公示'!D58","v":"女"},{"$f":"'[2]80-89周岁公示'!E58","v":86},{"$f":"'[2]80-89周岁公示'!F58","v":50},{"$f":"'[2]80-89周岁公示'!G58","v":"2025-08-29"}]
[157,{"$f":"'[2]80-89周岁公示'!B59","v":"柳星社区"},{"$f":"'[2]80-89周岁公示'!C59","v":"彭日成"},{"$f":"'[2]80-89周岁公示'!D59","v":"男"},{"$f":"'[2]80-89周岁公示'!E59","v":86},{"$f":"'[2]80-89周岁公示'!F59","v":50},{"$f":"'[2]80-89周岁公示'!G59","v":"2025-08-01"}]
[158,{"$f":"'[2]80-89周岁公示'!B60","v":"柳星社区"},{"$f":"'[2]80-89周岁公示'!C60","v":"吴文珍"},{"$f":"'[2]80-89周岁公示'!D60","v":"女"},{"$f":"'[2]80-89周岁公示'!E60","v":86},{"$f":"'[2]80-89周岁公示'!F60","v":50},{"$f":"'[2]80-89周岁公示'!G60","v":"2025-08-23"}]
[159,{"$f":"'[2]80-89周岁公示'!B61","v":"柳星社区"},{"$f":"'[2]80-89周岁公示'!C61","v":"黄丕新"},{"$f":"'[2]80-89周岁公示'!D61","v":"男"},{"$f":"'[2]80-89周岁公示'!E61","v":86},{"$f":"'[2]80-89周岁公示'!F61","v":50},{"$f":"'[2]80-89周岁公示'!G61","v":"2025-08-29"}]
[160,{"$f":"'[2]80-89周岁公示'!B62","v":"柳星社区"},{"$f":"'[2]80-89周岁公示'!C62","v":"陶秀梅"},{"$f":"'[2]80-89周岁公示'!D62","v":"女"},{"$f":"'[2]80-89周岁公示'!E62","v":86},{"$f":"'[2]80-89周岁公示'!F62","v":50},{"$f":"'[2]80-89周岁公示'!G62","v":"2025-08-01"}]
[161,{"$f":"'[2]80-89周岁公示'!B63","v":"柳星社区"},{"$f":"'[2]80-89周岁公示'!C63","v":"沈腊妹"},{"$f":"'[2]80-89周岁公示'!D63","v":"女"},{"$f":"'[2]80-89周岁公示'!E63","v":86},{"$f":"'[2]80-89周岁公示'!F63","v":50},{"$f":"'[2]80-89周岁公示'!G63","v":"2025-08-23"}]
[162,{"$f":"'[2]80-89周岁公示'!B64","v":"柳星社区"},{"$f":"'[2]80-89周岁公示'!C64","v":"白玉芳"},{"$f":"'[2]80-89周岁公示'!D64","v":"女"},{"$f":"'[2]80-89周岁公示'!E64","v":85},{"$f":"'[2]80-89周岁公示'!F64","v":50},{"$f":"'[2]80-89周岁公示'!G64","v":"2025-08-29"}]
[163,{"$f":"'[2]80-89周岁公示'!B65","v":"柳星社区"},{"$f":"'[2]80-89周岁公示'!C65","v":"莫桂珍"},{"$f":"'[2]80-89周岁公示'!D65","v":"女"},{"$f":"'[2]80-89周岁公示'!E65","v":85},{"$f":"'[2]80-89周岁公示'!F65","v":50},{"$f":"'[2]80-89周岁公示'!G65","v":"2025-08-01"}]
[164,{"$f":"'[2]80-89周岁公示'!B66","v":"柳星社区"},{"$f":"'[2]80-89周岁公示'!C66","v":"刘敏勋"},{"$f":"'[2]80-89周岁公示'!D66","v":"男"},{"$f":"'[2]80-89周岁公示'!E66","v":85},{"$f":"'[2]80-89周岁公示'!F66","v":50},{"$f":"'[2]80-89周岁公示'!G66","v":"2025-08-23"}]
[165,{"$f":"'[2]80-89周岁公示'!B67","v":"柳星社区"},{"$f":"'[2]80-89周岁公示'!C67","v":"苏蕴琴"},{"$f":"'[2]80-89周岁公示'!D67","v":"女"},{"$f":"'[2]80-89周岁公示'!E67","v":85},{"$f":"'[2]80-89周岁公示'!F67","v":50},{"$f":"'[2]80-89周岁公示'!G67","v":"2025-08-29"}]
[166,{"$f":"'[2]80-89周岁公示'!B68","v":"柳星社区"},{"$f":"'[2]80-89周岁公示'!C68","v":"韩杞荣"},{"$f":"'[2]80-89周岁公示'!D68","v":"男"},{"$f":"'[2]80-89周岁公示'!E68","v":85},{"$f":"'[2]80-89周岁公示'!F68","v":50},{"$f":"'[2]80-89周岁公示'!G68","v":"2025-08-01"}]
[167,{"$f":"'[2]80-89周岁公示'!B69","v":"柳星社区"},{"$f":"'[2]80-89周岁公示'!C69","v":"林志明"},{"$f":"'[2]80-89周岁公示'!D69","v":"男"},{"$f":"'[2]80-89周岁公示'!E69","v":86},{"$f":"'[2]80-89周岁公示'!F69","v":50},{"$f":"'[2]80-89周岁公示'!G69","v":"2025-08-23"}]
[168,{"$f":"'[2]80-89周岁公示'!B70","v":"柳星社区"},{"$f":"'[2]80-89周岁公示'!C70","v":"廖秀清"},{"$f":"'[2]80-89周岁公示'!D70","v":"女"},{"$f":"'[2]80-89周岁公示'!E70","v":85},{"$f":"'[2]80-89周岁公示'!F70","v":50},{"$f":"'[2]80-89周岁公示'!G70","v":"2025-08-29"}]
[169,{"$f":"'[2]80-89周岁公示'!B71","v":"柳星社区"},{"$f":"'[2]80-89周岁公示'!C71","v":"李丽琼"},{"$f":"'[2]80-89周岁公示'!D71","v":"女"},{"$f":"'[2]80-89周岁公示'!E71","v":85},{"$f":"'[2]80-89周岁公示'!F71","v":50},{"$f":"'[2]80-89周岁公示'!G71","v":"2025-08-01"}]
[170,{"$f":"'[2]80-89周岁公示'!B72","v":"柳星社区"},{"$f":"'[2]80-89周岁公示'!C72","v":"仇巧荣"},{"$f":"'[2]80-89周岁公示'!D72","v":"女"},{"$f":"'[2]80-89周岁公示'!E72","v":85},{"$f":"'[2]80-89周岁公示'!F72","v":50},{"$f":"'[2]80-89周岁公示'!G72","v":"2025-08-23"}]
[171,{"$f":"'[2]80-89周岁公示'!B73","v":"柳星社区"},{"$f":"'[2]80-89周岁公示'!C73","v":"王美亚"},{"$f":"'[2]80-89周岁公示'!D73","v":"女"},{"$f":"'[2]80-89周岁公示'!E73","v":85},{"$f":"'[2]80-89周岁公示'!F73","v":50},{"$f":"'[2]80-89周岁公示'!G73","v":"2025-08-29"}]
[172,{"$f":"'[2]80-89周岁公示'!B74","v":"柳星社区"},{"$f":"'[2]80-89周岁公示'!C74","v":"蔡兴无"},{"$f":"'[2]80-89周岁公示'!D74","v":"男"},{"$f":"'[2]80-89周岁公示'!E74","v":85},{"$f":"'[2]80-89周岁公示'!F74","v":50},{"$f":"'[2]80-89周岁公示'!G74","v":"2025-08-01"}]
[173,{"$f":"'[2]80-89周岁公示'!B75","v":"柳星社区"},{"$f":"'[2]80-89周岁公示'!C75","v":"吴秀群"},{"$f":"'[2]80-89周岁公示'!D75","v":"女"},{"$f":"'[2]80-89周岁公示'!E75","v":85},{"$f":"'[2]80-89周岁公示'!F75","v":50},{"$f":"'[2]80-89周岁公示'!G75","v":"2025-08-23"}]
[174,{"$f":"'[2]80-89周岁公示'!B76","v":"柳星社区"},{"$f":"'[2]80-89周岁公示'!C76","v":"王成忠"},{"$f":"'[2]80-89周岁公示'!D76","v":"男"},{"$f":"'[2]80-89周岁公示'!E76","v":85},{"$f":"'[2]80-89周岁公示'!F76","v":50},{"$f":"'[2]80-89周岁公示'!G76","v":"2025-08-29"}]
[175,{"$f":"'[2]80-89周岁公示'!B77","v":"柳星社区"},{"$f":"'[2]80-89周岁公示'!C77","v":"黎雪贞"},{"$f":"'[2]80-89周岁公示'!D77","v":"女"},{"$f":"'[2]80-89周岁公示'!E77","v":84},{"$f":"'[2]80-89周岁公示'!F77","v":50},{"$f":"'[2]80-89周岁公示'!G77","v":"2025-08-01"}]
[176,{"$f":"'[2]80-89周岁公示'!B78","v":"柳星社区"},{"$f":"'[2]80-89周岁公示'!C78","v":"高正国"},{"$f":"'[2]80-89周岁公示'!D78","v":"男"},{"$f":"'[2]80-89周岁公示'!E78","v":84},{"$f":"'[2]80-89周岁公示'!F78","v":50},{"$f":"'[2]80-89周岁公示'!G78","v":"2025-08-23"}]
[177,{"$f":"'[2]80-89周岁公示'!B79","v":"柳星社区"},{"$f":"'[2]80-89周岁公示'!C79","v":"覃慧芳"},{"$f":"'[2]80-89周岁公示'!D79","v":"女"},{"$f":"'[2]80-89周岁公示'!E79","v":85},{"$f":"'[2]80-89周岁公示'!F79","v":50},{"$f":"'[2]80-89周岁公示'!G79","v":"2025-08-29"}]
[178,{"$f":"'[2]80-89周岁公示'!B80","v":"柳星社区"},{"$f":"'[2]80-89周岁公示'!C80","v":"程兆德"},{"$f":"'[2]80-89周岁公示'!D80","v":"男"},{"$f":"'[2]80-89周岁公示'!E80","v":84},{"$f":"'[2]80-89周岁公示'!F80","v":50},{"$f":"'[2]80-89周岁公示'!G80","v":"2025-08-01"}]
[179,{"$f":"'[2]80-89周岁公示'!B81","v":"柳星社区"},{"$f":"'[2]80-89周岁公示'!C81","v":"叶桂英"},{"$f":"'[2]80-89周岁公示'!D81","v":"女"},{"$f":"'[2]80-89周岁公示'!E81","v":84},{"$f":"'[2]80-89周岁公示'!F81","v":50},{"$f":"'[2]80-89周岁公示'!G81","v":"2025-08-23"}]
[180,{"$f":"'[2]80-89周岁公示'!B82","v":"柳星社区"},{"$f":"'[2]80-89周岁公示'!C82","v":"杨志恒"},{"$f":"'[2]80-89周岁公示'!D82","v":"男"},{"$f":"'[2]80-89周岁公示'!E82","v":84},{"$f":"'[2]80-89周岁公示'!F82","v":50},{"$f":"'[2]80-89周岁公示'!G82","v":"2025-08-29"}]
[181,{"$f":"'[2]80-89周岁公示'!B83","v":"柳星社区"},{"$f":"'[2]80-89周岁公示'!C83","v":"邹桃秀"},{"$f":"'[2]80-89周岁公示'!D83","v":"女"},{"$f":"'[2]80-89周岁公示'!E83","v":84},{"$f":"'[2]80-89周岁公示'!F83","v":50},{"$f":"'[2]80-89周岁公示'!G83","v":"2025-08-01"}]
[182,{"$f":"'[2]80-89周岁公示'!B84","v":"柳星社区"},{"$f":"'[2]80-89周岁公示'!C84","v":"巫玉凤"},{"$f":"'[2]80-89周岁公示'!D84","v":"女"},{"$f":"'[2]80-89周岁公示'!E84","v":84},{"$f":"'[2]80-89周岁公示'!F84","v":50},{"$f":"'[2]80-89周岁公示'!G84","v":"2025-08-23"}]
[183,{"$f":"'[2]80-89周岁公示'!B85","v":"柳星社区"},{"$f":"'[2]80-89周岁公示'!C85","v":"黄月娟"},{"$f":"'[2]80-89周岁公示'!D85","v":"女"},{"$f":"'[2]80-89周岁公示'!E85","v":84},{"$f":"'[2]80-89周岁公示'!F85","v":50},{"$f":"'[2]80-89周岁公示'!G85","v":"2025-08-29"}]
[184,{"$f":"'[2]80-89周岁公示'!B86","v":"柳星社区"},{"$f":"'[2]80-89周岁公示'!C86","v":"徐明泉"},{"$f":"'[2]80-89周岁公示'!D86","v":"男"},{"$f":"'[2]80-89周岁公示'!E86","v":84},{"$f":"'[2]80-89周岁公示'!F86","v":50},{"$f":"'[2]80-89周岁公示'!G86","v":"2025-08-01"}]
[185,{"$f":"'[2]80-89周岁公示'!B87","v":"柳星社区"},{"$f":"'[2]80-89周岁公示'!C87","v":"罗宪聪"},{"$f":"'[2]80-89周岁公示'!D87","v":"男"},{"$f":"'[2]80-89周岁公示'!E87","v":84},{"$f":"'[2]80-89周岁公示'!F87","v":50},{"$f":"'[2]80-89周岁公示'!G87","v":"2025-08-23"}]
[186,{"$f":"'[2]80-89周岁公示'!B88","v":"柳星社区"},{"$f":"'[2]80-89周岁公示'!C88","v":"涂潜英"},{"$f":"'[2]80-89周岁公示'!D88","v":"女"},{"$f":"'[2]80-89周岁公示'!E88","v":84},{"$f":"'[2]80-89周岁公示'!F88","v":50},{"$f":"'[2]80-89周岁公示'!G88","v":"2025-08-29"}]
[187,{"$f":"'[2]80-89周岁公示'!B89","v":"柳星社区"},{"$f":"'[2]80-89周岁公示'!C89","v":"周秀英"},{"$f":"'[2]80-89周岁公示'!D89","v":"女"},{"$f":"'[2]80-89周岁公示'!E89","v":83},{"$f":"'[2]80-89周岁公示'!F89","v":50},{"$f":"'[2]80-89周岁公示'!G89","v":"2025-08-01"}]
[188,{"$f":"'[2]80-89周岁公示'!B90","v":"柳星社区"},{"$f":"'[2]80-89周岁公示'!C90","v":"莫美容"},{"$f":"'[2]80-89周岁公示'!D90","v":"女"},{"$f":"'[2]80-89周岁公示'!E90","v":83},{"$f":"'[2]80-89周岁公示'!F90","v":50},{"$f":"'[2]80-89周岁公示'!G90","v":"2025-08-23"}]
[189,{"$f":"'[2]80-89周岁公示'!B91","v":"柳星社区"},{"$f":"'[2]80-89周岁公示'!C91","v":"盘菊英"},{"$f":"'[2]80-89周岁公示'!D91","v":"女 "},{"$f":"'[2]80-89周岁公示'!E91","v":83},{"$f":"'[2]80-89周岁公示'!F91","v":50},{"$f":"'[2]80-89周岁公示'!G91","v":"2025-08-29"}]
[190,{"$f":"'[2]80-89周岁公示'!B92","v":"柳星社区"},{"$f":"'[2]80-89周岁公示'!C92","v":"罗炳英"},{"$f":"'[2]80-89周岁公示'!D92","v":"女"},{"$f":"'[2]80-89周岁公示'!E92","v":84},{"$f":"'[2]80-89周岁公示'!F92","v":50},{"$f":"'[2]80-89周岁公示'!G92","v":"2025-08-01"}]
[191,{"$f":"'[2]80-89周岁公示'!B93","v":"柳星社区"},{"$f":"'[2]80-89周岁公示'!C93","v":"宋秀清"},{"$f":"'[2]80-89周岁公示'!D93","v":"女"},{"$f":"'[2]80-89周岁公示'!E93","v":83},{"$f":"'[2]80-89周岁公示'!F93","v":50},{"$f":"'[2]80-89周岁公示'!G93","v":"2025-08-23"}]
[192,{"$f":"'[2]80-89周岁公示'!B94","v":"柳星社区"},{"$f":"'[2]80-89周岁公示'!C94","v":"周亦明"},{"$f":"'[2]80-89周岁公示'!D94","v":"女"},{"$f":"'[2]80-89周岁公示'!E94","v":83},{"$f":"'[2]80-89周岁公示'!F94","v":50},{"$f":"'[2]80-89周岁公示'!G94","v":"2025-08-29"}]
[193,{"$f":"'[2]80-89周岁公示'!B95","v":"柳星社区"},{"$f":"'[2]80-89周岁公示'!C95","v":"赖桂珍"},{"$f":"'[2]80-89周岁公示'!D95","v":"女"},{"$f":"'[2]80-89周岁公示'!E95","v":83},{"$f":"'[2]80-89周岁公示'!F95","v":50},{"$f":"'[2]80-89周岁公示'!G95","v":"2025-08-01"}]
[194,{"$f":"'[2]80-89周岁公示'!B96","v":"柳星社区"},{"$f":"'[2]80-89周岁公示'!C96","v":"王细建"},{"$f":"'[2]80-89周岁公示'!D96","v":"男"},{"$f":"'[2]80-89周岁公示'!E96","v":83},{"$f":"'[2]80-89周岁公示'!F96","v":50},{"$f":"'[2]80-89周岁公示'!G96","v":"2025-08-23"}]
[195,{"$f":"'[2]80-89周岁公示'!B97","v":"柳星社区"},{"$f":"'[2]80-89周岁公示'!C97","v":"何雪英"},{"$f":"'[2]80-89周岁公示'!D97","v":"女"},{"$f":"'[2]80-89周岁公示'!E97","v":83},{"$f":"'[2]80-89周岁公示'!F97","v":50},{"$f":"'[2]80-89周岁公示'!G97","v":"2025-08-29"}]
[196,{"$f":"'[2]80-89周岁公示'!B98","v":"柳星社区"},{"$f":"'[2]80-89周岁公示'!C98","v":"文坤碧"},{"$f":"'[2]80-89周岁公示'!D98","v":"女"},{"$f":"'[2]80-89周岁公示'!E98","v":83},{"$f":"'[2]80-89周岁公示'!F98","v":50},{"$f":"'[2]80-89周岁公示'!G98","v":"2025-08-01"}]
[197,{"$f":"'[2]80-89周岁公示'!B99","v":"柳星社区"},{"$f":"'[2]80-89周岁公示'!C99","v":"刘治荣"},{"$f":"'[2]80-89周岁公示'!D99","v":"女"},{"$f":"'[2]80-89周岁公示'!E99","v":83},{"$f":"'[2]80-89周岁公示'!F99","v":51},{"$f":"'[2]80-89周岁公示'!G99","v":"2025-08-23"}]
[198,{"$f":"'[2]80-89周岁公示'!B100","v":"柳星社区"},{"$f":"'[2]80-89周岁公示'!C100","v":"蒋玉英"},{"$f":"'[2]80-89周岁公示'!D100","v":"女"},{"$f":"'[2]80-89周岁公示'!E100","v":84},{"$f":"'[2]80-89周岁公示'!F100","v":50},{"$f":"'[2]80-89周岁公示'!G100","v":"2025-08-29"}]
[199,{"$f":"'[2]80-89周岁公示'!B101","v":"柳星社区"},{"$f":"'[2]80-89周岁公示'!C101","v":"于秀英"},{"$f":"'[2]80-89周岁公示'!D101","v":"女"},{"$f":"'[2]80-89周岁公示'!E101","v":83},{"$f":"'[2]80-89周岁公示'!F101","v":50},{"$f":"'[2]80-89周岁公示'!G101","v":"2025-08-01"}]
[200,{"$f":"'[2]80-89周岁公示'!B102","v":"柳星社区"},{"$f":"'[2]80-89周岁公示'!C102","v":"孙秀媛"},{"$f":"'[2]80-89周岁公示'!D102","v":"女"},{"$f":"'[2]80-89周岁公示'!E102","v":82},{"$f":"'[2]80-89周岁公示'!F102","v":50},{"$f":"'[2]80-89周岁公示'!G102","v":"2025-08-23"}]
[201,{"$f":"'[2]80-89周岁公示'!B103","v":"柳星社区"},{"$f":"'[2]80-89周岁公示'!C103","v":"黄载瑶"},{"$f":"'[2]80-89周岁公示'!D103","v":"女"},{"$f":"'[2]80-89周岁公示'!E103","v":82},{"$f":"'[2]80-89周岁公示'!F103","v":50},{"$f":"'[2]80-89周岁公示'!G103","v":"2025-08-29"}]
[202,{"$f":"'[2]80-89周岁公示'!B104","v":"柳星社区"},{"$f":"'[2]80-89周岁公示'!C104","v":"刘伟英"},{"$f":"'[2]80-89周岁公示'!D104","v":"女"},{"$f":"'[2]80-89周岁公示'!E104","v":83},{"$f":"'[2]80-89周岁公示'!F104","v":50},{"$f":"'[2]80-89周岁公示'!G104","v":"2025-08-01"}]
[203,{"$f":"'[2]80-89周岁公示'!B105","v":"柳星社区"},{"$f":"'[2]80-89周岁公示'!C105","v":"黎泰德"},{"$f":"'[2]80-89周岁公示'!D105","v":"男"},{"$f":"'[2]80-89周岁公示'!E105","v":82},{"$f":"'[2]80-89周岁公示'!F105","v":50},{"$f":"'[2]80-89周岁公示'!G105","v":"2025-08-23"}]
[204,{"$f":"'[2]80-89周岁公示'!B106","v":"柳星社区"},{"$f":"'[2]80-89周岁公示'!C106","v":"江任兰"},{"$f":"'[2]80-89周岁公示'!D106","v":"女"},{"$f":"'[2]80-89周岁公示'!E106","v":82},{"$f":"'[2]80-89周岁公示'!F106","v":50},{"$f":"'[2]80-89周岁公示'!G106","v":"2025-08-29"}]
[205,{"$f":"'[2]80-89周岁公示'!B107","v":"柳星社区"},{"$f":"'[2]80-89周岁公示'!C107","v":"覃金凤"},{"$f":"'[2]80-89周岁公示'!D107","v":"女"},{"$f":"'[2]80-89周岁公示'!E107","v":82},{"$f":"'[2]80-89周岁公示'!F107","v":50},{"$f":"'[2]80-89周岁公示'!G107","v":"2025-08-01"}]
[206,{"$f":"'[2]80-89周岁公示'!B108","v":"柳星社区"},{"$f":"'[2]80-89周岁公示'!C108","v":"曾慧珑"},{"$f":"'[2]80-89周岁公示'!D108","v":"女"},{"$f":"'[2]80-89周岁公示'!E108","v":82},{"$f":"'[2]80-89周岁公示'!F108","v":50},{"$f":"'[2]80-89周岁公示'!G108","v":"2025-08-23"}]
[207,{"$f":"'[2]80-89周岁公示'!B109","v":"柳星社区"},{"$f":"'[2]80-89周岁公示'!C109","v":"刘美姣"},{"$f":"'[2]80-89周岁公示'!D109","v":"女"},{"$f":"'[2]80-89周岁公示'!E109","v":81},{"$f":"'[2]80-89周岁公示'!F109","v":50},{"$f":"'[2]80-89周岁公示'!G109","v":"2025-08-29"}]
[208,{"$f":"'[2]80-89周岁公示'!B110","v":"柳星社区"},{"$f":"'[2]80-89周岁公示'!C110","v":"何慧芬"},{"$f":"'[2]80-89周岁公示'!D110","v":"女"},{"$f":"'[2]80-89周岁公示'!E110","v":81},{"$f":"'[2]80-89周岁公示'!F110","v":50},{"$f":"'[2]80-89周岁公示'!G110","v":"2025-08-01"}]
[209,{"$f":"'[2]80-89周岁公示'!B111","v":"柳星社区"},{"$f":"'[2]80-89周岁公示'!C111","v":"李金秀"},{"$f":"'[2]80-89周岁公示'!D111","v":"女"},{"$f":"'[2]80-89周岁公示'!E111","v":81},{"$f":"'[2]80-89周岁公示'!F111","v":50},{"$f":"'[2]80-89周岁公示'!G111","v":"2025-08-23"}]
[210,{"$f":"'[2]80-89周岁公示'!B112","v":"柳星社区"},{"$f":"'[2]80-89周岁公示'!C112","v":"刘秀云"},{"$f":"'[2]80-89周岁公示'!D112","v":"女"},{"$f":"'[2]80-89周岁公示'!E112","v":81},{"$f":"'[2]80-89周岁公示'!F112","v":50},{"$f":"'[2]80-89周岁公示'!G112","v":"2025-08-29"}]
[211,{"$f":"'[2]80-89周岁公示'!B113","v":"柳星社区"},{"$f":"'[2]80-89周岁公示'!C113","v":"李有林"},{"$f":"'[2]80-89周岁公示'!D113","v":"男"},{"$f":"'[2]80-89周岁公示'!E113","v":81},{"$f":"'[2]80-89周岁公示'!F113","v":50},{"$f":"'[2]80-89周岁公示'!G113","v":"2025-08-01"}]
[212,{"$f":"'[2]80-89周岁公示'!B114","v":"柳星社区"},{"$f":"'[2]80-89周岁公示'!C114","v":"李欢荣"},{"$f":"'[2]80-89周岁公示'!D114","v":"女"},{"$f":"'[2]80-89周岁公示'!E114","v":81},{"$f":"'[2]80-89周岁公示'!F114","v":50},{"$f":"'[2]80-89周岁公示'!G114","v":"2025-08-23"}]
[213,{"$f":"'[2]80-89周岁公示'!B115","v":"柳星社区"},{"$f":"'[2]80-89周岁公示'!C115","v":"黄兰贞"},{"$f":"'[2]80-89周岁公示'!D115","v":"女"},{"$f":"'[2]80-89周岁公示'!E115","v":81},{"$f":"'[2]80-89周岁公示'!F115","v":50},{"$f":"'[2]80-89周岁公示'!G115","v":"2025-08-29"}]
[214,{"$f":"'[2]80-89周岁公示'!B116","v":"柳星社区"},{"$f":"'[2]80-89周岁公示'!C116","v":"秦才仁"},{"$f":"'[2]80-89周岁公示'!D116","v":"女"},{"$f":"'[2]80-89周岁公示'!E116","v":81},{"$f":"'[2]80-89周岁公示'!F116","v":50},{"$f":"'[2]80-89周岁公示'!G116","v":"2025-08-01"}]
[215,{"$f":"'[2]80-89周岁公示'!B117","v":"柳星社区"},{"$f":"'[2]80-89周岁公示'!C117","v":"曾菊英"},{"$f":"'[2]80-89周岁公示'!D117","v":"女"},{"$f":"'[2]80-89周岁公示'!E117","v":81},{"$f":"'[2]80-89周岁公示'!F117","v":50},{"$f":"'[2]80-89周岁公示'!G117","v":"2025-08-23"}]
[216,{"$f":"'[2]80-89周岁公示'!B118","v":"柳星社区"},{"$f":"'[2]80-89周岁公示'!C118","v":"何玉亮"},{"$f":"'[2]80-89周岁公示'!D118","v":"女"},{"$f":"'[2]80-89周岁公示'!E118","v":81},{"$f":"'[2]80-89周岁公示'!F118","v":50},{"$f":"'[2]80-89周岁公示'!G118","v":"2025-08-29"}]
[217,{"$f":"'[2]80-89周岁公示'!B119","v":"柳星社区"},{"$f":"'[2]80-89周岁公示'!C119","v":"刘吉珍"},{"$f":"'[2]80-89周岁公示'!D119","v":"女"},{"$f":"'[2]80-89周岁公示'!E119","v":80},{"$f":"'[2]80-89周岁公示'!F119","v":50},{"$f":"'[2]80-89周岁公示'!G119","v":"2025-08-23"}]
[218,{"$f":"'[2]80-89周岁公示'!B120","v":"柳星社区"},{"$f":"'[2]80-89周岁公示'!C120","v":"张清华"},{"$f":"'[2]80-89周岁公示'!D120","v":"女"},{"$f":"'[2]80-89周岁公示'!E120","v":80},{"$f":"'[2]80-89周岁公示'!F120","v":50},{"$f":"'[2]80-89周岁公示'!G120","v":"2025-08-29"}]
[219,{"$f":"'[2]80-89周岁公示'!B121","v":"柳星社区"},{"$f":"'[2]80-89周岁公示'!C121","v":"杨凤珍"},{"$f":"'[2]80-89周岁公示'!D121","v":"女"},{"$f":"'[2]80-89周岁公示'!E121","v":80},{"$f":"'[2]80-89周岁公示'!F121","v":50},{"$f":"'[2]80-89周岁公示'!G121","v":"2025-08-01"}]
[220,{"$f":"'[2]80-89周岁公示'!B122","v":"柳星社区"},{"$f":"'[2]80-89周岁公示'!C122","v":"吴雪姬"},{"$f":"'[2]80-89周岁公示'!D122","v":"女"},{"$f":"'[2]80-89周岁公示'!E122","v":80},{"$f":"'[2]80-89周岁公示'!F122","v":50},{"$f":"'[2]80-89周岁公示'!G122","v":"2025-08-23"}]
[221,{"$f":"'[2]80-89周岁公示'!B123","v":"柳星社区"},{"$f":"'[2]80-89周岁公示'!C123","v":"梁水凤"},{"$f":"'[2]80-89周岁公示'!D123","v":"女"},{"$f":"'[2]80-89周岁公示'!E123","v":80},{"$f":"'[2]80-89周岁公示'!F123","v":50},{"$f":"'[2]80-89周岁公示'!G123","v":"2025-08-29"}]
[222,{"$f":"'[2]80-89周岁公示'!B124","v":"柳星社区"},{"$f":"'[2]80-89周岁公示'!C124","v":"李炎荣"},{"$f":"'[2]80-89周岁公示'!D124","v":"女"},{"$f":"'[2]80-89周岁公示'!E124","v":80},{"$f":"'[2]80-89周岁公示'!F124","v":50},{"$f":"'[2]80-89周岁公示'!G124","v":"2025-08-01"}]
[223,{"$f":"'[2]80-89周岁公示'!B125","v":"柳星社区"},{"$f":"'[2]80-89周岁公示'!C125","v":"曾秀玲"},{"$f":"'[2]80-89周岁公示'!D125","v":"女"},{"$f":"'[2]80-89周岁公示'!E125","v":80},{"$f":"'[2]80-89周岁公示'!F125","v":50},{"$f":"'[2]80-89周岁公示'!G125","v":"2025-08-23"}]
[224,{"$f":"'[2]80-89周岁公示'!B126","v":"柳星社区"},{"$f":"'[2]80-89周岁公示'!C126","v":"柯菲"},{"$f":"'[2]80-89周岁公示'!D126","v":"女"},{"$f":"'[2]80-89周岁公示'!E126","v":80},{"$f":"'[2]80-89周岁公示'!F126","v":50},{"$f":"'[2]80-89周岁公示'!G126","v":"2025-08-29"}]
[225,{"$f":"'[2]80-89周岁公示'!B127","v":"柳星社区"},{"$f":"'[2]80-89周岁公示'!C127","v":"张彩贤"},{"$f":"'[2]80-89周岁公示'!D127","v":"女"},{"$f":"'[2]80-89周岁公示'!E127","v":87},{"$f":"'[2]80-89周岁公示'!F127","v":50},{"$f":"'[2]80-89周岁公示'!G127","v":"2025-08-01"}]
[226,{"$f":"'[2]80-89周岁公示'!B128","v":"柳星社区"},{"$f":"'[2]80-89周岁公示'!C128","v":"潘玉华"},{"$f":"'[2]80-89周岁公示'!D128","v":"女"},{"$f":"'[2]80-89周岁公示'!E128","v":80},{"$f":"'[2]80-89周岁公示'!F128","v":50},{"$f":"'[2]80-89周岁公示'!G128","v":"2025-08-23"}]
[227,{"$f":"'[2]80-89周岁公示'!B129","v":"柳星社区"},{"$f":"'[2]80-89周岁公示'!C129","v":"谭运凤"},{"$f":"'[2]80-89周岁公示'!D129","v":"女"},{"$f":"'[2]80-89周岁公示'!E129","v":80},{"$f":"'[2]80-89周岁公示'!F129","v":50},{"$f":"'[2]80-89周岁公示'!G129","v":"2025-08-29"}]
[228,{"$f":"'[2]80-89周岁公示'!B130","v":"柳星社区"},{"$f":"'[2]80-89周岁公示'!C130","v":"曾秀芬"},{"$f":"'[2]80-89周岁公示'!D130","v":"女"},{"$f":"'[2]80-89周岁公示'!E130","v":80},{"$f":"'[2]80-89周岁公示'!F130","v":50},{"$f":"'[2]80-89周岁公示'!G130","v":"2025-08-01"}]
[229,{"$f":"'[2]80-89周岁公示'!B131","v":"柳星社区"},{"$f":"'[2]80-89周岁公示'!C131","v":"杜建兰"},{"$f":"'[2]80-89周岁公示'!D131","v":"男"},{"$f":"'[2]80-89周岁公示'!E131","v":80},{"$f":"'[2]80-89周岁公示'!F131","v":50},{"$f":"'[2]80-89周岁公示'!G131","v":"2025-08-23"}]
[230,{"$f":"'[2]80-89周岁公示'!B132","v":"柳星社区"},{"$f":"'[2]80-89周岁公示'!C132","v":"谢伟香"},{"$f":"'[2]80-89周岁公示'!D132","v":"男"},{"$f":"'[2]80-89周岁公示'!E132","v":80},{"$f":"'[2]80-89周岁公示'!F132","v":50},{"$f":"'[2]80-89周岁公示'!G132","v":"2025-08-29"}]
[231,{"$f":"'[2]80-89周岁公示'!B133","v":"柳星社区"},{"$f":"'[2]80-89周岁公示'!C133","v":"黄志其"},{"$f":"'[2]80-89周岁公示'!D133","v":"男"},{"$f":"'[2]80-89周岁公示'!E133","v":80},{"$f":"'[2]80-89周岁公示'!F133","v":50},{"$f":"'[2]80-89周岁公示'!G133","v":"2025-08-01"}]
[232,{"$f":"'[2]80-89周岁公示'!B134","v":"柳星社区"},{"$f":"'[2]80-89周岁公示'!C134","v":"陈彩连"},{"$f":"'[2]80-89周岁公示'!D134","v":"女"},{"$f":"'[2]80-89周岁公示'!E134","v":80},{"$f":"'[2]80-89周岁公示'!F134","v":50},{"$f":"'[2]80-89周岁公示'!G134","v":"2025-08-23"}]
[233,{"$f":"'[2]80-89周岁公示'!B135","v":"柳星社区"},{"$f":"'[2]80-89周岁公示'!C135","v":"黄振云"},{"$f":"'[2]80-89周岁公示'!D135","v":"男"},{"$f":"'[2]80-89周岁公示'!E135","v":80},{"$f":"'[2]80-89周岁公示'!F135","v":50},{"$f":"'[2]80-89周岁公示'!G135","v":"2025-08-29"}]
[234,{"$f":"'[2]80-89周岁公示'!B136","v":"柳星社区"},{"$f":"'[2]80-89周岁公示'!C136","v":"吕绍彬"},{"$f":"'[2]80-89周岁公示'!D136","v":"男"},{"$f":"'[2]80-89周岁公示'!E136","v":80},{"$f":"'[2]80-89周岁公示'!F136","v":50},{"$f":"'[2]80-89周岁公示'!G136","v":"2025-08-01"}]
[235,{"$f":"'[2]80-89周岁公示'!B137","v":"柳星社区"},{"$f":"'[2]80-89周岁公示'!C137","v":"黄若芳"},{"$f":"'[2]80-89周岁公示'!D137","v":"女"},{"$f":"'[2]80-89周岁公示'!E137","v":80},{"$f":"'[2]80-89周岁公示'!F137","v":50},{"$f":"'[2]80-89周岁公示'!G137","v":"2025-08-23"}]
[236,{"$f":"'[2]80-89周岁公示'!B138","v":"柳星社区"},{"$f":"'[2]80-89周岁公示'!C138","v":"韦开鸿"},{"$f":"'[2]80-89周岁公示'!D138","v":"男"},{"$f":"'[2]80-89周岁公示'!E138","v":80},{"$f":"'[2]80-89周岁公示'!F138","v":50},{"$f":"'[2]80-89周岁公示'!G138","v":"2025-08-29"}]
[237,{"$f":"'[2]80-89周岁公示'!B139","v":"柳星社区"},{"$f":"'[2]80-89周岁公示'!C139","v":"吴凤兰"},{"$f":"'[2]80-89周岁公示'!D139","v":"女"},{"$f":"'[2]80-89周岁公示'!E139","v":80},{"$f":"'[2]80-89周岁公示'!F139","v":50},{"$f":"'[2]80-89周岁公示'!G139","v":"2025-08-01"}]
[238,{"$f":"'[2]80-89周岁公示'!B140","v":"柳星社区"},{"$f":"'[2]80-89周岁公示'!C140","v":"韦耿印"},{"$f":"'[2]80-89周岁公示'!D140","v":"男"},{"$f":"'[2]80-89周岁公示'!E140","v":80},{"$f":"'[2]80-89周岁公示'!F140","v":50},{"$f":"'[2]80-89周岁公示'!G140","v":"2025-08-23"}]
[239,{"$f":"'[2]80-89周岁公示'!B141","v":"柳星社区"},{"$f":"'[2]80-89周岁公示'!C141","v":"覃武昭"},{"$f":"'[2]80-89周岁公示'!D141","v":"男"},{"$f":"'[2]80-89周岁公示'!E141","v":80},{"$f":"'[2]80-89周岁公示'!F141","v":50},{"$f":"'[2]80-89周岁公示'!G141","v":"2025-08-29"}]
[240,{"$f":"'[2]80-89周岁公示'!B142","v":"柳星社区"},{"$f":"'[2]80-89周岁公示'!C142","v":"赖世德"},{"$f":"'[2]80-89周岁公示'!D142","v":"女"},{"$f":"'[2]80-89周岁公示'!E142","v":80},{"$f":"'[2]80-89周岁公示'!F142","v":50},{"$f":"'[2]80-89周岁公示'!G142","v":"2025-08-01"}]
[241,{"$f":"'[2]80-89周岁公示'!B143","v":"柳星社区"},{"$f":"'[2]80-89周岁公示'!C143","v":"吴惠琼"},{"$f":"'[2]80-89周岁公示'!D143","v":"女"},{"$f":"'[2]80-89周岁公示'!E143","v":80},{"$f":"'[2]80-89周岁公示'!F143","v":50},{"$f":"'[2]80-89周岁公示'!G143","v":"2025-08-23"}]
[242,{"$f":"'[2]80-89周岁公示'!B144","v":"柳星社区"},{"$f":"'[2]80-89周岁公示'!C144","v":"郑秀群"},{"$f":"'[2]80-89周岁公示'!D144","v":"女"},{"$f":"'[2]80-89周岁公示'!E144","v":80},{"$f":"'[2]80-89周岁公示'!F144","v":50},{"$f":"'[2]80-89周岁公示'!G144","v":"2025-08-29"}]
[243,{"$f":"'[2]80-89周岁公示'!B145","v":"柳星社区"},{"$f":"'[2]80-89周岁公示'!C145","v":"刘桂华"},{"$f":"'[2]80-89周岁公示'!D145","v":"男"},{"$f":"'[2]80-89周岁公示'!E145","v":80},{"$f":"'[2]80-89周岁公示'!F145","v":50},{"$f":"'[2]80-89周岁公示'!G145","v":"2025-08-01"}]
[244,{"$f":"'[2]80-89周岁公示'!B146","v":"柳星社区"},{"$f":"'[2]80-89周岁公示'!C146","v":"邵丽群"},{"$f":"'[2]80-89周岁公示'!D146","v":"女"},{"$f":"'[2]80-89周岁公示'!E146","v":80},{"$f":"'[2]80-89周岁公示'!F146","v":50},{"$f":"'[2]80-89周岁公示'!G146","v":"2025-08-23"}]
[245,{"$f":"'[2]80-89周岁公示'!B147","v":"柳星社区"},{"$f":"'[2]80-89周岁公示'!C147","v":"邝子彰"},{"$f":"'[2]80-89周岁公示'!D147","v":"男"},{"$f":"'[2]80-89周岁公示'!E147","v":80},{"$f":"'[2]80-89周岁公示'!F147","v":50},{"$f":"'[2]80-89周岁公示'!G147","v":"2025-08-01"}]
[246,{"$f":"'[3]80-89本月在册高龄公示名单  '!B4","v":"宏福社区"},{"$f":"'[3]80-89本月在册高龄公示名单  '!C4","v":"何还南"},{"$f":"'[3]80-89本月在册高龄公示名单  '!D4","v":"男"},{"$f":"'[3]80-89本月在册高龄公示名单  '!E4","v":84},{"$f":"'[3]80-89本月在册高龄公示名单  '!F4","v":50},{"$f":"'[3]80-89本月在册高龄公示名单  '!G4","v":"2025-08-10"}]
[247,{"$f":"'[3]80-89本月在册高龄公示名单  '!B5","v":"宏福社区"},{"$f":"'[3]80-89本月在册高龄公示名单  '!C5","v":"刘小香"},{"$f":"'[3]80-89本月在册高龄公示名单  '!D5","v":"女"},{"$f":"'[3]80-89本月在册高龄公示名单  '!E5","v":88},{"$f":"'[3]80-89本月在册高龄公示名单  '!F5","v":50},{"$f":"'[3]80-89本月在册高龄公示名单  '!G5","v":"2025-08-10"}]
[248,{"$f":"'[3]80-89本月在册高龄公示名单  '!B6","v":"宏福社区"},{"$f":"'[3]80-89本月在册高龄公示名单  '!C6","v":"姚兴振"},{"$f":"'[3]80-89本月在册高龄公示名单  '!D6","v":"男"},{"$f":"'[3]80-89本月在册高龄公示名单  '!E6","v":85},{"$f":"'[3]80-89本月在册高龄公示名单  '!F6","v":50},{"$f":"'[3]80-89本月在册高龄公示名单  '!G6","v":"2025-08-10"}]
[249,{"$f":"'[3]80-89本月在册高龄公示名单  '!B7","v":"宏福社区"},{"$f":"'[3]80-89本月在册高龄公示名单  '!C7","v":"黄玉娟"},{"$f":"'[3]80-89本月在册高龄公示名单  '!D7","v":"女"},{"$f":"'[3]80-89本月在册高龄公示名单  '!E7","v":85},{"$f":"'[3]80-89本月在册高龄公示名单  '!F7","v":50},{"$f":"'[3]80-89本月在册高龄公示名单  '!G7","v":"2025-08-10"}]
[250,{"$f":"'[3]80-89本月在册高龄公示名单  '!B8","v":"宏福社区"},{"$f":"'[3]80-89本月在册高龄公示名单  '!C8","v":"范学美"},{"$f":"'[3]80-89本月在册高龄公示名单  '!D8","v":"女"},{"$f":"'[3]80-89本月在册高龄公示名单  '!E8","v":89},{"$f":"'[3]80-89本月在册高龄公示名单  '!F8","v":50},{"$f":"'[3]80-89本月在册高龄公示名单  '!G8","v":"2025-08-10"}]
[251,{"$f":"'[3]80-89本月在册高龄公示名单  '!B9","v":"宏福社区"},{"$f":"'[3]80-89本月在册高龄公示名单  '!C9","v":"张秀英"},{"$f":"'[3]80-89本月在册高龄公示名单  '!D9","v":"女"},{"$f":"'[3]80-89本月在册高龄公示名单  '!E9","v":88},{"$f":"'[3]80-89本月在册高龄公示名单  '!F9","v":50},{"$f":"'[3]80-89本月在册高龄公示名单  '!G9","v":"2025-08-10"}]
[252,{"$f":"'[3]80-89本月在册高龄公示名单  '!B10","v":"宏福社区"},{"$f":"'[3]80-89本月在册高龄公示名单  '!C10","v":"曾阳淑"},{"$f":"'[3]80-89本月在册高龄公示名单  '!D10","v":"女"},{"$f":"'[3]80-89本月在册高龄公示名单  '!E10","v":82},{"$f":"'[3]80-89本月在册高龄公示名单  '!F10","v":50},{"$f":"'[3]80-89本月在册高龄公示名单  '!G10","v":"2025-08-10"}]
[253,{"$f":"'[3]80-89本月在册高龄公示名单  '!B11","v":"宏福社区"},{"$f":"'[3]80-89本月在册高龄公示名单  '!C11","v":"赖桂华"},{"$f":"'[3]80-89本月在册高龄公示名单  '!D11","v":"女"},{"$f":"'[3]80-89本月在册高龄公示名单  '!E11","v":82},{"$f":"'[3]80-89本月在册高龄公示名单  '!F11","v":50},{"$f":"'[3]80-89本月在册高龄公示名单  '!G11","v":"2025-08-10"}]
[254,{"$f":"'[3]80-89本月在册高龄公示名单  '!B12","v":"宏福社区"},{"$f":"'[3]80-89本月在册高龄公示名单  '!C12","v":"莫少英"},{"$f":"'[3]80-89本月在册高龄公示名单  '!D12","v":"女"},{"$f":"'[3]80-89本月在册高龄公示名单  '!E12","v":85},{"$f":"'[3]80-89本月在册高龄公示名单  '!F12","v":50},{"$f":"'[3]80-89本月在册高龄公示名单  '!G12","v":"2025-08-10"}]
[255,{"$f":"'[3]80-89本月在册高龄公示名单  '!B13","v":"宏福社区"},{"$f":"'[3]80-89本月在册高龄公示名单  '!C13","v":"李永业"},{"$f":"'[3]80-89本月在册高龄公示名单  '!D13","v":"男"},{"$f":"'[3]80-89本月在册高龄公示名单  '!E13","v":84},{"$f":"'[3]80-89本月在册高龄公示名单  '!F13","v":50},{"$f":"'[3]80-89本月在册高龄公示名单  '!G13","v":"2025-08-10"}]
[256,{"$f":"'[3]80-89本月在册高龄公示名单  '!B14","v":"宏福社区"},{"$f":"'[3]80-89本月在册高龄公示名单  '!C14","v":"李琼环"},{"$f":"'[3]80-89本月在册高龄公示名单  '!D14","v":"男"},{"$f":"'[3]80-89本月在册高龄公示名单  '!E14","v":87},{"$f":"'[3]80-89本月在册高龄公示名单  '!F14","v":50},{"$f":"'[3]80-89本月在册高龄公示名单  '!G14","v":"2025-08-10"}]
[257,{"$f":"'[3]80-89本月在册高龄公示名单  '!B15","v":"宏福社区"},{"$f":"'[3]80-89本月在册高龄公示名单  '!C15","v":"张仕龙"},{"$f":"'[3]80-89本月在册高龄公示名单  '!D15","v":"男"},{"$f":"'[3]80-89本月在册高龄公示名单  '!E15","v":86},{"$f":"'[3]80-89本月在册高龄公示名单  '!F15","v":50},{"$f":"'[3]80-89本月在册高龄公示名单  '!G15","v":"2025-08-10"}]
[258,{"$f":"'[3]80-89本月在册高龄公示名单  '!B16","v":"宏福社区"},{"$f":"'[3]80-89本月在册高龄公示名单  '!C16","v":"滕承胤"},{"$f":"'[3]80-89本月在册高龄公示名单  '!D16","v":"男"},{"$f":"'[3]80-89本月在册高龄公示名单  '!E16","v":89},{"$f":"'[3]80-89本月在册高龄公示名单  '!F16","v":50},{"$f":"'[3]80-89本月在册高龄公示名单  '!G16","v":"2025-08-10"}]
[259,{"$f":"'[3]80-89本月在册高龄公示名单  '!B17","v":"宏福社区"},{"$f":"'[3]80-89本月在册高龄公示名单  '!C17","v":"吴文兰"},{"$f":"'[3]80-89本月在册高龄公示名单  '!D17","v":"女"},{"$f":"'[3]80-89本月在册高龄公示名单  '!E17","v":87},{"$f":"'[3]80-89本月在册高龄公示名单  '!F17","v":50},{"$f":"'[3]80-89本月在册高龄公示名单  '!G17","v":"2025-08-10"}]
[260,{"$f":"'[3]80-89本月在册高龄公示名单  '!B18","v":"宏福社区"},{"$f":"'[3]80-89本月在册高龄公示名单  '!C18","v":"杨万焕"},{"$f":"'[3]80-89本月在册高龄公示名单  '!D18","v":"男"},{"$f":"'[3]80-89本月在册高龄公示名单  '!E18","v":84},{"$f":"'[3]80-89本月在册高龄公示名单  '!F18","v":50},{"$f":"'[3]80-89本月在册高龄公示名单  '!G18","v":"2025-08-10"}]
[261,{"$f":"'[3]80-89本月在册高龄公示名单  '!B19","v":"宏福社区"},{"$f":"'[3]80-89本月在册高龄公示名单  '!C19","v":"陈锋"},{"$f":"'[3]80-89本月在册高龄公示名单  '!D19","v":"男"},{"$f":"'[3]80-89本月在册高龄公示名单  '!E19","v":83},{"$f":"'[3]80-89本月在册高龄公示名单  '!F19","v":50},{"$f":"'[3]80-89本月在册高龄公示名单  '!G19","v":"2025-08-10"}]
[262,{"$f":"'[3]80-89本月在册高龄公示名单  '!B20","v":"宏福社区"},{"$f":"'[3]80-89本月在册高龄公示名单  '!C20","v":"罗国光"},{"$f":"'[3]80-89本月在册高龄公示名单  '!D20","v":"男"},{"$f":"'[3]80-89本月在册高龄公示名单  '!E20","v":84},{"$f":"'[3]80-89本月在册高龄公示名单  '!F20","v":50},{"$f":"'[3]80-89本月在册高龄公示名单  '!G20","v":"2025-08-10"}]
[263,{"$f":"'[3]80-89本月在册高龄公示名单  '!B21","v":"宏福社区"},{"$f":"'[3]80-89本月在册高龄公示名单  '!C21","v":"封长城"},{"$f":"'[3]80-89本月在册高龄公示名单  '!D21","v":"男"},{"$f":"'[3]80-89本月在册高龄公示名单  '!E21","v":84},{"$f":"'[3]80-89本月在册高龄公示名单  '!F21","v":50},{"$f":"'[3]80-89本月在册高龄公示名单  '!G21","v":"2025-08-10"}]
[264,{"$f":"'[3]80-89本月在册高龄公示名单  '!B22","v":"宏福社区"},{"$f":"'[3]80-89本月在册高龄公示名单  '!C22","v":"谭秉橦"},{"$f":"'[3]80-89本月在册高龄公示名单  '!D22","v":"男"},{"$f":"'[3]80-89本月在册高龄公示名单  '!E22","v":88},{"$f":"'[3]80-89本月在册高龄公示名单  '!F22","v":50},{"$f":"'[3]80-89本月在册高龄公示名单  '!G22","v":"2025-08-10"}]
[265,{"$f":"'[3]80-89本月在册高龄公示名单  '!B23","v":"宏福社区"},{"$f":"'[3]80-89本月在册高龄公示名单  '!C23","v":"唐超安"},{"$f":"'[3]80-89本月在册高龄公示名单  '!D23","v":"男"},{"$f":"'[3]80-89本月在册高龄公示名单  '!E23","v":83},{"$f":"'[3]80-89本月在册高龄公示名单  '!F23","v":50},{"$f":"'[3]80-89本月在册高龄公示名单  '!G23","v":"2025-08-10"}]
[266,{"$f":"'[3]80-89本月在册高龄公示名单  '!B24","v":"宏福社区"},{"$f":"'[3]80-89本月在册高龄公示名单  '!C24","v":"容贤英"},{"$f":"'[3]80-89本月在册高龄公示名单  '!D24","v":"女"},{"$f":"'[3]80-89本月在册高龄公示名单  '!E24","v":84},{"$f":"'[3]80-89本月在册高龄公示名单  '!F24","v":50},{"$f":"'[3]80-89本月在册高龄公示名单  '!G24","v":"2025-08-10"}]
[267,{"$f":"'[3]80-89本月在册高龄公示名单  '!B25","v":"宏福社区"},{"$f":"'[3]80-89本月在册高龄公示名单  '!C25","v":"高守贤"},{"$f":"'[3]80-89本月在册高龄公示名单  '!D25","v":"女"},{"$f":"'[3]80-89本月在册高龄公示名单  '!E25","v":86},{"$f":"'[3]80-89本月在册高龄公示名单  '!F25","v":50},{"$f":"'[3]80-89本月在册高龄公示名单  '!G25","v":"2025-08-10"}]
[268,{"$f":"'[3]80-89本月在册高龄公示名单  '!B26","v":"宏福社区"},{"$f":"'[3]80-89本月在册高龄公示名单  '!C26","v":"宋正斌"},{"$f":"'[3]80-89本月在册高龄公示名单  '!D26","v":"男"},{"$f":"'[3]80-89本月在册高龄公示名单  '!E26","v":84},{"$f":"'[3]80-89本月在册高龄公示名单  '!F26","v":50},{"$f":"'[3]80-89本月在册高龄公示名单  '!G26","v":"2025-08-10"}]
[269,{"$f":"'[3]80-89本月在册高龄公示名单  '!B27","v":"宏福社区"},{"$f":"'[3]80-89本月在册高龄公示名单  '!C27","v":"张仙琴"},{"$f":"'[3]80-89本月在册高龄公示名单  '!D27","v":"女"},{"$f":"'[3]80-89本月在册高龄公示名单  '!E27","v":84},{"$f":"'[3]80-89本月在册高龄公示名单  '!F27","v":50},{"$f":"'[3]80-89本月在册高龄公示名单  '!G27","v":"2025-08-10"}]
[270,{"$f":"'[3]80-89本月在册高龄公示名单  '!B28","v":"宏福社区"},{"$f":"'[3]80-89本月在册高龄公示名单  '!C28","v":"梁健芬"},{"$f":"'[3]80-89本月在册高龄公示名单  '!D28","v":"女"},{"$f":"'[3]80-89本月在册高龄公示名单  '!E28","v":87},{"$f":"'[3]80-89本月在册高龄公示名单  '!F28","v":50},{"$f":"'[3]80-89本月在册高龄公示名单  '!G28","v":"2025-08-10"}]
[271,{"$f":"'[3]80-89本月在册高龄公示名单  '!B29","v":"宏福社区"},{"$f":"'[3]80-89本月在册高龄公示名单  '!C29","v":"梁家隆"},{"$f":"'[3]80-89本月在册高龄公示名单  '!D29","v":"男"},{"$f":"'[3]80-89本月在册高龄公示名单  '!E29","v":85},{"$f":"'[3]80-89本月在册高龄公示名单  '!F29","v":50},{"$f":"'[3]80-89本月在册高龄公示名单  '!G29","v":"2025-08-10"}]
[272,{"$f":"'[3]80-89本月在册高龄公示名单  '!B30","v":"宏福社区"},{"$f":"'[3]80-89本月在册高龄公示名单  '!C30","v":"荣肖娟"},{"$f":"'[3]80-89本月在册高龄公示名单  '!D30","v":"女"},{"$f":"'[3]80-89本月在册高龄公示名单  '!E30","v":84},{"$f":"'[3]80-89本月在册高龄公示名单  '!F30","v":50},{"$f":"'[3]80-89本月在册高龄公示名单  '!G30","v":"2025-08-10"}]
[273,{"$f":"'[3]80-89本月在册高龄公示名单  '!B31","v":"宏福社区"},{"$f":"'[3]80-89本月在册高龄公示名单  '!C31","v":"黄元振"},{"$f":"'[3]80-89本月在册高龄公示名单  '!D31","v":"男"},{"$f":"'[3]80-89本月在册高龄公示名单  '!E31","v":84},{"$f":"'[3]80-89本月在册高龄公示名单  '!F31","v":50},{"$f":"'[3]80-89本月在册高龄公示名单  '!G31","v":"2025-08-10"}]
[274,{"$f":"'[3]80-89本月在册高龄公示名单  '!B32","v":"宏福社区"},{"$f":"'[3]80-89本月在册高龄公示名单  '!C32","v":"蒙楚平"},{"$f":"'[3]80-89本月在册高龄公示名单  '!D32","v":"男"},{"$f":"'[3]80-89本月在册高龄公示名单  '!E32","v":84},{"$f":"'[3]80-89本月在册高龄公示名单  '!F32","v":50},{"$f":"'[3]80-89本月在册高龄公示名单  '!G32","v":"2025-08-10"}]
[275,{"$f":"'[3]80-89本月在册高龄公示名单  '!B33","v":"宏福社区"},{"$f":"'[3]80-89本月在册高龄公示名单  '!C33","v":"曾奇英"},{"$f":"'[3]80-89本月在册高龄公示名单  '!D33","v":"女"},{"$f":"'[3]80-89本月在册高龄公示名单  '!E33","v":84},{"$f":"'[3]80-89本月在册高龄公示名单  '!F33","v":50},{"$f":"'[3]80-89本月在册高龄公示名单  '!G33","v":"2025-08-10"}]
[276,{"$f":"'[3]80-89本月在册高龄公示名单  '!B34","v":"宏福社区"},{"$f":"'[3]80-89本月在册高龄公示名单  '!C34","v":"李逢桂"},{"$f":"'[3]80-89本月在册高龄公示名单  '!D34","v":"男"},{"$f":"'[3]80-89本月在册高龄公示名单  '!E34","v":84},{"$f":"'[3]80-89本月在册高龄公示名单  '!F34","v":50},{"$f":"'[3]80-89本月在册高龄公示名单  '!G34","v":"2025-08-10"}]
[277,{"$f":"'[3]80-89本月在册高龄公示名单  '!B35","v":"宏福社区"},{"$f":"'[3]80-89本月在册高龄公示名单  '!C35","v":"李锦沅"},{"$f":"'[3]80-89本月在册高龄公示名单  '!D35","v":"男"},{"$f":"'[3]80-89本月在册高龄公示名单  '!E35","v":87},{"$f":"'[3]80-89本月在册高龄公示名单  '!F35","v":50},{"$f":"'[3]80-89本月在册高龄公示名单  '!G35","v":"2025-08-10"}]
[278,{"$f":"'[3]80-89本月在册高龄公示名单  '!B36","v":"宏福社区"},{"$f":"'[3]80-89本月在册高龄公示名单  '!C36","v":"覃淑华"},{"$f":"'[3]80-89本月在册高龄公示名单  '!D36","v":"女"},{"$f":"'[3]80-89本月在册高龄公示名单  '!E36","v":85},{"$f":"'[3]80-89本月在册高龄公示名单  '!F36","v":50},{"$f":"'[3]80-89本月在册高龄公示名单  '!G36","v":"2025-08-10"}]
[279,{"$f":"'[3]80-89本月在册高龄公示名单  '!B37","v":"宏福社区"},{"$f":"'[3]80-89本月在册高龄公示名单  '!C37","v":"肖翠鸾"},{"$f":"'[3]80-89本月在册高龄公示名单  '!D37","v":"女"},{"$f":"'[3]80-89本月在册高龄公示名单  '!E37","v":84},{"$f":"'[3]80-89本月在册高龄公示名单  '!F37","v":50},{"$f":"'[3]80-89本月在册高龄公示名单  '!G37","v":"2025-08-10"}]
[280,{"$f":"'[3]80-89本月在册高龄公示名单  '!B38","v":"宏福社区"},{"$f":"'[3]80-89本月在册高龄公示名单  '!C38","v":"梁玉英"},{"$f":"'[3]80-89本月在册高龄公示名单  '!D38","v":"女"},{"$f":"'[3]80-89本月在册高龄公示名单  '!E38","v":81},{"$f":"'[3]80-89本月在册高龄公示名单  '!F38","v":50},{"$f":"'[3]80-89本月在册高龄公示名单  '!G38","v":"2025-08-10"}]
[281,{"$f":"'[3]80-89本月在册高龄公示名单  '!B39","v":"宏福社区"},{"$f":"'[3]80-89本月在册高龄公示名单  '!C39","v":"古维吉"},{"$f":"'[3]80-89本月在册高龄公示名单  '!D39","v":"男"},{"$f":"'[3]80-89本月在册高龄公示名单  '!E39","v":84},{"$f":"'[3]80-89本月在册高龄公示名单  '!F39","v":50},{"$f":"'[3]80-89本月在册高龄公示名单  '!G39","v":"2025-08-10"}]
[282,{"$f":"'[3]80-89本月在册高龄公示名单  '!B40","v":"宏福社区"},{"$f":"'[3]80-89本月在册高龄公示名单  '!C40","v":"邓民训"},{"$f":"'[3]80-89本月在册高龄公示名单  '!D40","v":"女"},{"$f":"'[3]80-89本月在册高龄公示名单  '!E40","v":85},{"$f":"'[3]80-89本月在册高龄公示名单  '!F40","v":50},{"$f":"'[3]80-89本月在册高龄公示名单  '!G40","v":"2025-08-10"}]
[283,{"$f":"'[3]80-89本月在册高龄公示名单  '!B41","v":"宏福社区"},{"$f":"'[3]80-89本月在册高龄公示名单  '!C41","v":"张国威"},{"$f":"'[3]80-89本月在册高龄公示名单  '!D41","v":"男"},{"$f":"'[3]80-89本月在册高龄公示名单  '!E41","v":88},{"$f":"'[3]80-89本月在册高龄公示名单  '!F41","v":50},{"$f":"'[3]80-89本月在册高龄公示名单  '!G41","v":"2025-08-10"}]
[284,{"$f":"'[3]80-89本月在册高龄公示名单  '!B42","v":"宏福社区"},{"$f":"'[3]80-89本月在册高龄公示名单  '!C42","v":"覃玉珍"},{"$f":"'[3]80-89本月在册高龄公示名单  '!D42","v":"女"},{"$f":"'[3]80-89本月在册高龄公示名单  '!E42","v":89},{"$f":"'[3]80-89本月在册高龄公示名单  '!F42","v":50},{"$f":"'[3]80-89本月在册高龄公示名单  '!G42","v":"2025-08-10"}]
[285,{"$f":"'[3]80-89本月在册高龄公示名单  '!B43","v":"宏福社区"},{"$f":"'[3]80-89本月在册高龄公示名单  '!C43","v":"许俊英"},{"$f":"'[3]80-89本月在册高龄公示名单  '!D43","v":"女"},{"$f":"'[3]80-89本月在册高龄公示名单  '!E43","v":89},{"$f":"'[3]80-89本月在册高龄公示名单  '!F43","v":50},{"$f":"'[3]80-89本月在册高龄公示名单  '!G43","v":"2025-08-10"}]
[286,{"$f":"'[3]80-89本月在册高龄公示名单  '!B44","v":"宏福社区"},{"$f":"'[3]80-89本月在册高龄公示名单  '!C44","v":"张凤英"},{"$f":"'[3]80-89本月在册高龄公示名单  '!D44","v":"女"},{"$f":"'[3]80-89本月在册高龄公示名单  '!E44","v":86},{"$f":"'[3]80-89本月在册高龄公示名单  '!F44","v":50},{"$f":"'[3]80-89本月在册高龄公示名单  '!G44","v":"2025-08-10"}]
[287,{"$f":"'[3]80-89本月在册高龄公示名单  '!B45","v":"宏福社区"},{"$f":"'[3]80-89本月在册高龄公示名单  '!C45","v":"覃春球"},{"$f":"'[3]80-89本月在册高龄公示名单  '!D45","v":"男"},{"$f":"'[3]80-89本月在册高龄公示名单  '!E45","v":86},{"$f":"'[3]80-89本月在册高龄公示名单  '!F45","v":50},{"$f":"'[3]80-89本月在册高龄公示名单  '!G45","v":"2025-08-10"}]
[288,{"$f":"'[3]80-89本月在册高龄公示名单  '!B46","v":"宏福社区"},{"$f":"'[3]80-89本月在册高龄公示名单  '!C46","v":"李玉梅"},{"$f":"'[3]80-89本月在册高龄公示名单  '!D46","v":"女"},{"$f":"'[3]80-89本月在册高龄公示名单  '!E46","v":87},{"$f":"'[3]80-89本月在册高龄公示名单  '!F46","v":50},{"$f":"'[3]80-89本月在册高龄公示名单  '!G46","v":"2025-08-10"}]
[289,{"$f":"'[3]80-89本月在册高龄公示名单  '!B47","v":"宏福社区"},{"$f":"'[3]80-89本月在册高龄公示名单  '!C47","v":"巴灵芝"},{"$f":"'[3]80-89本月在册高龄公示名单  '!D47","v":"女"},{"$f":"'[3]80-89本月在册高龄公示名单  '!E47","v":87},{"$f":"'[3]80-89本月在册高龄公示名单  '!F47","v":50},{"$f":"'[3]80-89本月在册高龄公示名单  '!G47","v":"2025-08-10"}]
[290,{"$f":"'[3]80-89本月在册高龄公示名单  '!B48","v":"宏福社区"},{"$f":"'[3]80-89本月在册高龄公示名单  '!C48","v":"伏广富"},{"$f":"'[3]80-89本月在册高龄公示名单  '!D48","v":"男"},{"$f":"'[3]80-89本月在册高龄公示名单  '!E48","v":89},{"$f":"'[3]80-89本月在册高龄公示名单  '!F48","v":50},{"$f":"'[3]80-89本月在册高龄公示名单  '!G48","v":"2025-08-10"}]
[291,{"$f":"'[3]80-89本月在册高龄公示名单  '!B49","v":"宏福社区"},{"$f":"'[3]80-89本月在册高龄公示名单  '!C49","v":"黄秀月"},{"$f":"'[3]80-89本月在册高龄公示名单  '!D49","v":"女"},{"$f":"'[3]80-89本月在册高龄公示名单  '!E49","v":84},{"$f":"'[3]80-89本月在册高龄公示名单  '!F49","v":50},{"$f":"'[3]80-89本月在册高龄公示名单  '!G49","v":"2025-08-10"}]
[292,{"$f":"'[3]80-89本月在册高龄公示名单  '!B50","v":"宏福社区"},{"$f":"'[3]80-89本月在册高龄公示名单  '!C50","v":"彭月秀"},{"$f":"'[3]80-89本月在册高龄公示名单  '!D50","v":"女"},{"$f":"'[3]80-89本月在册高龄公示名单  '!E50","v":88},{"$f":"'[3]80-89本月在册高龄公示名单  '!F50","v":50},{"$f":"'[3]80-89本月在册高龄公示名单  '!G50","v":"2025-08-10"}]
[293,{"$f":"'[3]80-89本月在册高龄公示名单  '!B51","v":"宏福社区"},{"$f":"'[3]80-89本月在册高龄公示名单  '!C51","v":"韦素芹"},{"$f":"'[3]80-89本月在册高龄公示名单  '!D51","v":"女"},{"$f":"'[3]80-89本月在册高龄公示名单  '!E51","v":88},{"$f":"'[3]80-89本月在册高龄公示名单  '!F51","v":50},{"$f":"'[3]80-89本月在册高龄公示名单  '!G51","v":"2025-08-10"}]
[294,{"$f":"'[3]80-89本月在册高龄公示名单  '!B52","v":"宏福社区"},{"$f":"'[3]80-89本月在册高龄公示名单  '!C52","v":"石桂容"},{"$f":"'[3]80-89本月在册高龄公示名单  '!D52","v":"女"},{"$f":"'[3]80-89本月在册高龄公示名单  '!E52","v":88},{"$f":"'[3]80-89本月在册高龄公示名单  '!F52","v":50},{"$f":"'[3]80-89本月在册高龄公示名单  '!G52","v":"2025-08-10"}]
[295,{"$f":"'[3]80-89本月在册高龄公示名单  '!B53","v":"宏福社区"},{"$f":"'[3]80-89本月在册高龄公示名单  '!C53","v":"胡桂英"},{"$f":"'[3]80-89本月在册高龄公示名单  '!D53","v":"女"},{"$f":"'[3]80-89本月在册高龄公示名单  '!E53","v":85},{"$f":"'[3]80-89本月在册高龄公示名单  '!F53","v":50},{"$f":"'[3]80-89本月在册高龄公示名单  '!G53","v":"2025-08-10"}]
[296,{"$f":"'[3]80-89本月在册高龄公示名单  '!B54","v":"宏福社区"},{"$f":"'[3]80-89本月在册高龄公示名单  '!C54","v":"石春秀"},{"$f":"'[3]80-89本月在册高龄公示名单  '!D54","v":"女"},{"$f":"'[3]80-89本月在册高龄公示名单  '!E54","v":86},{"$f":"'[3]80-89本月在册高龄公示名单  '!F54","v":50},{"$f":"'[3]80-89本月在册高龄公示名单  '!G54","v":"2025-08-10"}]
[297,{"$f":"'[3]80-89本月在册高龄公示名单  '!B55","v":"宏福社区"},{"$f":"'[3]80-89本月在册高龄公示名单  '!C55","v":"吴群芳"},{"$f":"'[3]80-89本月在册高龄公示名单  '!D55","v":"女"},{"$f":"'[3]80-89本月在册高龄公示名单  '!E55","v":86},{"$f":"'[3]80-89本月在册高龄公示名单  '!F55","v":50},{"$f":"'[3]80-89本月在册高龄公示名单  '!G55","v":"2025-08-10"}]
[298,{"$f":"'[3]80-89本月在册高龄公示名单  '!B56","v":"宏福社区"},{"$f":"'[3]80-89本月在册高龄公示名单  '!C56","v":"韦日新"},{"$f":"'[3]80-89本月在册高龄公示名单  '!D56","v":"男"},{"$f":"'[3]80-89本月在册高龄公示名单  '!E56","v":88},{"$f":"'[3]80-89本月在册高龄公示名单  '!F56","v":50},{"$f":"'[3]80-89本月在册高龄公示名单  '!G56","v":"2025-08-10"}]
[299,{"$f":"'[3]80-89本月在册高龄公示名单  '!B57","v":"宏福社区"},{"$f":"'[3]80-89本月在册高龄公示名单  '!C57","v":"韦桂凤"},{"$f":"'[3]80-89本月在册高龄公示名单  '!D57","v":"女"},{"$f":"'[3]80-89本月在册高龄公示名单  '!E57","v":84},{"$f":"'[3]80-89本月在册高龄公示名单  '!F57","v":50},{"$f":"'[3]80-89本月在册高龄公示名单  '!G57","v":"2025-08-10"}]
[300,{"$f":"'[3]80-89本月在册高龄公示名单  '!B58","v":"宏福社区"},{"$f":"'[3]80-89本月在册高龄公示名单  '!C58","v":"梁常甫"},{"$f":"'[3]80-89本月在册高龄公示名单  '!D58","v":"男"},{"$f":"'[3]80-89本月在册高龄公示名单  '!E58","v":85},{"$f":"'[3]80-89本月在册高龄公示名单  '!F58","v":50},{"$f":"'[3]80-89本月在册高龄公示名单  '!G58","v":"2025-08-10"}]
[301,{"$f":"'[3]80-89本月在册高龄公示名单  '!B59","v":"宏福社区"},{"$f":"'[3]80-89本月在册高龄公示名单  '!C59","v":"梁新阳"},{"$f":"'[3]80-89本月在册高龄公示名单  '!D59","v":"男"},{"$f":"'[3]80-89本月在册高龄公示名单  '!E59","v":85},{"$f":"'[3]80-89本月在册高龄公示名单  '!F59","v":50},{"$f":"'[3]80-89本月在册高龄公示名单  '!G59","v":"2025-08-10"}]
[302,{"$f":"'[3]80-89本月在册高龄公示名单  '!B60","v":"宏福社区"},{"$f":"'[3]80-89本月在册高龄公示名单  '!C60","v":"周啟权"},{"$f":"'[3]80-89本月在册高龄公示名单  '!D60","v":"男"},{"$f":"'[3]80-89本月在册高龄公示名单  '!E60","v":87},{"$f":"'[3]80-89本月在册高龄公示名单  '!F60","v":50},{"$f":"'[3]80-89本月在册高龄公示名单  '!G60","v":"2025-08-10"}]
[303,{"$f":"'[3]80-89本月在册高龄公示名单  '!B61","v":"宏福社区"},{"$f":"'[3]80-89本月在册高龄公示名单  '!C61","v":"邹世武"},{"$f":"'[3]80-89本月在册高龄公示名单  '!D61","v":"男"},{"$f":"'[3]80-89本月在册高龄公示名单  '!E61","v":83},{"$f":"'[3]80-89本月在册高龄公示名单  '!F61","v":50},{"$f":"'[3]80-89本月在册高龄公示名单  '!G61","v":"2025-08-10"}]
[304,{"$f":"'[3]80-89本月在册高龄公示名单  '!B62","v":"宏福社区"},{"$f":"'[3]80-89本月在册高龄公示名单  '!C62","v":"谢小娇"},{"$f":"'[3]80-89本月在册高龄公示名单  '!D62","v":"女"},{"$f":"'[3]80-89本月在册高龄公示名单  '!E62","v":84},{"$f":"'[3]80-89本月在册高龄公示名单  '!F62","v":50},{"$f":"'[3]80-89本月在册高龄公示名单  '!G62","v":"2025-08-10"}]
[305,{"$f":"'[3]80-89本月在册高龄公示名单  '!B63","v":"宏福社区"},{"$f":"'[3]80-89本月在册高龄公示名单  '!C63","v":"吴汉华"},{"$f":"'[3]80-89本月在册高龄公示名单  '!D63","v":"男"},{"$f":"'[3]80-89本月在册高龄公示名单  '!E63","v":83},{"$f":"'[3]80-89本月在册高龄公示名单  '!F63","v":50},{"$f":"'[3]80-89本月在册高龄公示名单  '!G63","v":"2025-08-10"}]
[306,{"$f":"'[3]80-89本月在册高龄公示名单  '!B64","v":"宏福社区"},{"$f":"'[3]80-89本月在册高龄公示名单  '!C64","v":"陈志明"},{"$f":"'[3]80-89本月在册高龄公示名单  '!D64","v":"男"},{"$f":"'[3]80-89本月在册高龄公示名单  '!E64","v":83},{"$f":"'[3]80-89本月在册高龄公示名单  '!F64","v":50},{"$f":"'[3]80-89本月在册高龄公示名单  '!G64","v":"2025-08-10"}]
[307,{"$f":"'[3]80-89本月在册高龄公示名单  '!B65","v":"宏福社区"},{"$f":"'[3]80-89本月在册高龄公示名单  '!C65","v":"刘才深"},{"$f":"'[3]80-89本月在册高龄公示名单  '!D65","v":"男"},{"$f":"'[3]80-89本月在册高龄公示名单  '!E65","v":83},{"$f":"'[3]80-89本月在册高龄公示名单  '!F65","v":50},{"$f":"'[3]80-89本月在册高龄公示名单  '!G65","v":"2025-08-10"}]
[308,{"$f":"'[3]80-89本月在册高龄公示名单  '!B66","v":"宏福社区"},{"$f":"'[3]80-89本月在册高龄公示名单  '!C66","v":"潘北清"},{"$f":"'[3]80-89本月在册高龄公示名单  '!D66","v":"男"},{"$f":"'[3]80-89本月在册高龄公示名单  '!E66","v":83},{"$f":"'[3]80-89本月在册高龄公示名单  '!F66","v":50},{"$f":"'[3]80-89本月在册高龄公示名单  '!G66","v":"2025-08-10"}]
[309,{"$f":"'[3]80-89本月在册高龄公示名单  '!B67","v":"宏福社区"},{"$f":"'[3]80-89本月在册高龄公示名单  '!C67","v":"党玉珍"},{"$f":"'[3]80-89本月在册高龄公示名单  '!D67","v":"女"},{"$f":"'[3]80-89本月在册高龄公示名单  '!E67","v":83},{"$f":"'[3]80-89本月在册高龄公示名单  '!F67","v":50},{"$f":"'[3]80-89本月在册高龄公示名单  '!G67","v":"2025-08-10"}]
[310,{"$f":"'[3]80-89本月在册高龄公示名单  '!B68","v":"宏福社区"},{"$f":"'[3]80-89本月在册高龄公示名单  '!C68","v":"罗家军"},{"$f":"'[3]80-89本月在册高龄公示名单  '!D68","v":"男"},{"$f":"'[3]80-89本月在册高龄公示名单  '!E68","v":83},{"$f":"'[3]80-89本月在册高龄公示名单  '!F68","v":50},{"$f":"'[3]80-89本月在册高龄公示名单  '!G68","v":"2025-08-10"}]
[311,{"$f":"'[3]80-89本月在册高龄公示名单  '!B69","v":"宏福社区"},{"$f":"'[3]80-89本月在册高龄公示名单  '!C69","v":"李成佑"},{"$f":"'[3]80-89本月在册高龄公示名单  '!D69","v":"男"},{"$f":"'[3]80-89本月在册高龄公示名单  '!E69","v":83},{"$f":"'[3]80-89本月在册高龄公示名单  '!F69","v":50},{"$f":"'[3]80-89本月在册高龄公示名单  '!G69","v":"2025-08-10"}]
[312,{"$f":"'[3]80-89本月在册高龄公示名单  '!B70","v":"宏福社区"},{"$f":"'[3]80-89本月在册高龄公示名单  '!C70","v":"庞瑞聪"},{"$f":"'[3]80-89本月在册高龄公示名单  '!D70","v":"女"},{"$f":"'[3]80-89本月在册高龄公示名单  '!E70","v":83},{"$f":"'[3]80-89本月在册高龄公示名单  '!F70","v":50},{"$f":"'[3]80-89本月在册高龄公示名单  '!G70","v":"2025-08-10"}]
[313,{"$f":"'[3]80-89本月在册高龄公示名单  '!B71","v":"宏福社区"},{"$f":"'[3]80-89本月在册高龄公示名单  '!C71","v":"金凤梅"},{"$f":"'[3]80-89本月在册高龄公示名单  '!D71","v":"女"},{"$f":"'[3]80-89本月在册高龄公示名单  '!E71","v":83},{"$f":"'[3]80-89本月在册高龄公示名单  '!F71","v":50},{"$f":"'[3]80-89本月在册高龄公示名单  '!G71","v":"2025-08-10"}]
[314,{"$f":"'[3]80-89本月在册高龄公示名单  '!B72","v":"宏福社区"},{"$f":"'[3]80-89本月在册高龄公示名单  '!C72","v":"王招娣"},{"$f":"'[3]80-89本月在册高龄公示名单  '!D72","v":"女"},{"$f":"'[3]80-89本月在册高龄公示名单  '!E72","v":83},{"$f":"'[3]80-89本月在册高龄公示名单  '!F72","v":50},{"$f":"'[3]80-89本月在册高龄公示名单  '!G72","v":"2025-08-10"}]
[315,{"$f":"'[3]80-89本月在册高龄公示名单  '!B73","v":"宏福社区"},{"$f":"'[3]80-89本月在册高龄公示名单  '!C73","v":"覃少连"},{"$f":"'[3]80-89本月在册高龄公示名单  '!D73","v":"女"},{"$f":"'[3]80-89本月在册高龄公示名单  '!E73","v":83},{"$f":"'[3]80-89本月在册高龄公示名单  '!F73","v":50},{"$f":"'[3]80-89本月在册高龄公示名单  '!G73","v":"2025-08-10"}]
[316,{"$f":"'[3]80-89本月在册高龄公示名单  '!B74","v":"宏福社区"},{"$f":"'[3]80-89本月在册高龄公示名单  '!C74","v":"周光胜"},{"$f":"'[3]80-89本月在册高龄公示名单  '!D74","v":"女"},{"$f":"'[3]80-89本月在册高龄公示名单  '!E74","v":83},{"$f":"'[3]80-89本月在册高龄公示名单  '!F74","v":50},{"$f":"'[3]80-89本月在册高龄公示名单  '!G74","v":"2025-08-10"}]
[317,{"$f":"'[3]80-89本月在册高龄公示名单  '!B75","v":"宏福社区"},{"$f":"'[3]80-89本月在册高龄公示名单  '!C75","v":"李土娇"},{"$f":"'[3]80-89本月在册高龄公示名单  '!D75","v":"女"},{"$f":"'[3]80-89本月在册高龄公示名单  '!E75","v":82},{"$f":"'[3]80-89本月在册高龄公示名单  '!F75","v":50},{"$f":"'[3]80-89本月在册高龄公示名单  '!G75","v":"2025-08-10"}]
[318,{"$f":"'[3]80-89本月在册高龄公示名单  '!B76","v":"宏福社区"},{"$f":"'[3]80-89本月在册高龄公示名单  '!C76","v":"郑秀成"},{"$f":"'[3]80-89本月在册高龄公示名单  '!D76","v":"女"},{"$f":"'[3]80-89本月在册高龄公示名单  '!E76","v":82},{"$f":"'[3]80-89本月在册高龄公示名单  '!F76","v":50},{"$f":"'[3]80-89本月在册高龄公示名单  '!G76","v":"2025-08-10"}]
[319,{"$f":"'[3]80-89本月在册高龄公示名单  '!B77","v":"宏福社区"},{"$f":"'[3]80-89本月在册高龄公示名单  '!C77","v":"李荣珍"},{"$f":"'[3]80-89本月在册高龄公示名单  '!D77","v":"女"},{"$f":"'[3]80-89本月在册高龄公示名单  '!E77","v":82},{"$f":"'[3]80-89本月在册高龄公示名单  '!F77","v":50},{"$f":"'[3]80-89本月在册高龄公示名单  '!G77","v":"2025-08-10"}]
[320,{"$f":"'[3]80-89本月在册高龄公示名单  '!B78","v":"宏福社区"},{"$f":"'[3]80-89本月在册高龄公示名单  '!C78","v":"杜蓉珍"},{"$f":"'[3]80-89本月在册高龄公示名单  '!D78","v":"女"},{"$f":"'[3]80-89本月在册高龄公示名单  '!E78","v":82},{"$f":"'[3]80-89本月在册高龄公示名单  '!F78","v":50},{"$f":"'[3]80-89本月在册高龄公示名单  '!G78","v":"2025-08-10"}]
[321,{"$f":"'[3]80-89本月在册高龄公示名单  '!B79","v":"宏福社区"},{"$f":"'[3]80-89本月在册高龄公示名单  '!C79","v":"楼友康"},{"$f":"'[3]80-89本月在册高龄公示名单  '!D79","v":"男"},{"$f":"'[3]80-89本月在册高龄公示名单  '!E79","v":82},{"$f":"'[3]80-89本月在册高龄公示名单  '!F79","v":50},{"$f":"'[3]80-89本月在册高龄公示名单  '!G79","v":"2025-08-10"}]
[322,{"$f":"'[3]80-89本月在册高龄公示名单  '!B80","v":"宏福社区"},{"$f":"'[3]80-89本月在册高龄公示名单  '!C80","v":"林海生"},{"$f":"'[3]80-89本月在册高龄公示名单  '!D80","v":"男"},{"$f":"'[3]80-89本月在册高龄公示名单  '!E80","v":83},{"$f":"'[3]80-89本月在册高龄公示名单  '!F80","v":50},{"$f":"'[3]80-89本月在册高龄公示名单  '!G80","v":"2025-08-10"}]
[323,{"$f":"'[3]80-89本月在册高龄公示名单  '!B81","v":"宏福社区"},{"$f":"'[3]80-89本月在册高龄公示名单  '!C81","v":"王玉华"},{"$f":"'[3]80-89本月在册高龄公示名单  '!D81","v":"女"},{"$f":"'[3]80-89本月在册高龄公示名单  '!E81","v":82},{"$f":"'[3]80-89本月在册高龄公示名单  '!F81","v":50},{"$f":"'[3]80-89本月在册高龄公示名单  '!G81","v":"2025-08-10"}]
[324,{"$f":"'[3]80-89本月在册高龄公示名单  '!B82","v":"宏福社区"},{"$f":"'[3]80-89本月在册高龄公示名单  '!C82","v":"孙志全"},{"$f":"'[3]80-89本月在册高龄公示名单  '!D82","v":"男"},{"$f":"'[3]80-89本月在册高龄公示名单  '!E82","v":83},{"$f":"'[3]80-89本月在册高龄公示名单  '!F82","v":50},{"$f":"'[3]80-89本月在册高龄公示名单  '!G82","v":"2025-08-10"}]
[325,{"$f":"'[3]80-89本月在册高龄公示名单  '!B83","v":"宏福社区"},{"$f":"'[3]80-89本月在册高龄公示名单  '!C83","v":"黄建芳"},{"$f":"'[3]80-89本月在册高龄公示名单  '!D83","v":"男"},{"$f":"'[3]80-89本月在册高龄公示名单  '!E83","v":82},{"$f":"'[3]80-89本月在册高龄公示名单  '!F83","v":50},{"$f":"'[3]80-89本月在册高龄公示名单  '!G83","v":"2025-08-10"}]
[326,{"$f":"'[3]80-89本月在册高龄公示名单  '!B84","v":"宏福社区"},{"$f":"'[3]80-89本月在册高龄公示名单  '!C84","v":"兰亚寒"},{"$f":"'[3]80-89本月在册高龄公示名单  '!D84","v":"男"},{"$f":"'[3]80-89本月在册高龄公示名单  '!E84","v":82},{"$f":"'[3]80-89本月在册高龄公示名单  '!F84","v":50},{"$f":"'[3]80-89本月在册高龄公示名单  '!G84","v":"2025-08-10"}]
[327,{"$f":"'[3]80-89本月在册高龄公示名单  '!B85","v":"宏福社区"},{"$f":"'[3]80-89本月在册高龄公示名单  '!C85","v":"黄建凤"},{"$f":"'[3]80-89本月在册高龄公示名单  '!D85","v":"女"},{"$f":"'[3]80-89本月在册高龄公示名单  '!E85","v":82},{"$f":"'[3]80-89本月在册高龄公示名单  '!F85","v":50},{"$f":"'[3]80-89本月在册高龄公示名单  '!G85","v":"2025-08-10"}]
[328,{"$f":"'[3]80-89本月在册高龄公示名单  '!B86","v":"宏福社区"},{"$f":"'[3]80-89本月在册高龄公示名单  '!C86","v":"吴常美"},{"$f":"'[3]80-89本月在册高龄公示名单  '!D86","v":"女"},{"$f":"'[3]80-89本月在册高龄公示名单  '!E86","v":82},{"$f":"'[3]80-89本月在册高龄公示名单  '!F86","v":50},{"$f":"'[3]80-89本月在册高龄公示名单  '!G86","v":"2025-08-10"}]
[329,{"$f":"'[3]80-89本月在册高龄公示名单  '!B87","v":"宏福社区"},{"$f":"'[3]80-89本月在册高龄公示名单  '!C87","v":"杨美兰"},{"$f":"'[3]80-89本月在册高龄公示名单  '!D87","v":"女"},{"$f":"'[3]80-89本月在册高龄公示名单  '!E87","v":81},{"$f":"'[3]80-89本月在册高龄公示名单  '!F87","v":50},{"$f":"'[3]80-89本月在册高龄公示名单  '!G87","v":"2025-08-10"}]
[330,{"$f":"'[3]80-89本月在册高龄公示名单  '!B88","v":"宏福社区"},{"$f":"'[3]80-89本月在册高龄公示名单  '!C88","v":"何文坤"},{"$f":"'[3]80-89本月在册高龄公示名单  '!D88","v":"男"},{"$f":"'[3]80-89本月在册高龄公示名单  '!E88","v":84},{"$f":"'[3]80-89本月在册高龄公示名单  '!F88","v":50},{"$f":"'[3]80-89本月在册高龄公示名单  '!G88","v":"2025-08-10"}]
[331,{"$f":"'[3]80-89本月在册高龄公示名单  '!B89","v":"宏福社区"},{"$f":"'[3]80-89本月在册高龄公示名单  '!C89","v":"农承和"},{"$f":"'[3]80-89本月在册高龄公示名单  '!D89","v":"男"},{"$f":"'[3]80-89本月在册高龄公示名单  '!E89","v":81},{"$f":"'[3]80-89本月在册高龄公示名单  '!F89","v":50},{"$f":"'[3]80-89本月在册高龄公示名单  '!G89","v":"2025-08-10"}]
[332,{"$f":"'[3]80-89本月在册高龄公示名单  '!B90","v":"宏福社区"},{"$f":"'[3]80-89本月在册高龄公示名单  '!C90","v":"韦福南"},{"$f":"'[3]80-89本月在册高龄公示名单  '!D90","v":"男"},{"$f":"'[3]80-89本月在册高龄公示名单  '!E90","v":82},{"$f":"'[3]80-89本月在册高龄公示名单  '!F90","v":50},{"$f":"'[3]80-89本月在册高龄公示名单  '!G90","v":"2025-08-10"}]
[333,{"$f":"'[3]80-89本月在册高龄公示名单  '!B91","v":"宏福社区"},{"$f":"'[3]80-89本月在册高龄公示名单  '!C91","v":"黄小晶"},{"$f":"'[3]80-89本月在册高龄公示名单  '!D91","v":"女"},{"$f":"'[3]80-89本月在册高龄公示名单  '!E91","v":81},{"$f":"'[3]80-89本月在册高龄公示名单  '!F91","v":50},{"$f":"'[3]80-89本月在册高龄公示名单  '!G91","v":"2025-08-10"}]
[334,{"$f":"'[3]80-89本月在册高龄公示名单  '!B92","v":"宏福社区"},{"$f":"'[3]80-89本月在册高龄公示名单  '!C92","v":"欧有房"},{"$f":"'[3]80-89本月在册高龄公示名单  '!D92","v":"男"},{"$f":"'[3]80-89本月在册高龄公示名单  '!E92","v":81},{"$f":"'[3]80-89本月在册高龄公示名单  '!F92","v":50},{"$f":"'[3]80-89本月在册高龄公示名单  '!G92","v":"2025-08-10"}]
[335,{"$f":"'[3]80-89本月在册高龄公示名单  '!B93","v":"宏福社区"},{"$f":"'[3]80-89本月在册高龄公示名单  '!C93","v":"韦美萍"},{"$f":"'[3]80-89本月在册高龄公示名单  '!D93","v":"女"},{"$f":"'[3]80-89本月在册高龄公示名单  '!E93","v":81},{"$f":"'[3]80-89本月在册高龄公示名单  '!F93","v":50},{"$f":"'[3]80-89本月在册高龄公示名单  '!G93","v":"2025-08-10"}]
[336,{"$f":"'[3]80-89本月在册高龄公示名单  '!B94","v":"宏福社区"},{"$f":"'[3]80-89本月在册高龄公示名单  '!C94","v":"杨锡智"},{"$f":"'[3]80-89本月在册高龄公示名单  '!D94","v":"男"},{"$f":"'[3]80-89本月在册高龄公示名单  '!E94","v":81},{"$f":"'[3]80-89本月在册高龄公示名单  '!F94","v":50},{"$f":"'[3]80-89本月在册高龄公示名单  '!G94","v":"2025-08-10"}]
[337,{"$f":"'[3]80-89本月在册高龄公示名单  '!B95","v":"宏福社区"},{"$f":"'[3]80-89本月在册高龄公示名单  '!C95","v":"谢惠芳"},{"$f":"'[3]80-89本月在册高龄公示名单  '!D95","v":"女"},{"$f":"'[3]80-89本月在册高龄公示名单  '!E95","v":81},{"$f":"'[3]80-89本月在册高龄公示名单  '!F95","v":50},{"$f":"'[3]80-89本月在册高龄公示名单  '!G95","v":"2025-08-10"}]
[338,{"$f":"'[3]80-89本月在册高龄公示名单  '!B96","v":"宏福社区"},{"$f":"'[3]80-89本月在册高龄公示名单  '!C96","v":"冯家荣"},{"$f":"'[3]80-89本月在册高龄公示名单  '!D96","v":"男"},{"$f":"'[3]80-89本月在册高龄公示名单  '!E96","v":81},{"$f":"'[3]80-89本月在册高龄公示名单  '!F96","v":50},{"$f":"'[3]80-89本月在册高龄公示名单  '!G96","v":"2025-08-10"}]
[339,{"$f":"'[3]80-89本月在册高龄公示名单  '!B97","v":"宏福社区"},{"$f":"'[3]80-89本月在册高龄公示名单  '!C97","v":"黄鄂猷"},{"$f":"'[3]80-89本月在册高龄公示名单  '!D97","v":"男"},{"$f":"'[3]80-89本月在册高龄公示名单  '!E97","v":80},{"$f":"'[3]80-89本月在册高龄公示名单  '!F97","v":50},{"$f":"'[3]80-89本月在册高龄公示名单  '!G97","v":"2025-08-10"}]
[340,{"$f":"'[3]80-89本月在册高龄公示名单  '!B98","v":"宏福社区"},{"$f":"'[3]80-89本月在册高龄公示名单  '!C98","v":"陈天凤"},{"$f":"'[3]80-89本月在册高龄公示名单  '!D98","v":"女"},{"$f":"'[3]80-89本月在册高龄公示名单  '!E98","v":80},{"$f":"'[3]80-89本月在册高龄公示名单  '!F98","v":50},{"$f":"'[3]80-89本月在册高龄公示名单  '!G98","v":"2025-08-10"}]
[341,{"$f":"'[3]80-89本月在册高龄公示名单  '!B99","v":"宏福社区"},{"$f":"'[3]80-89本月在册高龄公示名单  '!C99","v":"林爱英"},{"$f":"'[3]80-89本月在册高龄公示名单  '!D99","v":"女"},{"$f":"'[3]80-89本月在册高龄公示名单  '!E99","v":80},{"$f":"'[3]80-89本月在册高龄公示名单  '!F99","v":50},{"$f":"'[3]80-89本月在册高龄公示名单  '!G99","v":"2025-08-10"}]
[342,{"$f":"'[3]80-89本月在册高龄公示名单  '!B100","v":"宏福社区"},{"$f":"'[3]80-89本月在册高龄公示名单  '!C100","v":"何丽芬"},{"$f":"'[3]80-89本月在册高龄公示名单  '!D100","v":"女"},{"$f":"'[3]80-89本月在册高龄公示名单  '!E100","v":80},{"$f":"'[3]80-89本月在册高龄公示名单  '!F100","v":50},{"$f":"'[3]80-89本月在册高龄公示名单  '!G100","v":"2025-08-10"}]
[343,{"$f":"'[3]80-89本月在册高龄公示名单  '!B101","v":"宏福社区"},{"$f":"'[3]80-89本月在册高龄公示名单  '!C101","v":"李昌海"},{"$f":"'[3]80-89本月在册高龄公示名单  '!D101","v":"男"},{"$f":"'[3]80-89本月在册高龄公示名单  '!E101","v":80},{"$f":"'[3]80-89本月在册高龄公示名单  '!F101","v":50},{"$f":"'[3]80-89本月在册高龄公示名单  '!G101","v":"2025-08-10"}]
[344,{"$f":"'[3]80-89本月在册高龄公示名单  '!B102","v":"宏福社区"},{"$f":"'[3]80-89本月在册高龄公示名单  '!C102","v":"周仁紬"},{"$f":"'[3]80-89本月在册高龄公示名单  '!D102","v":"男"},{"$f":"'[3]80-89本月在册高龄公示名单  '!E102","v":86},{"$f":"'[3]80-89本月在册高龄公示名单  '!F102","v":50},{"$f":"'[3]80-89本月在册高龄公示名单  '!G102","v":"2025-08-10"}]
[345,{"$f":"'[3]80-89本月在册高龄公示名单  '!B103","v":"宏福社区"},{"$f":"'[3]80-89本月在册高龄公示名单  '!C103","v":"杨凤群"},{"$f":"'[3]80-89本月在册高龄公示名单  '!D103","v":"女"},{"$f":"'[3]80-89本月在册高龄公示名单  '!E103","v":80},{"$f":"'[3]80-89本月在册高龄公示名单  '!F103","v":50},{"$f":"'[3]80-89本月在册高龄公示名单  '!G103","v":"2025-08-10"}]
[346,{"$f":"'[3]80-89本月在册高龄公示名单  '!B104","v":"宏福社区"},{"$f":"'[3]80-89本月在册高龄公示名单  '!C104","v":"覃丽祯"},{"$f":"'[3]80-89本月在册高龄公示名单  '!D104","v":"女"},{"$f":"'[3]80-89本月在册高龄公示名单  '!E104","v":80},{"$f":"'[3]80-89本月在册高龄公示名单  '!F104","v":50},{"$f":"'[3]80-89本月在册高龄公示名单  '!G104","v":"2025-08-10"}]
[347,{"$f":"'[3]80-89本月在册高龄公示名单  '!B105","v":"宏福社区"},{"$f":"'[3]80-89本月在册高龄公示名单  '!C105","v":"李佩芳"},{"$f":"'[3]80-89本月在册高龄公示名单  '!D105","v":"女"},{"$f":"'[3]80-89本月在册高龄公示名单  '!E105","v":80},{"$f":"'[3]80-89本月在册高龄公示名单  '!F105","v":50},{"$f":"'[3]80-89本月在册高龄公示名单  '!G105","v":"2025-08-10"}]
[348,{"$f":"'[3]80-89本月在册高龄公示名单  '!B106","v":"宏福社区"},{"$f":"'[3]80-89本月在册高龄公示名单  '!C106","v":"李少明"},{"$f":"'[3]80-89本月在册高龄公示名单  '!D106","v":"女"},{"$f":"'[3]80-89本月在册高龄公示名单  '!E106","v":80},{"$f":"'[3]80-89本月在册高龄公示名单  '!F106","v":50},{"$f":"'[3]80-89本月在册高龄公示名单  '!G106","v":"2025-08-10"}]
[349,{"$f":"'[3]80-89本月在册高龄公示名单  '!B107","v":"宏福社区"},{"$f":"'[3]80-89本月在册高龄公示名单  '!C107","v":"盘莲玉"},{"$f":"'[3]80-89本月在册高龄公示名单  '!D107","v":"女"},{"$f":"'[3]80-89本月在册高龄公示名单  '!E107","v":81},{"$f":"'[3]80-89本月在册高龄公示名单  '!F107","v":50},{"$f":"'[3]80-89本月在册高龄公示名单  '!G107","v":"2025-08-10"}]
[350,{"$f":"'[3]80-89本月在册高龄公示名单  '!B108","v":"宏福社区"},{"$f":"'[3]80-89本月在册高龄公示名单  '!C108","v":"罗昭惠"},{"$f":"'[3]80-89本月在册高龄公示名单  '!D108","v":"女"},{"$f":"'[3]80-89本月在册高龄公示名单  '!E108","v":80},{"$f":"'[3]80-89本月在册高龄公示名单  '!F108","v":50},{"$f":"'[3]80-89本月在册高龄公示名单  '!G108","v":"2025-08-10"}]
[351,{"$f":"'[3]80-89本月在册高龄公示名单  '!B109","v":"宏福社区"},{"$f":"'[3]80-89本月在册高龄公示名单  '!C109","v":"白景献"},{"$f":"'[3]80-89本月在册高龄公示名单  '!D109","v":"男"},{"$f":"'[3]80-89本月在册高龄公示名单  '!E109","v":80},{"$f":"'[3]80-89本月在册高龄公示名单  '!F109","v":50},{"$f":"'[3]80-89本月在册高龄公示名单  '!G109","v":"2025-08-10"}]
[352,{"$f":"'[3]80-89本月在册高龄公示名单  '!B110","v":"宏福社区"},{"$f":"'[3]80-89本月在册高龄公示名单  '!C110","v":"陆月英"},{"$f":"'[3]80-89本月在册高龄公示名单  '!D110","v":"女"},{"$f":"'[3]80-89本月在册高龄公示名单  '!E110","v":80},{"$f":"'[3]80-89本月在册高龄公示名单  '!F110","v":50},{"$f":"'[3]80-89本月在册高龄公示名单  '!G110","v":"2025-08-10"}]
[353,{"$f":"'[3]80-89本月在册高龄公示名单  '!B111","v":"宏福社区"},{"$f":"'[3]80-89本月在册高龄公示名单  '!C111","v":"蔡志雄"},{"$f":"'[3]80-89本月在册高龄公示名单  '!D111","v":"女"},{"$f":"'[3]80-89本月在册高龄公示名单  '!E111","v":80},{"$f":"'[3]80-89本月在册高龄公示名单  '!F111","v":50},{"$f":"'[3]80-89本月在册高龄公示名单  '!G111","v":"2025-08-10"}]
[354,{"$f":"'[3]80-89本月在册高龄公示名单  '!B112","v":"宏福社区"},{"$f":"'[3]80-89本月在册高龄公示名单  '!C112","v":"廖庆莲"},{"$f":"'[3]80-89本月在册高龄公示名单  '!D112","v":"女"},{"$f":"'[3]80-89本月在册高龄公示名单  '!E112","v":80},{"$f":"'[3]80-89本月在册高龄公示名单  '!F112","v":50},{"$f":"'[3]80-89本月在册高龄公示名单  '!G112","v":"2025-08-10"}]
[355,{"$f":"'[3]80-89本月在册高龄公示名单  '!B113","v":"宏福社区"},{"$f":"'[3]80-89本月在册高龄公示名单  '!C113","v":"吴智"},{"$f":"'[3]80-89本月在册高龄公示名单  '!D113","v":"女"},{"$f":"'[3]80-89本月在册高龄公示名单  '!E113","v":80},{"$f":"'[3]80-89本月在册高龄公示名单  '!F113","v":50},{"$f":"'[3]80-89本月在册高龄公示名单  '!G113","v":"2025-08-10"}]
[356,{"$f":"'[3]80-89本月在册高龄公示名单  '!B114","v":"宏福社区"},{"$f":"'[3]80-89本月在册高龄公示名单  '!C114","v":"赖世春"},{"$f":"'[3]80-89本月在册高龄公示名单  '!D114","v":"女"},{"$f":"'[3]80-89本月在册高龄公示名单  '!E114","v":81},{"$f":"'[3]80-89本月在册高龄公示名单  '!F114","v":50},{"$f":"'[3]80-89本月在册高龄公示名单  '!G114","v":"2025-08-10"}]
[357,{"$f":"'[3]80-89本月在册高龄公示名单  '!B115","v":"宏福社区"},{"$f":"'[3]80-89本月在册高龄公示名单  '!C115","v":"郭建英"},{"$f":"'[3]80-89本月在册高龄公示名单  '!D115","v":"女"},{"$f":"'[3]80-89本月在册高龄公示名单  '!E115","v":80},{"$f":"'[3]80-89本月在册高龄公示名单  '!F115","v":50},{"$f":"'[3]80-89本月在册高龄公示名单  '!G115","v":"2025-08-10"}]
[358,{"$f":"'[3]80-89本月在册高龄公示名单  '!B116","v":"宏福社区"},{"$f":"'[3]80-89本月在册高龄公示名单  '!C116","v":"赖卫祯"},{"$f":"'[3]80-89本月在册高龄公示名单  '!D116","v":"女"},{"$f":"'[3]80-89本月在册高龄公示名单  '!E116","v":81},{"$f":"'[3]80-89本月在册高龄公示名单  '!F116","v":50},{"$f":"'[3]80-89本月在册高龄公示名单  '!G116","v":"2025-08-10"}]
[359,{"$f":"'[3]80-89本月在册高龄公示名单  '!B117","v":"宏福社区"},{"$f":"'[3]80-89本月在册高龄公示名单  '!C117","v":"吴崇惠"},{"$f":"'[3]80-89本月在册高龄公示名单  '!D117","v":"男"},{"$f":"'[3]80-89本月在册高龄公示名单  '!E117","v":80},{"$f":"'[3]80-89本月在册高龄公示名单  '!F117","v":50},{"$f":"'[3]80-89本月在册高龄公示名单  '!G117","v":"2025-08-10"}]
[360,{"$f":"'[3]80-89本月在册高龄公示名单  '!B118","v":"宏福社区"},{"$f":"'[3]80-89本月在册高龄公示名单  '!C118","v":"黄本袖"},{"$f":"'[3]80-89本月在册高龄公示名单  '!D118","v":"女"},{"$f":"'[3]80-89本月在册高龄公示名单  '!E118","v":80},{"$f":"'[3]80-89本月在册高龄公示名单  '!F118","v":50},{"$f":"'[3]80-89本月在册高龄公示名单  '!G118","v":"2025-08-10"}]
[361,{"$f":"'[3]80-89本月在册高龄公示名单  '!B119","v":"宏福社区"},{"$f":"'[3]80-89本月在册高龄公示名单  '!C119","v":"杨桂才"},{"$f":"'[3]80-89本月在册高龄公示名单  '!D119","v":"女"},{"$f":"'[3]80-89本月在册高龄公示名单  '!E119","v":80},{"$f":"'[3]80-89本月在册高龄公示名单  '!F119","v":50},{"$f":"'[3]80-89本月在册高龄公示名单  '!G119","v":"2025-08-11"}]
[362,{"$f":"'[4]8月80岁本月在册高龄公示名单'!B4","v":"温馨社区"},{"$f":"'[4]8月80岁本月在册高龄公示名单'!C4","v":"张日英"},{"$f":"'[4]8月80岁本月在册高龄公示名单'!D4","v":"女"},{"$f":"'[4]8月80岁本月在册高龄公示名单'!E4","v":89},{"$f":"'[4]8月80岁本月在册高龄公示名单'!F4","v":50},{"$f":"'[4]8月80岁本月在册高龄公示名单'!G4","v":"2025-08-01"}]
[363,{"$f":"'[4]8月80岁本月在册高龄公示名单'!B5","v":"温馨社区"},{"$f":"'[4]8月80岁本月在册高龄公示名单'!C5","v":"谢文强"},{"$f":"'[4]8月80岁本月在册高龄公示名单'!D5","v":"男"},{"$f":"'[4]8月80岁本月在册高龄公示名单'!E5","v":89},{"$f":"'[4]8月80岁本月在册高龄公示名单'!F5","v":50},{"$f":"'[4]8月80岁本月在册高龄公示名单'!G5","v":"2025-08-01"}]
[364,{"$f":"'[4]8月80岁本月在册高龄公示名单'!B6","v":"温馨社区"},{"$f":"'[4]8月80岁本月在册高龄公示名单'!C6","v":"韦鸿芳"},{"$f":"'[4]8月80岁本月在册高龄公示名单'!D6","v":"男"},{"$f":"'[4]8月80岁本月在册高龄公示名单'!E6","v":88},{"$f":"'[4]8月80岁本月在册高龄公示名单'!F6","v":50},{"$f":"'[4]8月80岁本月在册高龄公示名单'!G6","v":"2025-08-01"}]
[365,{"$f":"'[4]8月80岁本月在册高龄公示名单'!B7","v":"温馨社区"},{"$f":"'[4]8月80岁本月在册高龄公示名单'!C7","v":"唐绍碧"},{"$f":"'[4]8月80岁本月在册高龄公示名单'!D7","v":"女"},{"$f":"'[4]8月80岁本月在册高龄公示名单'!E7","v":88},{"$f":"'[4]8月80岁本月在册高龄公示名单'!F7","v":50},{"$f":"'[4]8月80岁本月在册高龄公示名单'!G7","v":"2025-08-01"}]
[366,{"$f":"'[4]8月80岁本月在册高龄公示名单'!B8","v":"温馨社区"},{"$f":"'[4]8月80岁本月在册高龄公示名单'!C8","v":"胡素云"},{"$f":"'[4]8月80岁本月在册高龄公示名单'!D8","v":"女"},{"$f":"'[4]8月80岁本月在册高龄公示名单'!E8","v":88},{"$f":"'[4]8月80岁本月在册高龄公示名单'!F8","v":50},{"$f":"'[4]8月80岁本月在册高龄公示名单'!G8","v":"2025-08-01"}]
[367,{"$f":"'[4]8月80岁本月在册高龄公示名单'!B9","v":"温馨社区"},{"$f":"'[4]8月80岁本月在册高龄公示名单'!C9","v":"李开红"},{"$f":"'[4]8月80岁本月在册高龄公示名单'!D9","v":"男"},{"$f":"'[4]8月80岁本月在册高龄公示名单'!E9","v":88},{"$f":"'[4]8月80岁本月在册高龄公示名单'!F9","v":50},{"$f":"'[4]8月80岁本月在册高龄公示名单'!G9","v":"2025-08-01"}]
[368,{"$f":"'[4]8月80岁本月在册高龄公示名单'!B10","v":"温馨社区"},{"$f":"'[4]8月80岁本月在册高龄公示名单'!C10","v":"韦美生"},{"$f":"'[4]8月80岁本月在册高龄公示名单'!D10","v":"男"},{"$f":"'[4]8月80岁本月在册高龄公示名单'!E10","v":87},{"$f":"'[4]8月80岁本月在册高龄公示名单'!F10","v":50},{"$f":"'[4]8月80岁本月在册高龄公示名单'!G10","v":"2025-08-01"}]
[369,{"$f":"'[4]8月80岁本月在册高龄公示名单'!B11","v":"温馨社区"},{"$f":"'[4]8月80岁本月在册高龄公示名单'!C11","v":"余丽芳"},{"$f":"'[4]8月80岁本月在册高龄公示名单'!D11","v":"女"},{"$f":"'[4]8月80岁本月在册高龄公示名单'!E11","v":87},{"$f":"'[4]8月80岁本月在册高龄公示名单'!F11","v":50},{"$f":"'[4]8月80岁本月在册高龄公示名单'!G11","v":"2025-08-01"}]
[370,{"$f":"'[4]8月80岁本月在册高龄公示名单'!B12","v":"温馨社区"},{"$f":"'[4]8月80岁本月在册高龄公示名单'!C12","v":"苏镇妹"},{"$f":"'[4]8月80岁本月在册高龄公示名单'!D12","v":"男"},{"$f":"'[4]8月80岁本月在册高龄公示名单'!E12","v":87},{"$f":"'[4]8月80岁本月在册高龄公示名单'!F12","v":50},{"$f":"'[4]8月80岁本月在册高龄公示名单'!G12","v":"2025-08-01"}]
[371,{"$f":"'[4]8月80岁本月在册高龄公示名单'!B13","v":"温馨社区"},{"$f":"'[4]8月80岁本月在册高龄公示名单'!C13","v":"张美华"},{"$f":"'[4]8月80岁本月在册高龄公示名单'!D13","v":"女"},{"$f":"'[4]8月80岁本月在册高龄公示名单'!E13","v":87},{"$f":"'[4]8月80岁本月在册高龄公示名单'!F13","v":50},{"$f":"'[4]8月80岁本月在册高龄公示名单'!G13","v":"2025-08-01"}]
[372,{"$f":"'[4]8月80岁本月在册高龄公示名单'!B14","v":"温馨社区"},{"$f":"'[4]8月80岁本月在册高龄公示名单'!C14","v":"黎金凤"},{"$f":"'[4]8月80岁本月在册高龄公示名单'!D14","v":"女"},{"$f":"'[4]8月80岁本月在册高龄公示名单'!E14","v":86},{"$f":"'[4]8月80岁本月在册高龄公示名单'!F14","v":50},{"$f":"'[4]8月80岁本月在册高龄公示名单'!G14","v":"2025-08-01"}]
[373,{"$f":"'[4]8月80岁本月在册高龄公示名单'!B15","v":"温馨社区"},{"$f":"'[4]8月80岁本月在册高龄公示名单'!C15","v":"梁凤英"},{"$f":"'[4]8月80岁本月在册高龄公示名单'!D15","v":"女"},{"$f":"'[4]8月80岁本月在册高龄公示名单'!E15","v":86},{"$f":"'[4]8月80岁本月在册高龄公示名单'!F15","v":50},{"$f":"'[4]8月80岁本月在册高龄公示名单'!G15","v":"2025-08-01"}]
[374,{"$f":"'[4]8月80岁本月在册高龄公示名单'!B16","v":"温馨社区"},{"$f":"'[4]8月80岁本月在册高龄公示名单'!C16","v":"文庆凤"},{"$f":"'[4]8月80岁本月在册高龄公示名单'!D16","v":"女"},{"$f":"'[4]8月80岁本月在册高龄公示名单'!E16","v":86},{"$f":"'[4]8月80岁本月在册高龄公示名单'!F16","v":50},{"$f":"'[4]8月80岁本月在册高龄公示名单'!G16","v":"2025-08-01"}]
[375,{"$f":"'[4]8月80岁本月在册高龄公示名单'!B17","v":"温馨社区"},{"$f":"'[4]8月80岁本月在册高龄公示名单'!C17","v":"黄铜"},{"$f":"'[4]8月80岁本月在册高龄公示名单'!D17","v":"男"},{"$f":"'[4]8月80岁本月在册高龄公示名单'!E17","v":86},{"$f":"'[4]8月80岁本月在册高龄公示名单'!F17","v":50},{"$f":"'[4]8月80岁本月在册高龄公示名单'!G17","v":"2025-08-01"}]
[376,{"$f":"'[4]8月80岁本月在册高龄公示名单'!B18","v":"温馨社区"},{"$f":"'[4]8月80岁本月在册高龄公示名单'!C18","v":"韦秀贞"},{"$f":"'[4]8月80岁本月在册高龄公示名单'!D18","v":"女"},{"$f":"'[4]8月80岁本月在册高龄公示名单'!E18","v":86},{"$f":"'[4]8月80岁本月在册高龄公示名单'!F18","v":50},{"$f":"'[4]8月80岁本月在册高龄公示名单'!G18","v":"2025-08-01"}]
[377,{"$f":"'[4]8月80岁本月在册高龄公示名单'!B19","v":"温馨社区"},{"$f":"'[4]8月80岁本月在册高龄公示名单'!C19","v":"薛艳琼"},{"$f":"'[4]8月80岁本月在册高龄公示名单'!D19","v":"女"},{"$f":"'[4]8月80岁本月在册高龄公示名单'!E19","v":86},{"$f":"'[4]8月80岁本月在册高龄公示名单'!F19","v":50},{"$f":"'[4]8月80岁本月在册高龄公示名单'!G19","v":"2025-08-01"}]
[378,{"$f":"'[4]8月80岁本月在册高龄公示名单'!B20","v":"温馨社区"},{"$f":"'[4]8月80岁本月在册高龄公示名单'!C20","v":"张桂荣"},{"$f":"'[4]8月80岁本月在册高龄公示名单'!D20","v":"男"},{"$f":"'[4]8月80岁本月在册高龄公示名单'!E20","v":86},{"$f":"'[4]8月80岁本月在册高龄公示名单'!F20","v":50},{"$f":"'[4]8月80岁本月在册高龄公示名单'!G20","v":"2025-08-01"}]
[379,{"$f":"'[4]8月80岁本月在册高龄公示名单'!B21","v":"温馨社区"},{"$f":"'[4]8月80岁本月在册高龄公示名单'!C21","v":"秦校珍"},{"$f":"'[4]8月80岁本月在册高龄公示名单'!D21","v":"女"},{"$f":"'[4]8月80岁本月在册高龄公示名单'!E21","v":86},{"$f":"'[4]8月80岁本月在册高龄公示名单'!F21","v":50},{"$f":"'[4]8月80岁本月在册高龄公示名单'!G21","v":"2025-08-01"}]
[380,{"$f":"'[4]8月80岁本月在册高龄公示名单'!B22","v":"温馨社区"},{"$f":"'[4]8月80岁本月在册高龄公示名单'!C22","v":"黄立铭"},{"$f":"'[4]8月80岁本月在册高龄公示名单'!D22","v":"男"},{"$f":"'[4]8月80岁本月在册高龄公示名单'!E22","v":86},{"$f":"'[4]8月80岁本月在册高龄公示名单'!F22","v":50},{"$f":"'[4]8月80岁本月在册高龄公示名单'!G22","v":"2025-08-01"}]
[381,{"$f":"'[4]8月80岁本月在册高龄公示名单'!B23","v":"温馨社区"},{"$f":"'[4]8月80岁本月在册高龄公示名单'!C23","v":"黄继算"},{"$f":"'[4]8月80岁本月在册高龄公示名单'!D23","v":"男"},{"$f":"'[4]8月80岁本月在册高龄公示名单'!E23","v":85},{"$f":"'[4]8月80岁本月在册高龄公示名单'!F23","v":50},{"$f":"'[4]8月80岁本月在册高龄公示名单'!G23","v":"2025-08-01"}]
[382,{"$f":"'[4]8月80岁本月在册高龄公示名单'!B24","v":"温馨社区"},{"$f":"'[4]8月80岁本月在册高龄公示名单'!C24","v":"郭秀荣"},{"$f":"'[4]8月80岁本月在册高龄公示名单'!D24","v":"女"},{"$f":"'[4]8月80岁本月在册高龄公示名单'!E24","v":85},{"$f":"'[4]8月80岁本月在册高龄公示名单'!F24","v":50},{"$f":"'[4]8月80岁本月在册高龄公示名单'!G24","v":"2025-08-01"}]
[383,{"$f":"'[4]8月80岁本月在册高龄公示名单'!B25","v":"温馨社区"},{"$f":"'[4]8月80岁本月在册高龄公示名单'!C25","v":"伍俊华"},{"$f":"'[4]8月80岁本月在册高龄公示名单'!D25","v":"男"},{"$f":"'[4]8月80岁本月在册高龄公示名单'!E25","v":85},{"$f":"'[4]8月80岁本月在册高龄公示名单'!F25","v":50},{"$f":"'[4]8月80岁本月在册高龄公示名单'!G25","v":"2025-08-01"}]
[384,{"$f":"'[4]8月80岁本月在册高龄公示名单'!B26","v":"温馨社区"},{"$f":"'[4]8月80岁本月在册高龄公示名单'!C26","v":"洪秀煜"},{"$f":"'[4]8月80岁本月在册高龄公示名单'!D26","v":"女"},{"$f":"'[4]8月80岁本月在册高龄公示名单'!E26","v":85},{"$f":"'[4]8月80岁本月在册高龄公示名单'!F26","v":50},{"$f":"'[4]8月80岁本月在册高龄公示名单'!G26","v":"2025-08-01"}]
[385,{"$f":"'[4]8月80岁本月在册高龄公示名单'!B27","v":"温馨社区"},{"$f":"'[4]8月80岁本月在册高龄公示名单'!C27","v":"吴能松"},{"$f":"'[4]8月80岁本月在册高龄公示名单'!D27","v":"男"},{"$f":"'[4]8月80岁本月在册高龄公示名单'!E27","v":85},{"$f":"'[4]8月80岁本月在册高龄公示名单'!F27","v":50},{"$f":"'[4]8月80岁本月在册高龄公示名单'!G27","v":"2025-08-01"}]
[386,{"$f":"'[4]8月80岁本月在册高龄公示名单'!B28","v":"温馨社区"},{"$f":"'[4]8月80岁本月在册高龄公示名单'!C28","v":"周静秀"},{"$f":"'[4]8月80岁本月在册高龄公示名单'!D28","v":"女"},{"$f":"'[4]8月80岁本月在册高龄公示名单'!E28","v":85},{"$f":"'[4]8月80岁本月在册高龄公示名单'!F28","v":50},{"$f":"'[4]8月80岁本月在册高龄公示名单'!G28","v":"2025-08-01"}]
[387,{"$f":"'[4]8月80岁本月在册高龄公示名单'!B36","v":"温馨社区"},{"$f":"'[4]8月80岁本月在册高龄公示名单'!C36","v":"覃素兰"},{"$f":"'[4]8月80岁本月在册高龄公示名单'!D36","v":"女"},{"$f":"'[4]8月80岁本月在册高龄公示名单'!E36","v":84},{"$f":"'[4]8月80岁本月在册高龄公示名单'!F36","v":50},{"$f":"'[4]8月80岁本月在册高龄公示名单'!G36","v":"2025-08-01"}]
[388,{"$f":"'[4]8月80岁本月在册高龄公示名单'!B37","v":"温馨社区"},{"$f":"'[4]8月80岁本月在册高龄公示名单'!C37","v":"刘锡禧"},{"$f":"'[4]8月80岁本月在册高龄公示名单'!D37","v":"男"},{"$f":"'[4]8月80岁本月在册高龄公示名单'!E37","v":84},{"$f":"'[4]8月80岁本月在册高龄公示名单'!F37","v":50},{"$f":"'[4]8月80岁本月在册高龄公示名单'!G37","v":"2025-08-01"}]
[389,{"$f":"'[4]8月80岁本月在册高龄公示名单'!B38","v":"温馨社区"},{"$f":"'[4]8月80岁本月在册高龄公示名单'!C38","v":"钟玉华"},{"$f":"'[4]8月80岁本月在册高龄公示名单'!D38","v":"女"},{"$f":"'[4]8月80岁本月在册高龄公示名单'!E38","v":84},{"$f":"'[4]8月80岁本月在册高龄公示名单'!F38","v":50},{"$f":"'[4]8月80岁本月在册高龄公示名单'!G38","v":"2025-08-01"}]
[390,{"$f":"'[4]8月80岁本月在册高龄公示名单'!B39","v":"温馨社区"},{"$f":"'[4]8月80岁本月在册高龄公示名单'!C39","v":"王云莲"},{"$f":"'[4]8月80岁本月在册高龄公示名单'!D39","v":"女"},{"$f":"'[4]8月80岁本月在册高龄公示名单'!E39","v":84},{"$f":"'[4]8月80岁本月在册高龄公示名单'!F39","v":50},{"$f":"'[4]8月80岁本月在册高龄公示名单'!G39","v":"2025-08-01"}]
[391,{"$f":"'[4]8月80岁本月在册高龄公示名单'!B40","v":"温馨社区"},{"$f":"'[4]8月80岁本月在册高龄公示名单'!C40","v":"覃寿皓"},{"$f":"'[4]8月80岁本月在册高龄公示名单'!D40","v":"男"},{"$f":"'[4]8月80岁本月在册高龄公示名单'!E40","v":84},{"$f":"'[4]8月80岁本月在册高龄公示名单'!F40","v":50},{"$f":"'[4]8月80岁本月在册高龄公示名单'!G40","v":"2025-08-01"}]
[392,{"$f":"'[4]8月80岁本月在册高龄公示名单'!B41","v":"温馨社区"},{"$f":"'[4]8月80岁本月在册高龄公示名单'!C41","v":"梅顺"},{"$f":"'[4]8月80岁本月在册高龄公示名单'!D41","v":"男"},{"$f":"'[4]8月80岁本月在册高龄公示名单'!E41","v":84},{"$f":"'[4]8月80岁本月在册高龄公示名单'!F41","v":50},{"$f":"'[4]8月80岁本月在册高龄公示名单'!G41","v":"2025-08-01"}]
[393,{"$f":"'[4]8月80岁本月在册高龄公示名单'!B42","v":"温馨社区"},{"$f":"'[4]8月80岁本月在册高龄公示名单'!C42","v":"何秀林"},{"$f":"'[4]8月80岁本月在册高龄公示名单'!D42","v":"女"},{"$f":"'[4]8月80岁本月在册高龄公示名单'!E42","v":84},{"$f":"'[4]8月80岁本月在册高龄公示名单'!F42","v":50},{"$f":"'[4]8月80岁本月在册高龄公示名单'!G42","v":"2025-08-01"}]
[394,{"$f":"'[4]8月80岁本月在册高龄公示名单'!B43","v":"温馨社区"},{"$f":"'[4]8月80岁本月在册高龄公示名单'!C43","v":"潘土佑"},{"$f":"'[4]8月80岁本月在册高龄公示名单'!D43","v":"男"},{"$f":"'[4]8月80岁本月在册高龄公示名单'!E43","v":84},{"$f":"'[4]8月80岁本月在册高龄公示名单'!F43","v":50},{"$f":"'[4]8月80岁本月在册高龄公示名单'!G43","v":"2025-08-01"}]
[395,{"$f":"'[4]8月80岁本月在册高龄公示名单'!B44","v":"温馨社区"},{"$f":"'[4]8月80岁本月在册高龄公示名单'!C44","v":"杨义"},{"$f":"'[4]8月80岁本月在册高龄公示名单'!D44","v":"男"},{"$f":"'[4]8月80岁本月在册高龄公示名单'!E44","v":84},{"$f":"'[4]8月80岁本月在册高龄公示名单'!F44","v":50},{"$f":"'[4]8月80岁本月在册高龄公示名单'!G44","v":"2025-08-01"}]
[396,{"$f":"'[4]8月80岁本月在册高龄公示名单'!B45","v":"温馨社区"},{"$f":"'[4]8月80岁本月在册高龄公示名单'!C45","v":"刘国英"},{"$f":"'[4]8月80岁本月在册高龄公示名单'!D45","v":"男"},{"$f":"'[4]8月80岁本月在册高龄公示名单'!E45","v":84},{"$f":"'[4]8月80岁本月在册高龄公示名单'!F45","v":50},{"$f":"'[4]8月80岁本月在册高龄公示名单'!G45","v":"2025-08-01"}]
[397,{"$f":"'[4]8月80岁本月在册高龄公示名单'!B46","v":"温馨社区"},{"$f":"'[4]8月80岁本月在册高龄公示名单'!C46","v":"杨国宽"},{"$f":"'[4]8月80岁本月在册高龄公示名单'!D46","v":"男"},{"$f":"'[4]8月80岁本月在册高龄公示名单'!E46","v":83},{"$f":"'[4]8月80岁本月在册高龄公示名单'!F46","v":50},{"$f":"'[4]8月80岁本月在册高龄公示名单'!G46","v":"2025-08-01"}]
[398,{"$f":"'[4]8月80岁本月在册高龄公示名单'!B47","v":"温馨社区"},{"$f":"'[4]8月80岁本月在册高龄公示名单'!C47","v":"韦朋"},{"$f":"'[4]8月80岁本月在册高龄公示名单'!D47","v":"女"},{"$f":"'[4]8月80岁本月在册高龄公示名单'!E47","v":83},{"$f":"'[4]8月80岁本月在册高龄公示名单'!F47","v":50},{"$f":"'[4]8月80岁本月在册高龄公示名单'!G47","v":"2025-08-01"}]
[399,{"$f":"'[4]8月80岁本月在册高龄公示名单'!B48","v":"温馨社区"},{"$f":"'[4]8月80岁本月在册高龄公示名单'!C48","v":"韦永高"},{"$f":"'[4]8月80岁本月在册高龄公示名单'!D48","v":"男"},{"$f":"'[4]8月80岁本月在册高龄公示名单'!E48","v":83},{"$f":"'[4]8月80岁本月在册高龄公示名单'!F48","v":50},{"$f":"'[4]8月80岁本月在册高龄公示名单'!G48","v":"2025-08-01"}]
[400,{"$f":"'[4]8月80岁本月在册高龄公示名单'!B49","v":"温馨社区"},{"$f":"'[4]8月80岁本月在册高龄公示名单'!C49","v":"杨玉群"},{"$f":"'[4]8月80岁本月在册高龄公示名单'!D49","v":"女"},{"$f":"'[4]8月80岁本月在册高龄公示名单'!E49","v":83},{"$f":"'[4]8月80岁本月在册高龄公示名单'!F49","v":50},{"$f":"'[4]8月80岁本月在册高龄公示名单'!G49","v":"2025-08-01"}]
[401,{"$f":"'[4]8月80岁本月在册高龄公示名单'!B50","v":"温馨社区"},{"$f":"'[4]8月80岁本月在册高龄公示名单'!C50","v":"傅兆雁"},{"$f":"'[4]8月80岁本月在册高龄公示名单'!D50","v":"男"},{"$f":"'[4]8月80岁本月在册高龄公示名单'!E50","v":83},{"$f":"'[4]8月80岁本月在册高龄公示名单'!F50","v":50},{"$f":"'[4]8月80岁本月在册高龄公示名单'!G50","v":"2025-08-01"}]
[402,{"$f":"'[4]8月80岁本月在册高龄公示名单'!B51","v":"温馨社区"},{"$f":"'[4]8月80岁本月在册高龄公示名单'!C51","v":"谭秀英"},{"$f":"'[4]8月80岁本月在册高龄公示名单'!D51","v":"女"},{"$f":"'[4]8月80岁本月在册高龄公示名单'!E51","v":83},{"$f":"'[4]8月80岁本月在册高龄公示名单'!F51","v":50},{"$f":"'[4]8月80岁本月在册高龄公示名单'!G51","v":"2025-08-01"}]
[403,{"$f":"'[4]8月80岁本月在册高龄公示名单'!B52","v":"温馨社区"},{"$f":"'[4]8月80岁本月在册高龄公示名单'!C52","v":"李启才"},{"$f":"'[4]8月80岁本月在册高龄公示名单'!D52","v":"男"},{"$f":"'[4]8月80岁本月在册高龄公示名单'!E52","v":83},{"$f":"'[4]8月80岁本月在册高龄公示名单'!F52","v":50},{"$f":"'[4]8月80岁本月在册高龄公示名单'!G52","v":"2025-08-01"}]
[404,{"$f":"'[4]8月80岁本月在册高龄公示名单'!B53","v":"温馨社区"},{"$f":"'[4]8月80岁本月在册高龄公示名单'!C53","v":"李荣辉"},{"$f":"'[4]8月80岁本月在册高龄公示名单'!D53","v":"男"},{"$f":"'[4]8月80岁本月在册高龄公示名单'!E53","v":83},{"$f":"'[4]8月80岁本月在册高龄公示名单'!F53","v":50},{"$f":"'[4]8月80岁本月在册高龄公示名单'!G53","v":"2025-08-01"}]
[405,{"$f":"'[4]8月80岁本月在册高龄公示名单'!B54","v":"温馨社区"},{"$f":"'[4]8月80岁本月在册高龄公示名单'!C54","v":"伍颖红"},{"$f":"'[4]8月80岁本月在册高龄公示名单'!D54","v":"女"},{"$f":"'[4]8月80岁本月在册高龄公示名单'!E54","v":83},{"$f":"'[4]8月80岁本月在册高龄公示名单'!F54","v":50},{"$f":"'[4]8月80岁本月在册高龄公示名单'!G54","v":"2025-08-01"}]
[406,{"$f":"'[4]8月80岁本月在册高龄公示名单'!B55","v":"温馨社区"},{"$f":"'[4]8月80岁本月在册高龄公示名单'!C55","v":"赖志英"},{"$f":"'[4]8月80岁本月在册高龄公示名单'!D55","v":"女"},{"$f":"'[4]8月80岁本月在册高龄公示名单'!E55","v":82},{"$f":"'[4]8月80岁本月在册高龄公示名单'!F55","v":50},{"$f":"'[4]8月80岁本月在册高龄公示名单'!G55","v":"2025-08-01"}]
[407,{"$f":"'[4]8月80岁本月在册高龄公示名单'!B56","v":"温馨社区"},{"$f":"'[4]8月80岁本月在册高龄公示名单'!C56","v":"李润芬"},{"$f":"'[4]8月80岁本月在册高龄公示名单'!D56","v":"女"},{"$f":"'[4]8月80岁本月在册高龄公示名单'!E56","v":82},{"$f":"'[4]8月80岁本月在册高龄公示名单'!F56","v":50},{"$f":"'[4]8月80岁本月在册高龄公示名单'!G56","v":"2025-08-01"}]
[408,{"$f":"'[4]8月80岁本月在册高龄公示名单'!B57","v":"温馨社区"},{"$f":"'[4]8月80岁本月在册高龄公示名单'!C57","v":"林家安"},{"$f":"'[4]8月80岁本月在册高龄公示名单'!D57","v":"男"},{"$f":"'[4]8月80岁本月在册高龄公示名单'!E57","v":82},{"$f":"'[4]8月80岁本月在册高龄公示名单'!F57","v":50},{"$f":"'[4]8月80岁本月在册高龄公示名单'!G57","v":"2025-08-01"}]
[409,{"$f":"'[4]8月80岁本月在册高龄公示名单'!B58","v":"温馨社区"},{"$f":"'[4]8月80岁本月在册高龄公示名单'!C58","v":"叶桂兰"},{"$f":"'[4]8月80岁本月在册高龄公示名单'!D58","v":"女"},{"$f":"'[4]8月80岁本月在册高龄公示名单'!E58","v":82},{"$f":"'[4]8月80岁本月在册高龄公示名单'!F58","v":50},{"$f":"'[4]8月80岁本月在册高龄公示名单'!G58","v":"2025-08-01"}]
[410,{"$f":"'[4]8月80岁本月在册高龄公示名单'!B59","v":"温馨社区"},{"$f":"'[4]8月80岁本月在册高龄公示名单'!C59","v":"陈善谋"},{"$f":"'[4]8月80岁本月在册高龄公示名单'!D59","v":"男"},{"$f":"'[4]8月80岁本月在册高龄公示名单'!E59","v":82},{"$f":"'[4]8月80岁本月在册高龄公示名单'!F59","v":50},{"$f":"'[4]8月80岁本月在册高龄公示名单'!G59","v":"2025-08-01"}]
[411,{"$f":"'[4]8月80岁本月在册高龄公示名单'!B60","v":"温馨社区"},{"$f":"'[4]8月80岁本月在册高龄公示名单'!C60","v":"潘珊弟"},{"$f":"'[4]8月80岁本月在册高龄公示名单'!D60","v":"男"},{"$f":"'[4]8月80岁本月在册高龄公示名单'!E60","v":82},{"$f":"'[4]8月80岁本月在册高龄公示名单'!F60","v":50},{"$f":"'[4]8月80岁本月在册高龄公示名单'!G60","v":"2025-08-01"}]
[412,{"$f":"'[4]8月80岁本月在册高龄公示名单'!B61","v":"温馨社区"},{"$f":"'[4]8月80岁本月在册高龄公示名单'!C61","v":"蒙元善"},{"$f":"'[4]8月80岁本月在册高龄公示名单'!D61","v":"男"},{"$f":"'[4]8月80岁本月在册高龄公示名单'!E61","v":82},{"$f":"'[4]8月80岁本月在册高龄公示名单'!F61","v":50},{"$f":"'[4]8月80岁本月在册高龄公示名单'!G61","v":"2025-08-01"}]
[413,{"$f":"'[4]8月80岁本月在册高龄公示名单'!B62","v":"温馨社区"},{"$f":"'[4]8月80岁本月在册高龄公示名单'!C62","v":"徐梅芳"},{"$f":"'[4]8月80岁本月在册高龄公示名单'!D62","v":"女"},{"$f":"'[4]8月80岁本月在册高龄公示名单'!E62","v":82},{"$f":"'[4]8月80岁本月在册高龄公示名单'!F62","v":50},{"$f":"'[4]8月80岁本月在册高龄公示名单'!G62","v":"2025-08-01"}]
[414,{"$f":"'[4]8月80岁本月在册高龄公示名单'!B63","v":"温馨社区"},{"$f":"'[4]8月80岁本月在册高龄公示名单'!C63","v":"凌惠珍"},{"$f":"'[4]8月80岁本月在册高龄公示名单'!D63","v":"女"},{"$f":"'[4]8月80岁本月在册高龄公示名单'!E63","v":82},{"$f":"'[4]8月80岁本月在册高龄公示名单'!F63","v":50},{"$f":"'[4]8月80岁本月在册高龄公示名单'!G63","v":"2025-08-01"}]
[415,{"$f":"'[4]8月80岁本月在册高龄公示名单'!B64","v":"温馨社区"},{"$f":"'[4]8月80岁本月在册高龄公示名单'!C64","v":"李开兰"},{"$f":"'[4]8月80岁本月在册高龄公示名单'!D64","v":"女"},{"$f":"'[4]8月80岁本月在册高龄公示名单'!E64","v":82},{"$f":"'[4]8月80岁本月在册高龄公示名单'!F64","v":50},{"$f":"'[4]8月80岁本月在册高龄公示名单'!G64","v":"2025-08-01"}]
[416,{"$f":"'[4]8月80岁本月在册高龄公示名单'!B65","v":"温馨社区"},{"$f":"'[4]8月80岁本月在册高龄公示名单'!C65","v":"谢业柱"},{"$f":"'[4]8月80岁本月在册高龄公示名单'!D65","v":"男"},{"$f":"'[4]8月80岁本月在册高龄公示名单'!E65","v":82},{"$f":"'[4]8月80岁本月在册高龄公示名单'!F65","v":50},{"$f":"'[4]8月80岁本月在册高龄公示名单'!G65","v":"2025-08-01"}]
[417,{"$f":"'[4]8月80岁本月在册高龄公示名单'!B66","v":"温馨社区"},{"$f":"'[4]8月80岁本月在册高龄公示名单'!C66","v":"廖丽珍"},{"$f":"'[4]8月80岁本月在册高龄公示名单'!D66","v":"女"},{"$f":"'[4]8月80岁本月在册高龄公示名单'!E66","v":81},{"$f":"'[4]8月80岁本月在册高龄公示名单'!F66","v":50},{"$f":"'[4]8月80岁本月在册高龄公示名单'!G66","v":"2025-08-01"}]
[418,{"$f":"'[4]8月80岁本月在册高龄公示名单'!B67","v":"温馨社区"},{"$f":"'[4]8月80岁本月在册高龄公示名单'!C67","v":"陈威红"},{"$f":"'[4]8月80岁本月在册高龄公示名单'!D67","v":"男"},{"$f":"'[4]8月80岁本月在册高龄公示名单'!E67","v":81},{"$f":"'[4]8月80岁本月在册高龄公示名单'!F67","v":50},{"$f":"'[4]8月80岁本月在册高龄公示名单'!G67","v":"2025-08-01"}]
[419,{"$f":"'[4]8月80岁本月在册高龄公示名单'!B68","v":"温馨社区"},{"$f":"'[4]8月80岁本月在册高龄公示名单'!C68","v":"韦梅杰"},{"$f":"'[4]8月80岁本月在册高龄公示名单'!D68","v":"女"},{"$f":"'[4]8月80岁本月在册高龄公示名单'!E68","v":81},{"$f":"'[4]8月80岁本月在册高龄公示名单'!F68","v":50},{"$f":"'[4]8月80岁本月在册高龄公示名单'!G68","v":"2025-08-01"}]
[420,{"$f":"'[4]8月80岁本月在册高龄公示名单'!B69","v":"温馨社区"},{"$f":"'[4]8月80岁本月在册高龄公示名单'!C69","v":"孔芝云"},{"$f":"'[4]8月80岁本月在册高龄公示名单'!D69","v":"女"},{"$f":"'[4]8月80岁本月在册高龄公示名单'!E69","v":81},{"$f":"'[4]8月80岁本月在册高龄公示名单'!F69","v":50},{"$f":"'[4]8月80岁本月在册高龄公示名单'!G69","v":"2025-08-01"}]
[421,{"$f":"'[4]8月80岁本月在册高龄公示名单'!B70","v":"温馨社区"},{"$f":"'[4]8月80岁本月在册高龄公示名单'!C70","v":"李彩莲"},{"$f":"'[4]8月80岁本月在册高龄公示名单'!D70","v":"女"},{"$f":"'[4]8月80岁本月在册高龄公示名单'!E70","v":81},{"$f":"'[4]8月80岁本月在册高龄公示名单'!F70","v":50},{"$f":"'[4]8月80岁本月在册高龄公示名单'!G70","v":"2025-08-01"}]
[422,{"$f":"'[4]8月80岁本月在册高龄公示名单'!B71","v":"温馨社区"},{"$f":"'[4]8月80岁本月在册高龄公示名单'!C71","v":"高钊"},{"$f":"'[4]8月80岁本月在册高龄公示名单'!D71","v":"男"},{"$f":"'[4]8月80岁本月在册高龄公示名单'!E71","v":81},{"$f":"'[4]8月80岁本月在册高龄公示名单'!F71","v":50},{"$f":"'[4]8月80岁本月在册高龄公示名单'!G71","v":"2025-08-01"}]
[423,{"$f":"'[4]8月80岁本月在册高龄公示名单'!B79","v":"温馨社区"},{"$f":"'[4]8月80岁本月在册高龄公示名单'!C79","v":"彭玉兰"},{"$f":"'[4]8月80岁本月在册高龄公示名单'!D79","v":"女"},{"$f":"'[4]8月80岁本月在册高龄公示名单'!E79","v":81},{"$f":"'[4]8月80岁本月在册高龄公示名单'!F79","v":50},{"$f":"'[4]8月80岁本月在册高龄公示名单'!G79","v":"2025-08-01"}]
[424,{"$f":"'[4]8月80岁本月在册高龄公示名单'!B80","v":"温馨社区"},{"$f":"'[4]8月80岁本月在册高龄公示名单'!C80","v":"黄志芳"},{"$f":"'[4]8月80岁本月在册高龄公示名单'!D80","v":"女"},{"$f":"'[4]8月80岁本月在册高龄公示名单'!E80","v":81},{"$f":"'[4]8月80岁本月在册高龄公示名单'!F80","v":50},{"$f":"'[4]8月80岁本月在册高龄公示名单'!G80","v":"2025-08-01"}]
[425,{"$f":"'[4]8月80岁本月在册高龄公示名单'!B81","v":"温馨社区"},{"$f":"'[4]8月80岁本月在册高龄公示名单'!C81","v":"莫寿森"},{"$f":"'[4]8月80岁本月在册高龄公示名单'!D81","v":"男"},{"$f":"'[4]8月80岁本月在册高龄公示名单'!E81","v":81},{"$f":"'[4]8月80岁本月在册高龄公示名单'!F81","v":50},{"$f":"'[4]8月80岁本月在册高龄公示名单'!G81","v":"2025-08-01"}]
[426,{"$f":"'[4]8月80岁本月在册高龄公示名单'!B82","v":"温馨社区"},{"$f":"'[4]8月80岁本月在册高龄公示名单'!C82","v":"林富章"},{"$f":"'[4]8月80岁本月在册高龄公示名单'!D82","v":"男"},{"$f":"'[4]8月80岁本月在册高龄公示名单'!E82","v":81},{"$f":"'[4]8月80岁本月在册高龄公示名单'!F82","v":50},{"$f":"'[4]8月80岁本月在册高龄公示名单'!G82","v":"2025-08-01"}]
[427,{"$f":"'[4]8月80岁本月在册高龄公示名单'!B83","v":"温馨社区"},{"$f":"'[4]8月80岁本月在册高龄公示名单'!C83","v":"涂美荣"},{"$f":"'[4]8月80岁本月在册高龄公示名单'!D83","v":"女"},{"$f":"'[4]8月80岁本月在册高龄公示名单'!E83","v":81},{"$f":"'[4]8月80岁本月在册高龄公示名单'!F83","v":50},{"$f":"'[4]8月80岁本月在册高龄公示名单'!G83","v":"2025-08-01"}]
[428,{"$f":"'[4]8月80岁本月在册高龄公示名单'!B84","v":"温馨社区"},{"$f":"'[4]8月80岁本月在册高龄公示名单'!C84","v":"白秀英"},{"$f":"'[4]8月80岁本月在册高龄公示名单'!D84","v":"女"},{"$f":"'[4]8月80岁本月在册高龄公示名单'!E84","v":81},{"$f":"'[4]8月80岁本月在册高龄公示名单'!F84","v":50},{"$f":"'[4]8月80岁本月在册高龄公示名单'!G84","v":"2025-08-01"}]
[429,{"$f":"'[4]8月80岁本月在册高龄公示名单'!B85","v":"温馨社区"},{"$f":"'[4]8月80岁本月在册高龄公示名单'!C85","v":"王玲珍"},{"$f":"'[4]8月80岁本月在册高龄公示名单'!D85","v":"女"},{"$f":"'[4]8月80岁本月在册高龄公示名单'!E85","v":80},{"$f":"'[4]8月80岁本月在册高龄公示名单'!F85","v":50},{"$f":"'[4]8月80岁本月在册高龄公示名单'!G85","v":"2025-08-01"}]
[430,{"$f":"'[4]8月80岁本月在册高龄公示名单'!B86","v":"温馨社区"},{"$f":"'[4]8月80岁本月在册高龄公示名单'!C86","v":"张旭连"},{"$f":"'[4]8月80岁本月在册高龄公示名单'!D86","v":"女"},{"$f":"'[4]8月80岁本月在册高龄公示名单'!E86","v":80},{"$f":"'[4]8月80岁本月在册高龄公示名单'!F86","v":50},{"$f":"'[4]8月80岁本月在册高龄公示名单'!G86","v":"2025-08-01"}]
[431,{"$f":"'[4]8月80岁本月在册高龄公示名单'!B87","v":"温馨社区"},{"$f":"'[4]8月80岁本月在册高龄公示名单'!C87","v":"吴绍球"},{"$f":"'[4]8月80岁本月在册高龄公示名单'!D87","v":"男"},{"$f":"'[4]8月80岁本月在册高龄公示名单'!E87","v":80},{"$f":"'[4]8月80岁本月在册高龄公示名单'!F87","v":50},{"$f":"'[4]8月80岁本月在册高龄公示名单'!G87","v":"2025-08-01"}]
[432,{"$f":"'[4]8月80岁本月在册高龄公示名单'!B88","v":"温馨社区"},{"$f":"'[4]8月80岁本月在册高龄公示名单'!C88","v":"梁国峰"},{"$f":"'[4]8月80岁本月在册高龄公示名单'!D88","v":"男"},{"$f":"'[4]8月80岁本月在册高龄公示名单'!E88","v":81},{"$f":"'[4]8月80岁本月在册高龄公示名单'!F88","v":50},{"$f":"'[4]8月80岁本月在册高龄公示名单'!G88","v":"2025-08-01"}]
[433,{"$f":"'[4]8月80岁本月在册高龄公示名单'!B89","v":"温馨社区"},{"$f":"'[4]8月80岁本月在册高龄公示名单'!C89","v":"伍彧庄"},{"$f":"'[4]8月80岁本月在册高龄公示名单'!D89","v":"女"},{"$f":"'[4]8月80岁本月在册高龄公示名单'!E89","v":80},{"$f":"'[4]8月80岁本月在册高龄公示名单'!F89","v":50},{"$f":"'[4]8月80岁本月在册高龄公示名单'!G89","v":"2025-08-01"}]
[434,{"$f":"'[4]8月80岁本月在册高龄公示名单'!B90","v":"温馨社区"},{"$f":"'[4]8月80岁本月在册高龄公示名单'!C90","v":"罗汉旺"},{"$f":"'[4]8月80岁本月在册高龄公示名单'!D90","v":"男"},{"$f":"'[4]8月80岁本月在册高龄公示名单'!E90","v":80},{"$f":"'[4]8月80岁本月在册高龄公示名单'!F90","v":50},{"$f":"'[4]8月80岁本月在册高龄公示名单'!G90","v":"2025-08-01"}]
[435,{"$f":"'[4]8月80岁本月在册高龄公示名单'!B91","v":"温馨社区"},{"$f":"'[4]8月80岁本月在册高龄公示名单'!C91","v":"杨连超"},{"$f":"'[4]8月80岁本月在册高龄公示名单'!D91","v":"男"},{"$f":"'[4]8月80岁本月在册高龄公示名单'!E91","v":80},{"$f":"'[4]8月80岁本月在册高龄公示名单'!F91","v":50},{"$f":"'[4]8月80岁本月在册高龄公示名单'!G91","v":"2025-08-01"}]
[436,{"$f":"'[4]8月80岁本月在册高龄公示名单'!B92","v":"温馨社区"},{"$f":"'[4]8月80岁本月在册高龄公示名单'!C92","v":"江世芬"},{"$f":"'[4]8月80岁本月在册高龄公示名单'!D92","v":"女"},{"$f":"'[4]8月80岁本月在册高龄公示名单'!E92","v":80},{"$f":"'[4]8月80岁本月在册高龄公示名单'!F92","v":50},{"$f":"'[4]8月80岁本月在册高龄公示名单'!G92","v":"2025-08-01"}]
[437,{"$f":"'[4]8月80岁本月在册高龄公示名单'!B93","v":"温馨社区"},{"$f":"'[4]8月80岁本月在册高龄公示名单'!C93","v":"胡擎岳"},{"$f":"'[4]8月80岁本月在册高龄公示名单'!D93","v":"男"},{"$f":"'[4]8月80岁本月在册高龄公示名单'!E93","v":80},{"$f":"'[4]8月80岁本月在册高龄公示名单'!F93","v":50},{"$f":"'[4]8月80岁本月在册高龄公示名单'!G93","v":"2025-08-01"}]
[438,{"$f":"'[4]8月80岁本月在册高龄公示名单'!B94","v":"温馨社区"},{"$f":"'[4]8月80岁本月在册高龄公示名单'!C94","v":"黄春贤"},{"$f":"'[4]8月80岁本月在册高龄公示名单'!D94","v":"男"},{"$f":"'[4]8月80岁本月在册高龄公示名单'!E94","v":80},{"$f":"'[4]8月80岁本月在册高龄公示名单'!F94","v":50},{"$f":"'[4]8月80岁本月在册高龄公示名单'!G94","v":"2025-08-01"}]
[439,{"$f":"'[4]8月80岁本月在册高龄公示名单'!B95","v":"温馨社区"},{"$f":"'[4]8月80岁本月在册高龄公示名单'!C95","v":"莫桂英"},{"$f":"'[4]8月80岁本月在册高龄公示名单'!D95","v":"女"},{"$f":"'[4]8月80岁本月在册高龄公示名单'!E95","v":80},{"$f":"'[4]8月80岁本月在册高龄公示名单'!F95","v":50},{"$f":"'[4]8月80岁本月在册高龄公示名单'!G95","v":"2025-08-01"}]
[440,{"$f":"'[4]8月80岁本月在册高龄公示名单'!B96","v":"温馨社区"},{"$f":"'[4]8月80岁本月在册高龄公示名单'!C96","v":"何国英"},{"$f":"'[4]8月80岁本月在册高龄公示名单'!D96","v":"女"},{"$f":"'[4]8月80岁本月在册高龄公示名单'!E96","v":80},{"$f":"'[4]8月80岁本月在册高龄公示名单'!F96","v":50},{"$f":"'[4]8月80岁本月在册高龄公示名单'!G96","v":"2025-08-01"}]
[441,{"$f":"'[4]8月80岁本月在册高龄公示名单'!B97","v":"温馨社区"},{"$f":"'[4]8月80岁本月在册高龄公示名单'!C97","v":"谢再球"},{"$f":"'[4]8月80岁本月在册高龄公示名单'!D97","v":"女"},{"$f":"'[4]8月80岁本月在册高龄公示名单'!E97","v":80},{"$f":"'[4]8月80岁本月在册高龄公示名单'!F97","v":50},{"$f":"'[4]8月80岁本月在册高龄公示名单'!G97","v":"2025-08-01"}]
[442,{"$f":"'[4]8月80岁本月在册高龄公示名单'!B98","v":"温馨社区"},{"$f":"'[4]8月80岁本月在册高龄公示名单'!C98","v":"蒋新梅"},{"$f":"'[4]8月80岁本月在册高龄公示名单'!D98","v":"女"},{"$f":"'[4]8月80岁本月在册高龄公示名单'!E98","v":80},{"$f":"'[4]8月80岁本月在册高龄公示名单'!F98","v":50},{"$f":"'[4]8月80岁本月在册高龄公示名单'!G98","v":"2025-08-01"}]
[443,{"$f":"'[4]8月80岁本月在册高龄公示名单'!B99","v":"温馨社区"},{"$f":"'[4]8月80岁本月在册高龄公示名单'!C99","v":"王毅杰"},{"$f":"'[4]8月80岁本月在册高龄公示名单'!D99","v":"男"},{"$f":"'[4]8月80岁本月在册高龄公示名单'!E99","v":80},{"$f":"'[4]8月80岁本月在册高龄公示名单'!F99","v":50},{"$f":"'[4]8月80岁本月在册高龄公示名单'!G99","v":"2025-08-01"}]
[444,{"$f":"'[4]8月80岁本月在册高龄公示名单'!B100","v":"温馨社区"},{"$f":"'[4]8月80岁本月在册高龄公示名单'!C100","v":"杨智芬"},{"$f":"'[4]8月80岁本月在册高龄公示名单'!D100","v":"女"},{"$f":"'[4]8月80岁本月在册高龄公示名单'!E100","v":80},{"$f":"'[4]8月80岁本月在册高龄公示名单'!F100","v":50},{"$f":"'[4]8月80岁本月在册高龄公示名单'!G100","v":"2025-08-01"}]
[445,{"$f":"'[4]8月80岁本月在册高龄公示名单'!B101","v":"温馨社区"},{"$f":"'[4]8月80岁本月在册高龄公示名单'!C101","v":"许玉英"},{"$f":"'[4]8月80岁本月在册高龄公示名单'!D101","v":"女"},{"$f":"'[4]8月80岁本月在册高龄公示名单'!E101","v":82},{"$f":"'[4]8月80岁本月在册高龄公示名单'!F101","v":50},{"$f":"'[4]8月80岁本月在册高龄公示名单'!G101","v":"2025-08-01"}]
[446,{"$f":"'[4]8月80岁本月在册高龄公示名单'!B102","v":"温馨社区"},{"$f":"'[4]8月80岁本月在册高龄公示名单'!C102","v":"黄伟球"},{"$f":"'[4]8月80岁本月在册高龄公示名单'!D102","v":"男"},{"$f":"'[4]8月80岁本月在册高龄公示名单'!E102","v":86},{"$f":"'[4]8月80岁本月在册高龄公示名单'!F102","v":50},{"$f":"'[4]8月80岁本月在册高龄公示名单'!G102","v":"2025-08-01"}]
[447,{"$f":"'[4]8月80岁本月在册高龄公示名单'!B103","v":"温馨社区"},{"$f":"'[4]8月80岁本月在册高龄公示名单'!C103","v":"陈洁珍"},{"$f":"'[4]8月80岁本月在册高龄公示名单'!D103","v":"女"},{"$f":"'[4]8月80岁本月在册高龄公示名单'!E103","v":80},{"$f":"'[4]8月80岁本月在册高龄公示名单'!F103","v":50},{"$f":"'[4]8月80岁本月在册高龄公示名单'!G103","v":"2025-08-01"}]
[448,{"$f":"'[5]80-89岁本月在册高龄公示名单  '!B4","v":"长风社区"},{"$f":"'[5]80-89岁本月在册高龄公示名单  '!C4","v":"张鸿英"},{"$f":"'[5]80-89岁本月在册高龄公示名单  '!D4","v":"女"},{"$f":"'[5]80-89岁本月在册高龄公示名单  '!E4","v":89},{"$f":"'[5]80-89岁本月在册高龄公示名单  '!F4","v":50},{"$f":"'[5]80-89岁本月在册高龄公示名单  '!G4","v":"2025-08-01"}]
[449,{"$f":"'[5]80-89岁本月在册高龄公示名单  '!B5","v":"长风社区"},{"$f":"'[5]80-89岁本月在册高龄公示名单  '!C5","v":"韦达"},{"$f":"'[5]80-89岁本月在册高龄公示名单  '!D5","v":"男"},{"$f":"'[5]80-89岁本月在册高龄公示名单  '!E5","v":89},{"$f":"'[5]80-89岁本月在册高龄公示名单  '!F5","v":50},{"$f":"'[5]80-89岁本月在册高龄公示名单  '!G5","v":"2025-08-02"}]
[450,{"$f":"'[5]80-89岁本月在册高龄公示名单  '!B6","v":"长风社区"},{"$f":"'[5]80-89岁本月在册高龄公示名单  '!C6","v":"张桂傲"},{"$f":"'[5]80-89岁本月在册高龄公示名单  '!D6","v":"男"},{"$f":"'[5]80-89岁本月在册高龄公示名单  '!E6","v":89},{"$f":"'[5]80-89岁本月在册高龄公示名单  '!F6","v":50},{"$f":"'[5]80-89岁本月在册高龄公示名单  '!G6","v":"2025-08-03"}]
[451,{"$f":"'[5]80-89岁本月在册高龄公示名单  '!B7","v":"长风社区"},{"$f":"'[5]80-89岁本月在册高龄公示名单  '!C7","v":"杨兴禧"},{"$f":"'[5]80-89岁本月在册高龄公示名单  '!D7","v":"男"},{"$f":"'[5]80-89岁本月在册高龄公示名单  '!E7","v":89},{"$f":"'[5]80-89岁本月在册高龄公示名单  '!F7","v":50},{"$f":"'[5]80-89岁本月在册高龄公示名单  '!G7","v":"2025-08-04"}]
[452,{"$f":"'[5]80-89岁本月在册高龄公示名单  '!B8","v":"长风社区"},{"$f":"'[5]80-89岁本月在册高龄公示名单  '!C8","v":"陈智松"},{"$f":"'[5]80-89岁本月在册高龄公示名单  '!D8","v":"男"},{"$f":"'[5]80-89岁本月在册高龄公示名单  '!E8","v":89},{"$f":"'[5]80-89岁本月在册高龄公示名单  '!F8","v":50},{"$f":"'[5]80-89岁本月在册高龄公示名单  '!G8","v":"2025-08-05"}]
[453,{"$f":"'[5]80-89岁本月在册高龄公示名单  '!B9","v":"长风社区"},{"$f":"'[5]80-89岁本月在册高龄公示名单  '!C9","v":"陆爱莲"},{"$f":"'[5]80-89岁本月在册高龄公示名单  '!D9","v":"女"},{"$f":"'[5]80-89岁本月在册高龄公示名单  '!E9","v":87},{"$f":"'[5]80-89岁本月在册高龄公示名单  '!F9","v":50},{"$f":"'[5]80-89岁本月在册高龄公示名单  '!G9","v":"2025-08-06"}]
[454,{"$f":"'[5]80-89岁本月在册高龄公示名单  '!B10","v":"长风社区"},{"$f":"'[5]80-89岁本月在册高龄公示名单  '!C10","v":"屈秀英"},{"$f":"'[5]80-89岁本月在册高龄公示名单  '!D10","v":"女"},{"$f":"'[5]80-89岁本月在册高龄公示名单  '!E10","v":87},{"$f":"'[5]80-89岁本月在册高龄公示名单  '!F10","v":50},{"$f":"'[5]80-89岁本月在册高龄公示名单  '!G10","v":"2025-08-07"}]
[455,{"$f":"'[5]80-89岁本月在册高龄公示名单  '!B11","v":"长风社区"},{"$f":"'[5]80-89岁本月在册高龄公示名单  '!C11","v":"吴其祥"},{"$f":"'[5]80-89岁本月在册高龄公示名单  '!D11","v":"男"},{"$f":"'[5]80-89岁本月在册高龄公示名单  '!E11","v":87},{"$f":"'[5]80-89岁本月在册高龄公示名单  '!F11","v":50},{"$f":"'[5]80-89岁本月在册高龄公示名单  '!G11","v":"2025-08-08"}]
[456,{"$f":"'[5]80-89岁本月在册高龄公示名单  '!B12","v":"长风社区"},{"$f":"'[5]80-89岁本月在册高龄公示名单  '!C12","v":"郑军"},{"$f":"'[5]80-89岁本月在册高龄公示名单  '!D12","v":"男"},{"$f":"'[5]80-89岁本月在册高龄公示名单  '!E12","v":87},{"$f":"'[5]80-89岁本月在册高龄公示名单  '!F12","v":50},{"$f":"'[5]80-89岁本月在册高龄公示名单  '!G12","v":"2025-08-09"}]
[457,{"$f":"'[5]80-89岁本月在册高龄公示名单  '!B13","v":"长风社区"},{"$f":"'[5]80-89岁本月在册高龄公示名单  '!C13","v":"霍桂英"},{"$f":"'[5]80-89岁本月在册高龄公示名单  '!D13","v":"女"},{"$f":"'[5]80-89岁本月在册高龄公示名单  '!E13","v":87},{"$f":"'[5]80-89岁本月在册高龄公示名单  '!F13","v":50},{"$f":"'[5]80-89岁本月在册高龄公示名单  '!G13","v":"2025-08-10"}]
[458,{"$f":"'[5]80-89岁本月在册高龄公示名单  '!B14","v":"长风社区"},{"$f":"'[5]80-89岁本月在册高龄公示名单  '!C14","v":"陆立文"},{"$f":"'[5]80-89岁本月在册高龄公示名单  '!D14","v":"男"},{"$f":"'[5]80-89岁本月在册高龄公示名单  '!E14","v":87},{"$f":"'[5]80-89岁本月在册高龄公示名单  '!F14","v":50},{"$f":"'[5]80-89岁本月在册高龄公示名单  '!G14","v":"2025-08-11"}]
[459,{"$f":"'[5]80-89岁本月在册高龄公示名单  '!B15","v":"长风社区"},{"$f":"'[5]80-89岁本月在册高龄公示名单  '!C15","v":"覃淑兰"},{"$f":"'[5]80-89岁本月在册高龄公示名单  '!D15","v":"女"},{"$f":"'[5]80-89岁本月在册高龄公示名单  '!E15","v":87},{"$f":"'[5]80-89岁本月在册高龄公示名单  '!F15","v":50},{"$f":"'[5]80-89岁本月在册高龄公示名单  '!G15","v":"2025-08-12"}]
[460,{"$f":"'[5]80-89岁本月在册高龄公示名单  '!B16","v":"长风社区"},{"$f":"'[5]80-89岁本月在册高龄公示名单  '!C16","v":"董德贞"},{"$f":"'[5]80-89岁本月在册高龄公示名单  '!D16","v":"女"},{"$f":"'[5]80-89岁本月在册高龄公示名单  '!E16","v":86},{"$f":"'[5]80-89岁本月在册高龄公示名单  '!F16","v":50},{"$f":"'[5]80-89岁本月在册高龄公示名单  '!G16","v":"2025-08-13"}]
[461,{"$f":"'[5]80-89岁本月在册高龄公示名单  '!B17","v":"长风社区"},{"$f":"'[5]80-89岁本月在册高龄公示名单  '!C17","v":"罗秀珍"},{"$f":"'[5]80-89岁本月在册高龄公示名单  '!D17","v":"女"},{"$f":"'[5]80-89岁本月在册高龄公示名单  '!E17","v":88},{"$f":"'[5]80-89岁本月在册高龄公示名单  '!F17","v":50},{"$f":"'[5]80-89岁本月在册高龄公示名单  '!G17","v":"2025-08-14"}]
[462,{"$f":"'[5]80-89岁本月在册高龄公示名单  '!B18","v":"长风社区"},{"$f":"'[5]80-89岁本月在册高龄公示名单  '!C18","v":"施秀珍"},{"$f":"'[5]80-89岁本月在册高龄公示名单  '!D18","v":"女"},{"$f":"'[5]80-89岁本月在册高龄公示名单  '!E18","v":86},{"$f":"'[5]80-89岁本月在册高龄公示名单  '!F18","v":50},{"$f":"'[5]80-89岁本月在册高龄公示名单  '!G18","v":"2025-08-15"}]
[463,{"$f":"'[5]80-89岁本月在册高龄公示名单  '!B19","v":"长风社区"},{"$f":"'[5]80-89岁本月在册高龄公示名单  '!C19","v":"吴淑媛"},{"$f":"'[5]80-89岁本月在册高龄公示名单  '!D19","v":"女"},{"$f":"'[5]80-89岁本月在册高龄公示名单  '!E19","v":86},{"$f":"'[5]80-89岁本月在册高龄公示名单  '!F19","v":50},{"$f":"'[5]80-89岁本月在册高龄公示名单  '!G19","v":"2025-08-16"}]
[464,{"$f":"'[5]80-89岁本月在册高龄公示名单  '!B20","v":"长风社区"},{"$f":"'[5]80-89岁本月在册高龄公示名单  '!C20","v":"袁汉城"},{"$f":"'[5]80-89岁本月在册高龄公示名单  '!D20","v":"男"},{"$f":"'[5]80-89岁本月在册高龄公示名单  '!E20","v":86},{"$f":"'[5]80-89岁本月在册高龄公示名单  '!F20","v":50},{"$f":"'[5]80-89岁本月在册高龄公示名单  '!G20","v":"2025-08-17"}]
[465,{"$f":"'[5]80-89岁本月在册高龄公示名单  '!B21","v":"长风社区"},{"$f":"'[5]80-89岁本月在册高龄公示名单  '!C21","v":"罗旺生"},{"$f":"'[5]80-89岁本月在册高龄公示名单  '!D21","v":"男"},{"$f":"'[5]80-89岁本月在册高龄公示名单  '!E21","v":89},{"$f":"'[5]80-89岁本月在册高龄公示名单  '!F21","v":50},{"$f":"'[5]80-89岁本月在册高龄公示名单  '!G21","v":"2025-08-18"}]
[466,{"$f":"'[5]80-89岁本月在册高龄公示名单  '!B22","v":"长风社区"},{"$f":"'[5]80-89岁本月在册高龄公示名单  '!C22","v":"姚桂珍"},{"$f":"'[5]80-89岁本月在册高龄公示名单  '!D22","v":"女"},{"$f":"'[5]80-89岁本月在册高龄公示名单  '!E22","v":85},{"$f":"'[5]80-89岁本月在册高龄公示名单  '!F22","v":50},{"$f":"'[5]80-89岁本月在册高龄公示名单  '!G22","v":"2025-08-19"}]
[467,{"$f":"'[5]80-89岁本月在册高龄公示名单  '!B23","v":"长风社区"},{"$f":"'[5]80-89岁本月在册高龄公示名单  '!C23","v":"覃贲"},{"$f":"'[5]80-89岁本月在册高龄公示名单  '!D23","v":"男"},{"$f":"'[5]80-89岁本月在册高龄公示名单  '!E23","v":85},{"$f":"'[5]80-89岁本月在册高龄公示名单  '!F23","v":50},{"$f":"'[5]80-89岁本月在册高龄公示名单  '!G23","v":"2025-08-20"}]
[468,{"$f":"'[5]80-89岁本月在册高龄公示名单  '!B24","v":"长风社区"},{"$f":"'[5]80-89岁本月在册高龄公示名单  '!C24","v":"封贵珍"},{"$f":"'[5]80-89岁本月在册高龄公示名单  '!D24","v":"女"},{"$f":"'[5]80-89岁本月在册高龄公示名单  '!E24","v":85},{"$f":"'[5]80-89岁本月在册高龄公示名单  '!F24","v":50},{"$f":"'[5]80-89岁本月在册高龄公示名单  '!G24","v":"2025-08-21"}]
[469,{"$f":"'[5]80-89岁本月在册高龄公示名单  '!B25","v":"长风社区"},{"$f":"'[5]80-89岁本月在册高龄公示名单  '!C25","v":"庞民芳"},{"$f":"'[5]80-89岁本月在册高龄公示名单  '!D25","v":"男"},{"$f":"'[5]80-89岁本月在册高龄公示名单  '!E25","v":85},{"$f":"'[5]80-89岁本月在册高龄公示名单  '!F25","v":50},{"$f":"'[5]80-89岁本月在册高龄公示名单  '!G25","v":"2025-08-22"}]
[470,{"$f":"'[5]80-89岁本月在册高龄公示名单  '!B26","v":"长风社区"},{"$f":"'[5]80-89岁本月在册高龄公示名单  '!C26","v":"覃竺荣"},{"$f":"'[5]80-89岁本月在册高龄公示名单  '!D26","v":"男"},{"$f":"'[5]80-89岁本月在册高龄公示名单  '!E26","v":85},{"$f":"'[5]80-89岁本月在册高龄公示名单  '!F26","v":50},{"$f":"'[5]80-89岁本月在册高龄公示名单  '!G26","v":"2025-08-23"}]
[471,{"$f":"'[5]80-89岁本月在册高龄公示名单  '!B27","v":"长风社区"},{"$f":"'[5]80-89岁本月在册高龄公示名单  '!C27","v":"杨才发"},{"$f":"'[5]80-89岁本月在册高龄公示名单  '!D27","v":"男"},{"$f":"'[5]80-89岁本月在册高龄公示名单  '!E27","v":84},{"$f":"'[5]80-89岁本月在册高龄公示名单  '!F27","v":50},{"$f":"'[5]80-89岁本月在册高龄公示名单  '!G27","v":"2025-08-24"}]
[472,{"$f":"'[5]80-89岁本月在册高龄公示名单  '!B28","v":"长风社区"},{"$f":"'[5]80-89岁本月在册高龄公示名单  '!C28","v":"吕敬同"},{"$f":"'[5]80-89岁本月在册高龄公示名单  '!D28","v":"女"},{"$f":"'[5]80-89岁本月在册高龄公示名单  '!E28","v":84},{"$f":"'[5]80-89岁本月在册高龄公示名单  '!F28","v":50},{"$f":"'[5]80-89岁本月在册高龄公示名单  '!G28","v":"2025-08-25"}]
[473,{"$f":"'[5]80-89岁本月在册高龄公示名单  '!B29","v":"长风社区"},{"$f":"'[5]80-89岁本月在册高龄公示名单  '!C29","v":"韦桂英"},{"$f":"'[5]80-89岁本月在册高龄公示名单  '!D29","v":"女"},{"$f":"'[5]80-89岁本月在册高龄公示名单  '!E29","v":84},{"$f":"'[5]80-89岁本月在册高龄公示名单  '!F29","v":50},{"$f":"'[5]80-89岁本月在册高龄公示名单  '!G29","v":"2025-08-26"}]
[474,{"$f":"'[5]80-89岁本月在册高龄公示名单  '!B30","v":"长风社区"},{"$f":"'[5]80-89岁本月在册高龄公示名单  '!C30","v":"黄容仙"},{"$f":"'[5]80-89岁本月在册高龄公示名单  '!D30","v":"女"},{"$f":"'[5]80-89岁本月在册高龄公示名单  '!E30","v":84},{"$f":"'[5]80-89岁本月在册高龄公示名单  '!F30","v":50},{"$f":"'[5]80-89岁本月在册高龄公示名单  '!G30","v":"2025-08-27"}]
[475,{"$f":"'[5]80-89岁本月在册高龄公示名单  '!B31","v":"长风社区"},{"$f":"'[5]80-89岁本月在册高龄公示名单  '!C31","v":"伍敬珍"},{"$f":"'[5]80-89岁本月在册高龄公示名单  '!D31","v":"女"},{"$f":"'[5]80-89岁本月在册高龄公示名单  '!E31","v":84},{"$f":"'[5]80-89岁本月在册高龄公示名单  '!F31","v":50},{"$f":"'[5]80-89岁本月在册高龄公示名单  '!G31","v":"2025-08-28"}]
[476,{"$f":"'[5]80-89岁本月在册高龄公示名单  '!B32","v":"长风社区"},{"$f":"'[5]80-89岁本月在册高龄公示名单  '!C32","v":"曾桂英"},{"$f":"'[5]80-89岁本月在册高龄公示名单  '!D32","v":"女"},{"$f":"'[5]80-89岁本月在册高龄公示名单  '!E32","v":84},{"$f":"'[5]80-89岁本月在册高龄公示名单  '!F32","v":50},{"$f":"'[5]80-89岁本月在册高龄公示名单  '!G32","v":"2025-08-29"}]
[477,{"$f":"'[5]80-89岁本月在册高龄公示名单  '!B33","v":"长风社区"},{"$f":"'[5]80-89岁本月在册高龄公示名单  '!C33","v":"覃秀英"},{"$f":"'[5]80-89岁本月在册高龄公示名单  '!D33","v":"女"},{"$f":"'[5]80-89岁本月在册高龄公示名单  '!E33","v":84},{"$f":"'[5]80-89岁本月在册高龄公示名单  '!F33","v":50},{"$f":"'[5]80-89岁本月在册高龄公示名单  '!G33","v":"2025-08-30"}]
[478,{"$f":"'[5]80-89岁本月在册高龄公示名单  '!B34","v":"长风社区"},{"$f":"'[5]80-89岁本月在册高龄公示名单  '!C34","v":"林锦能"},{"$f":"'[5]80-89岁本月在册高龄公示名单  '!D34","v":"男"},{"$f":"'[5]80-89岁本月在册高龄公示名单  '!E34","v":84},{"$f":"'[5]80-89岁本月在册高龄公示名单  '!F34","v":50},{"$f":"'[5]80-89岁本月在册高龄公示名单  '!G34","v":"2025-08-31"}]
[479,{"$f":"'[5]80-89岁本月在册高龄公示名单  '!B35","v":"长风社区"},{"$f":"'[5]80-89岁本月在册高龄公示名单  '!C35","v":"余祖英"},{"$f":"'[5]80-89岁本月在册高龄公示名单  '!D35","v":"女"},{"$f":"'[5]80-89岁本月在册高龄公示名单  '!E35","v":84},{"$f":"'[5]80-89岁本月在册高龄公示名单  '!F35","v":50},{"$f":"'[5]80-89岁本月在册高龄公示名单  '!G35","v":"2025-08-31"}]
[480,{"$f":"'[5]80-89岁本月在册高龄公示名单  '!B36","v":"长风社区"},{"$f":"'[5]80-89岁本月在册高龄公示名单  '!C36","v":"韦罗新"},{"$f":"'[5]80-89岁本月在册高龄公示名单  '!D36","v":"男"},{"$f":"'[5]80-89岁本月在册高龄公示名单  '!E36","v":83},{"$f":"'[5]80-89岁本月在册高龄公示名单  '!F36","v":50},{"$f":"'[5]80-89岁本月在册高龄公示名单  '!G36","v":"2025-08-31"}]
[481,{"$f":"'[5]80-89岁本月在册高龄公示名单  '!B37","v":"长风社区"},{"$f":"'[5]80-89岁本月在册高龄公示名单  '!C37","v":"梁锦全"},{"$f":"'[5]80-89岁本月在册高龄公示名单  '!D37","v":"男"},{"$f":"'[5]80-89岁本月在册高龄公示名单  '!E37","v":83},{"$f":"'[5]80-89岁本月在册高龄公示名单  '!F37","v":50},{"$f":"'[5]80-89岁本月在册高龄公示名单  '!G37","v":"2025-08-31"}]
[482,{"$f":"'[5]80-89岁本月在册高龄公示名单  '!B38","v":"长风社区"},{"$f":"'[5]80-89岁本月在册高龄公示名单  '!C38","v":"覃水金"},{"$f":"'[5]80-89岁本月在册高龄公示名单  '!D38","v":"女"},{"$f":"'[5]80-89岁本月在册高龄公示名单  '!E38","v":83},{"$f":"'[5]80-89岁本月在册高龄公示名单  '!F38","v":50},{"$f":"'[5]80-89岁本月在册高龄公示名单  '!G38","v":"2025-08-31"}]
[483,{"$f":"'[5]80-89岁本月在册高龄公示名单  '!B39","v":"长风社区"},{"$f":"'[5]80-89岁本月在册高龄公示名单  '!C39","v":"潘培民"},{"$f":"'[5]80-89岁本月在册高龄公示名单  '!D39","v":"男"},{"$f":"'[5]80-89岁本月在册高龄公示名单  '!E39","v":83},{"$f":"'[5]80-89岁本月在册高龄公示名单  '!F39","v":50},{"$f":"'[5]80-89岁本月在册高龄公示名单  '!G39","v":"2025-08-31"}]
[484,{"$f":"'[5]80-89岁本月在册高龄公示名单  '!B40","v":"长风社区"},{"$f":"'[5]80-89岁本月在册高龄公示名单  '!C40","v":"刘明凤"},{"$f":"'[5]80-89岁本月在册高龄公示名单  '!D40","v":"女"},{"$f":"'[5]80-89岁本月在册高龄公示名单  '!E40","v":83},{"$f":"'[5]80-89岁本月在册高龄公示名单  '!F40","v":50},{"$f":"'[5]80-89岁本月在册高龄公示名单  '!G40","v":"2025-08-31"}]
[485,{"$f":"'[5]80-89岁本月在册高龄公示名单  '!B41","v":"长风社区"},{"$f":"'[5]80-89岁本月在册高龄公示名单  '!C41","v":"曾凤群"},{"$f":"'[5]80-89岁本月在册高龄公示名单  '!D41","v":"女"},{"$f":"'[5]80-89岁本月在册高龄公示名单  '!E41","v":84},{"$f":"'[5]80-89岁本月在册高龄公示名单  '!F41","v":50},{"$f":"'[5]80-89岁本月在册高龄公示名单  '!G41","v":"2025-08-31"}]
[486,{"$f":"'[5]80-89岁本月在册高龄公示名单  '!B42","v":"长风社区"},{"$f":"'[5]80-89岁本月在册高龄公示名单  '!C42","v":"欧美彩"},{"$f":"'[5]80-89岁本月在册高龄公示名单  '!D42","v":"女"},{"$f":"'[5]80-89岁本月在册高龄公示名单  '!E42","v":83},{"$f":"'[5]80-89岁本月在册高龄公示名单  '!F42","v":50},{"$f":"'[5]80-89岁本月在册高龄公示名单  '!G42","v":"2025-08-31"}]
[487,{"$f":"'[5]80-89岁本月在册高龄公示名单  '!B43","v":"长风社区"},{"$f":"'[5]80-89岁本月在册高龄公示名单  '!C43","v":"罗兴泉"},{"$f":"'[5]80-89岁本月在册高龄公示名单  '!D43","v":"男"},{"$f":"'[5]80-89岁本月在册高龄公示名单  '!E43","v":83},{"$f":"'[5]80-89岁本月在册高龄公示名单  '!F43","v":50},{"$f":"'[5]80-89岁本月在册高龄公示名单  '!G43","v":"2025-08-31"}]
[488,{"$f":"'[5]80-89岁本月在册高龄公示名单  '!B44","v":"长风社区"},{"$f":"'[5]80-89岁本月在册高龄公示名单  '!C44","v":"韦丽芬"},{"$f":"'[5]80-89岁本月在册高龄公示名单  '!D44","v":"女"},{"$f":"'[5]80-89岁本月在册高龄公示名单  '!E44","v":83},{"$f":"'[5]80-89岁本月在册高龄公示名单  '!F44","v":50},{"$f":"'[5]80-89岁本月在册高龄公示名单  '!G44","v":"2025-08-31"}]
[489,{"$f":"'[5]80-89岁本月在册高龄公示名单  '!B45","v":"长风社区"},{"$f":"'[5]80-89岁本月在册高龄公示名单  '!C45","v":"陈菊珍"},{"$f":"'[5]80-89岁本月在册高龄公示名单  '!D45","v":"女"},{"$f":"'[5]80-89岁本月在册高龄公示名单  '!E45","v":82},{"$f":"'[5]80-89岁本月在册高龄公示名单  '!F45","v":50},{"$f":"'[5]80-89岁本月在册高龄公示名单  '!G45","v":"2025-08-31"}]
[490,{"$f":"'[5]80-89岁本月在册高龄公示名单  '!B46","v":"长风社区"},{"$f":"'[5]80-89岁本月在册高龄公示名单  '!C46","v":"付雪萍"},{"$f":"'[5]80-89岁本月在册高龄公示名单  '!D46","v":"女"},{"$f":"'[5]80-89岁本月在册高龄公示名单  '!E46","v":82},{"$f":"'[5]80-89岁本月在册高龄公示名单  '!F46","v":50},{"$f":"'[5]80-89岁本月在册高龄公示名单  '!G46","v":"2025-08-31"}]
[491,{"$f":"'[5]80-89岁本月在册高龄公示名单  '!B47","v":"长风社区"},{"$f":"'[5]80-89岁本月在册高龄公示名单  '!C47","v":"刘爱云"},{"$f":"'[5]80-89岁本月在册高龄公示名单  '!D47","v":"女"},{"$f":"'[5]80-89岁本月在册高龄公示名单  '!E47","v":82},{"$f":"'[5]80-89岁本月在册高龄公示名单  '!F47","v":50},{"$f":"'[5]80-89岁本月在册高龄公示名单  '!G47","v":"2025-08-31"}]
[492,{"$f":"'[5]80-89岁本月在册高龄公示名单  '!B48","v":"长风社区"},{"$f":"'[5]80-89岁本月在册高龄公示名单  '!C48","v":"梁松生"},{"$f":"'[5]80-89岁本月在册高龄公示名单  '!D48","v":"男"},{"$f":"'[5]80-89岁本月在册高龄公示名单  '!E48","v":82},{"$f":"'[5]80-89岁本月在册高龄公示名单  '!F48","v":50},{"$f":"'[5]80-89岁本月在册高龄公示名单  '!G48","v":"2025-08-31"}]
[493,{"$f":"'[5]80-89岁本月在册高龄公示名单  '!B49","v":"长风社区"},{"$f":"'[5]80-89岁本月在册高龄公示名单  '!C49","v":"宁建祯"},{"$f":"'[5]80-89岁本月在册高龄公示名单  '!D49","v":"女"},{"$f":"'[5]80-89岁本月在册高龄公示名单  '!E49","v":82},{"$f":"'[5]80-89岁本月在册高龄公示名单  '!F49","v":50},{"$f":"'[5]80-89岁本月在册高龄公示名单  '!G49","v":"2025-08-31"}]
[494,{"$f":"'[5]80-89岁本月在册高龄公示名单  '!B50","v":"长风社区"},{"$f":"'[5]80-89岁本月在册高龄公示名单  '!C50","v":"张汝娟"},{"$f":"'[5]80-89岁本月在册高龄公示名单  '!D50","v":"女"},{"$f":"'[5]80-89岁本月在册高龄公示名单  '!E50","v":82},{"$f":"'[5]80-89岁本月在册高龄公示名单  '!F50","v":50},{"$f":"'[5]80-89岁本月在册高龄公示名单  '!G50","v":"2025-08-31"}]
[495,{"$f":"'[5]80-89岁本月在册高龄公示名单  '!B51","v":"长风社区"},{"$f":"'[5]80-89岁本月在册高龄公示名单  '!C51","v":"吴教义"},{"$f":"'[5]80-89岁本月在册高龄公示名单  '!D51","v":"男"},{"$f":"'[5]80-89岁本月在册高龄公示名单  '!E51","v":82},{"$f":"'[5]80-89岁本月在册高龄公示名单  '!F51","v":50},{"$f":"'[5]80-89岁本月在册高龄公示名单  '!G51","v":"2025-08-31"}]
[496,{"$f":"'[5]80-89岁本月在册高龄公示名单  '!B52","v":"长风社区"},{"$f":"'[5]80-89岁本月在册高龄公示名单  '!C52","v":"张子成"},{"$f":"'[5]80-89岁本月在册高龄公示名单  '!D52","v":"男"},{"$f":"'[5]80-89岁本月在册高龄公示名单  '!E52","v":82},{"$f":"'[5]80-89岁本月在册高龄公示名单  '!F52","v":50},{"$f":"'[5]80-89岁本月在册高龄公示名单  '!G52","v":"2025-08-31"}]
[497,{"$f":"'[5]80-89岁本月在册高龄公示名单  '!B53","v":"长风社区"},{"$f":"'[5]80-89岁本月在册高龄公示名单  '!C53","v":"蒋宏元"},{"$f":"'[5]80-89岁本月在册高龄公示名单  '!D53","v":"男"},{"$f":"'[5]80-89岁本月在册高龄公示名单  '!E53","v":89},{"$f":"'[5]80-89岁本月在册高龄公示名单  '!F53","v":50},{"$f":"'[5]80-89岁本月在册高龄公示名单  '!G53","v":"2025-08-31"}]
[498,{"$f":"'[5]80-89岁本月在册高龄公示名单  '!B54","v":"长风社区"},{"$f":"'[5]80-89岁本月在册高龄公示名单  '!C54","v":"余秀英"},{"$f":"'[5]80-89岁本月在册高龄公示名单  '!D54","v":"女"},{"$f":"'[5]80-89岁本月在册高龄公示名单  '!E54","v":82},{"$f":"'[5]80-89岁本月在册高龄公示名单  '!F54","v":50},{"$f":"'[5]80-89岁本月在册高龄公示名单  '!G54","v":"2025-08-31"}]
[499,{"$f":"'[5]80-89岁本月在册高龄公示名单  '!B55","v":"长风社区"},{"$f":"'[5]80-89岁本月在册高龄公示名单  '!C55","v":"刘琼珍"},{"$f":"'[5]80-89岁本月在册高龄公示名单  '!D55","v":"女"},{"$f":"'[5]80-89岁本月在册高龄公示名单  '!E55","v":81},{"$f":"'[5]80-89岁本月在册高龄公示名单  '!F55","v":50},{"$f":"'[5]80-89岁本月在册高龄公示名单  '!G55","v":"2025-08-31"}]
[500,{"$f":"'[5]80-89岁本月在册高龄公示名单  '!B56","v":"长风社区"},{"$f":"'[5]80-89岁本月在册高龄公示名单  '!C56","v":"梁家能"},{"$f":"'[5]80-89岁本月在册高龄公示名单  '!D56","v":"男"},{"$f":"'[5]80-89岁本月在册高龄公示名单  '!E56","v":81},{"$f":"'[5]80-89岁本月在册高龄公示名单  '!F56","v":50},{"$f":"'[5]80-89岁本月在册高龄公示名单  '!G56","v":"2025-08-31"}]
[501,{"$f":"'[5]80-89岁本月在册高龄公示名单  '!B57","v":"长风社区"},{"$f":"'[5]80-89岁本月在册高龄公示名单  '!C57","v":"任惠林"},{"$f":"'[5]80-89岁本月在册高龄公示名单  '!D57","v":"女"},{"$f":"'[5]80-89岁本月在册高龄公示名单  '!E57","v":82},{"$f":"'[5]80-89岁本月在册高龄公示名单  '!F57","v":50},{"$f":"'[5]80-89岁本月在册高龄公示名单  '!G57","v":"2025-08-31"}]
[502,{"$f":"'[5]80-89岁本月在册高龄公示名单  '!B58","v":"长风社区"},{"$f":"'[5]80-89岁本月在册高龄公示名单  '!C58","v":"江冠华"},{"$f":"'[5]80-89岁本月在册高龄公示名单  '!D58","v":"男"},{"$f":"'[5]80-89岁本月在册高龄公示名单  '!E58","v":81},{"$f":"'[5]80-89岁本月在册高龄公示名单  '!F58","v":50},{"$f":"'[5]80-89岁本月在册高龄公示名单  '!G58","v":"2025-08-31"}]
[503,{"$f":"'[5]80-89岁本月在册高龄公示名单  '!B59","v":"长风社区"},{"$f":"'[5]80-89岁本月在册高龄公示名单  '!C59","v":"梁其慈"},{"$f":"'[5]80-89岁本月在册高龄公示名单  '!D59","v":"女"},{"$f":"'[5]80-89岁本月在册高龄公示名单  '!E59","v":81},{"$f":"'[5]80-89岁本月在册高龄公示名单  '!F59","v":50},{"$f":"'[5]80-89岁本月在册高龄公示名单  '!G59","v":"2025-08-31"}]
[504,{"$f":"'[5]80-89岁本月在册高龄公示名单  '!B60","v":"长风社区"},{"$f":"'[5]80-89岁本月在册高龄公示名单  '!C60","v":"潘雄业"},{"$f":"'[5]80-89岁本月在册高龄公示名单  '!D60","v":"男"},{"$f":"'[5]80-89岁本月在册高龄公示名单  '!E60","v":81},{"$f":"'[5]80-89岁本月在册高龄公示名单  '!F60","v":50},{"$f":"'[5]80-89岁本月在册高龄公示名单  '!G60","v":"2025-08-31"}]
[505,{"$f":"'[5]80-89岁本月在册高龄公示名单  '!B61","v":"长风社区"},{"$f":"'[5]80-89岁本月在册高龄公示名单  '!C61","v":"傅琦"},{"$f":"'[5]80-89岁本月在册高龄公示名单  '!D61","v":"男"},{"$f":"'[5]80-89岁本月在册高龄公示名单  '!E61","v":82},{"$f":"'[5]80-89岁本月在册高龄公示名单  '!F61","v":50},{"$f":"'[5]80-89岁本月在册高龄公示名单  '!G61","v":"2025-08-31"}]
[506,{"$f":"'[5]80-89岁本月在册高龄公示名单  '!B62","v":"长风社区"},{"$f":"'[5]80-89岁本月在册高龄公示名单  '!C62","v":"罗庆格"},{"$f":"'[5]80-89岁本月在册高龄公示名单  '!D62","v":"男"},{"$f":"'[5]80-89岁本月在册高龄公示名单  '!E62","v":81},{"$f":"'[5]80-89岁本月在册高龄公示名单  '!F62","v":50},{"$f":"'[5]80-89岁本月在册高龄公示名单  '!G62","v":"2025-08-31"}]
[507,{"$f":"'[5]80-89岁本月在册高龄公示名单  '!B63","v":"长风社区"},{"$f":"'[5]80-89岁本月在册高龄公示名单  '!C63","v":"唐陆云"},{"$f":"'[5]80-89岁本月在册高龄公示名单  '!D63","v":"女"},{"$f":"'[5]80-89岁本月在册高龄公示名单  '!E63","v":83},{"$f":"'[5]80-89岁本月在册高龄公示名单  '!F63","v":50},{"$f":"'[5]80-89岁本月在册高龄公示名单  '!G63","v":"2025-08-31"}]
[508,{"$f":"'[5]80-89岁本月在册高龄公示名单  '!B64","v":"长风社区"},{"$f":"'[5]80-89岁本月在册高龄公示名单  '!C64","v":"潘伯贤"},{"$f":"'[5]80-89岁本月在册高龄公示名单  '!D64","v":"女"},{"$f":"'[5]80-89岁本月在册高龄公示名单  '!E64","v":81},{"$f":"'[5]80-89岁本月在册高龄公示名单  '!F64","v":50},{"$f":"'[5]80-89岁本月在册高龄公示名单  '!G64","v":"2025-08-31"}]
[509,{"$f":"'[5]80-89岁本月在册高龄公示名单  '!B65","v":"长风社区"},{"$f":"'[5]80-89岁本月在册高龄公示名单  '!C65","v":"肖木英"},{"$f":"'[5]80-89岁本月在册高龄公示名单  '!D65","v":"女"},{"$f":"'[5]80-89岁本月在册高龄公示名单  '!E65","v":81},{"$f":"'[5]80-89岁本月在册高龄公示名单  '!F65","v":50},{"$f":"'[5]80-89岁本月在册高龄公示名单  '!G65","v":"2025-08-31"}]
[510,{"$f":"'[5]80-89岁本月在册高龄公示名单  '!B66","v":"长风社区"},{"$f":"'[5]80-89岁本月在册高龄公示名单  '!C66","v":"陈开新"},{"$f":"'[5]80-89岁本月在册高龄公示名单  '!D66","v":"男"},{"$f":"'[5]80-89岁本月在册高龄公示名单  '!E66","v":81},{"$f":"'[5]80-89岁本月在册高龄公示名单  '!F66","v":50},{"$f":"'[5]80-89岁本月在册高龄公示名单  '!G66","v":"2025-08-31"}]
[511,{"$f":"'[5]80-89岁本月在册高龄公示名单  '!B67","v":"长风社区"},{"$f":"'[5]80-89岁本月在册高龄公示名单  '!C67","v":"肖定业"},{"$f":"'[5]80-89岁本月在册高龄公示名单  '!D67","v":"男"},{"$f":"'[5]80-89岁本月在册高龄公示名单  '!E67","v":81},{"$f":"'[5]80-89岁本月在册高龄公示名单  '!F67","v":50},{"$f":"'[5]80-89岁本月在册高龄公示名单  '!G67","v":"2025-08-31"}]
[512,{"$f":"'[5]80-89岁本月在册高龄公示名单  '!B68","v":"长风社区"},{"$f":"'[5]80-89岁本月在册高龄公示名单  '!C68","v":"李太平"},{"$f":"'[5]80-89岁本月在册高龄公示名单  '!D68","v":"男"},{"$f":"'[5]80-89岁本月在册高龄公示名单  '!E68","v":81},{"$f":"'[5]80-89岁本月在册高龄公示名单  '!F68","v":50},{"$f":"'[5]80-89岁本月在册高龄公示名单  '!G68","v":"2025-08-31"}]
[513,{"$f":"'[5]80-89岁本月在册高龄公示名单  '!B69","v":"长风社区"},{"$f":"'[5]80-89岁本月在册高龄公示名单  '!C69","v":"陈盛刚"},{"$f":"'[5]80-89岁本月在册高龄公示名单  '!D69","v":"男"},{"$f":"'[5]80-89岁本月在册高龄公示名单  '!E69","v":81},{"$f":"'[5]80-89岁本月在册高龄公示名单  '!F69","v":50},{"$f":"'[5]80-89岁本月在册高龄公示名单  '!G69","v":"2025-08-31"}]
[514,{"$f":"'[5]80-89岁本月在册高龄公示名单  '!B70","v":"长风社区"},{"$f":"'[5]80-89岁本月在册高龄公示名单  '!C70","v":"姚洪喜"},{"$f":"'[5]80-89岁本月在册高龄公示名单  '!D70","v":"男"},{"$f":"'[5]80-89岁本月在册高龄公示名单  '!E70","v":80},{"$f":"'[5]80-89岁本月在册高龄公示名单  '!F70","v":50},{"$f":"'[5]80-89岁本月在册高龄公示名单  '!G70","v":"2025-08-31"}]
[515,{"$f":"'[5]80-89岁本月在册高龄公示名单  '!B71","v":"长风社区"},{"$f":"'[5]80-89岁本月在册高龄公示名单  '!C71","v":"俞真"},{"$f":"'[5]80-89岁本月在册高龄公示名单  '!D71","v":"男"},{"$f":"'[5]80-89岁本月在册高龄公示名单  '!E71","v":89},{"$f":"'[5]80-89岁本月在册高龄公示名单  '!F71","v":50},{"$f":"'[5]80-89岁本月在册高龄公示名单  '!G71","v":"2025-08-31"}]
[516,{"$f":"'[5]80-89岁本月在册高龄公示名单  '!B72","v":"长风社区"},{"$f":"'[5]80-89岁本月在册高龄公示名单  '!C72","v":"苏桂英"},{"$f":"'[5]80-89岁本月在册高龄公示名单  '!D72","v":"女"},{"$f":"'[5]80-89岁本月在册高龄公示名单  '!E72","v":80},{"$f":"'[5]80-89岁本月在册高龄公示名单  '!F72","v":50},{"$f":"'[5]80-89岁本月在册高龄公示名单  '!G72","v":"2025-08-31"}]
[517,{"$f":"'[5]80-89岁本月在册高龄公示名单  '!B73","v":"长风社区"},{"$f":"'[5]80-89岁本月在册高龄公示名单  '!C73","v":"计群英"},{"$f":"'[5]80-89岁本月在册高龄公示名单  '!D73","v":"女"},{"$f":"'[5]80-89岁本月在册高龄公示名单  '!E73","v":80},{"$f":"'[5]80-89岁本月在册高龄公示名单  '!F73","v":50},{"$f":"'[5]80-89岁本月在册高龄公示名单  '!G73","v":"2025-08-31"}]
[518,{"$f":"'[6]80岁本月在册高龄公示名单'!B4","v":"长林社区"},{"$f":"'[6]80岁本月在册高龄公示名单'!C4","v":"侯中鸣"},{"$f":"'[6]80岁本月在册高龄公示名单'!D4","v":"男"},{"$f":"'[6]80岁本月在册高龄公示名单'!E4","v":89},{"$f":"'[6]80岁本月在册高龄公示名单'!F4","v":50},{"$f":"'[6]80岁本月在册高龄公示名单'!G4","v":"2025-08-01"}]
[519,{"$f":"'[6]80岁本月在册高龄公示名单'!B5","v":"长林社区"},{"$f":"'[6]80岁本月在册高龄公示名单'!C5","v":"卢玉庭"},{"$f":"'[6]80岁本月在册高龄公示名单'!D5","v":"男"},{"$f":"'[6]80岁本月在册高龄公示名单'!E5","v":87},{"$f":"'[6]80岁本月在册高龄公示名单'!F5","v":50},{"$f":"'[6]80岁本月在册高龄公示名单'!G5","v":"2025-08-01"}]
[520,{"$f":"'[6]80岁本月在册高龄公示名单'!B6","v":"长林社区"},{"$f":"'[6]80岁本月在册高龄公示名单'!C6","v":"冯汉能"},{"$f":"'[6]80岁本月在册高龄公示名单'!D6","v":"男"},{"$f":"'[6]80岁本月在册高龄公示名单'!E6","v":89},{"$f":"'[6]80岁本月在册高龄公示名单'!F6","v":50},{"$f":"'[6]80岁本月在册高龄公示名单'!G6","v":"2025-08-01"}]
[521,{"$f":"'[6]80岁本月在册高龄公示名单'!B7","v":"长林社区"},{"$f":"'[6]80岁本月在册高龄公示名单'!C7","v":"徐桂英"},{"$f":"'[6]80岁本月在册高龄公示名单'!D7","v":"女"},{"$f":"'[6]80岁本月在册高龄公示名单'!E7","v":89},{"$f":"'[6]80岁本月在册高龄公示名单'!F7","v":50},{"$f":"'[6]80岁本月在册高龄公示名单'!G7","v":"2025-08-01"}]
[522,{"$f":"'[6]80岁本月在册高龄公示名单'!B8","v":"长林社区"},{"$f":"'[6]80岁本月在册高龄公示名单'!C8","v":"黎建芳"},{"$f":"'[6]80岁本月在册高龄公示名单'!D8","v":"女"},{"$f":"'[6]80岁本月在册高龄公示名单'!E8","v":86},{"$f":"'[6]80岁本月在册高龄公示名单'!F8","v":50},{"$f":"'[6]80岁本月在册高龄公示名单'!G8","v":"2025-08-01"}]
[523,{"$f":"'[6]80岁本月在册高龄公示名单'!B9","v":"长林社区"},{"$f":"'[6]80岁本月在册高龄公示名单'!C9","v":"覃瑛"},{"$f":"'[6]80岁本月在册高龄公示名单'!D9","v":"男"},{"$f":"'[6]80岁本月在册高龄公示名单'!E9","v":87},{"$f":"'[6]80岁本月在册高龄公示名单'!F9","v":50},{"$f":"'[6]80岁本月在册高龄公示名单'!G9","v":"2025-08-01"}]
[524,{"$f":"'[6]80岁本月在册高龄公示名单'!B10","v":"长林社区"},{"$f":"'[6]80岁本月在册高龄公示名单'!C10","v":"胡传凤"},{"$f":"'[6]80岁本月在册高龄公示名单'!D10","v":"女"},{"$f":"'[6]80岁本月在册高龄公示名单'!E10","v":87},{"$f":"'[6]80岁本月在册高龄公示名单'!F10","v":50},{"$f":"'[6]80岁本月在册高龄公示名单'!G10","v":"2025-08-01"}]
[525,{"$f":"'[6]80岁本月在册高龄公示名单'!B11","v":"长林社区"},{"$f":"'[6]80岁本月在册高龄公示名单'!C11","v":"谭素芳"},{"$f":"'[6]80岁本月在册高龄公示名单'!D11","v":"女"},{"$f":"'[6]80岁本月在册高龄公示名单'!E11","v":88},{"$f":"'[6]80岁本月在册高龄公示名单'!F11","v":50},{"$f":"'[6]80岁本月在册高龄公示名单'!G11","v":"2025-08-01"}]
[526,{"$f":"'[6]80岁本月在册高龄公示名单'!B12","v":"长林社区"},{"$f":"'[6]80岁本月在册高龄公示名单'!C12","v":"王满珍"},{"$f":"'[6]80岁本月在册高龄公示名单'!D12","v":"女"},{"$f":"'[6]80岁本月在册高龄公示名单'!E12","v":86},{"$f":"'[6]80岁本月在册高龄公示名单'!F12","v":50},{"$f":"'[6]80岁本月在册高龄公示名单'!G12","v":"2025-08-01"}]
[527,{"$f":"'[6]80岁本月在册高龄公示名单'!B13","v":"长林社区"},{"$f":"'[6]80岁本月在册高龄公示名单'!C13","v":"林景森"},{"$f":"'[6]80岁本月在册高龄公示名单'!D13","v":"女"},{"$f":"'[6]80岁本月在册高龄公示名单'!E13","v":86},{"$f":"'[6]80岁本月在册高龄公示名单'!F13","v":50},{"$f":"'[6]80岁本月在册高龄公示名单'!G13","v":"2025-08-01"}]
[528,{"$f":"'[6]80岁本月在册高龄公示名单'!B14","v":"长林社区"},{"$f":"'[6]80岁本月在册高龄公示名单'!C14","v":"戴定勋"},{"$f":"'[6]80岁本月在册高龄公示名单'!D14","v":"男"},{"$f":"'[6]80岁本月在册高龄公示名单'!E14","v":87},{"$f":"'[6]80岁本月在册高龄公示名单'!F14","v":50},{"$f":"'[6]80岁本月在册高龄公示名单'!G14","v":"2025-08-01"}]
[529,{"$f":"'[6]80岁本月在册高龄公示名单'!B15","v":"长林社区"},{"$f":"'[6]80岁本月在册高龄公示名单'!C15","v":"周金华"},{"$f":"'[6]80岁本月在册高龄公示名单'!D15","v":"女"},{"$f":"'[6]80岁本月在册高龄公示名单'!E15","v":87},{"$f":"'[6]80岁本月在册高龄公示名单'!F15","v":50},{"$f":"'[6]80岁本月在册高龄公示名单'!G15","v":"2025-08-01"}]
[530,{"$f":"'[6]80岁本月在册高龄公示名单'!B16","v":"长林社区"},{"$f":"'[6]80岁本月在册高龄公示名单'!C16","v":"周玉珍"},{"$f":"'[6]80岁本月在册高龄公示名单'!D16","v":"女"},{"$f":"'[6]80岁本月在册高龄公示名单'!E16","v":86},{"$f":"'[6]80岁本月在册高龄公示名单'!F16","v":50},{"$f":"'[6]80岁本月在册高龄公示名单'!G16","v":"2025-08-01"}]
[531,{"$f":"'[6]80岁本月在册高龄公示名单'!B17","v":"长林社区"},{"$f":"'[6]80岁本月在册高龄公示名单'!C17","v":"罗岱玉"},{"$f":"'[6]80岁本月在册高龄公示名单'!D17","v":"女"},{"$f":"'[6]80岁本月在册高龄公示名单'!E17","v":88},{"$f":"'[6]80岁本月在册高龄公示名单'!F17","v":50},{"$f":"'[6]80岁本月在册高龄公示名单'!G17","v":"2025-08-01"}]
[532,{"$f":"'[6]80岁本月在册高龄公示名单'!B18","v":"长林社区"},{"$f":"'[6]80岁本月在册高龄公示名单'!C18","v":"戴秀珍"},{"$f":"'[6]80岁本月在册高龄公示名单'!D18","v":"女"},{"$f":"'[6]80岁本月在册高龄公示名单'!E18","v":88},{"$f":"'[6]80岁本月在册高龄公示名单'!F18","v":50},{"$f":"'[6]80岁本月在册高龄公示名单'!G18","v":"2025-08-01"}]
[533,{"$f":"'[6]80岁本月在册高龄公示名单'!B19","v":"长林社区"},{"$f":"'[6]80岁本月在册高龄公示名单'!C19","v":"阳尽忠"},{"$f":"'[6]80岁本月在册高龄公示名单'!D19","v":"男"},{"$f":"'[6]80岁本月在册高龄公示名单'!E19","v":89},{"$f":"'[6]80岁本月在册高龄公示名单'!F19","v":50},{"$f":"'[6]80岁本月在册高龄公示名单'!G19","v":"2025-08-01"}]
[534,{"$f":"'[6]80岁本月在册高龄公示名单'!B20","v":"长林社区"},{"$f":"'[6]80岁本月在册高龄公示名单'!C20","v":"孙玉美"},{"$f":"'[6]80岁本月在册高龄公示名单'!D20","v":"女"},{"$f":"'[6]80岁本月在册高龄公示名单'!E20","v":87},{"$f":"'[6]80岁本月在册高龄公示名单'!F20","v":50},{"$f":"'[6]80岁本月在册高龄公示名单'!G20","v":"2025-08-01"}]
[535,{"$f":"'[6]80岁本月在册高龄公示名单'!B21","v":"长林社区"},{"$f":"'[6]80岁本月在册高龄公示名单'!C21","v":"韩月容"},{"$f":"'[6]80岁本月在册高龄公示名单'!D21","v":"女"},{"$f":"'[6]80岁本月在册高龄公示名单'!E21","v":87},{"$f":"'[6]80岁本月在册高龄公示名单'!F21","v":50},{"$f":"'[6]80岁本月在册高龄公示名单'!G21","v":"2025-08-01"}]
[536,{"$f":"'[6]80岁本月在册高龄公示名单'!B22","v":"长林社区"},{"$f":"'[6]80岁本月在册高龄公示名单'!C22","v":"陈其香"},{"$f":"'[6]80岁本月在册高龄公示名单'!D22","v":"女"},{"$f":"'[6]80岁本月在册高龄公示名单'!E22","v":89},{"$f":"'[6]80岁本月在册高龄公示名单'!F22","v":50},{"$f":"'[6]80岁本月在册高龄公示名单'!G22","v":"2025-08-01"}]
[537,{"$f":"'[6]80岁本月在册高龄公示名单'!B23","v":"长林社区"},{"$f":"'[6]80岁本月在册高龄公示名单'!C23","v":"赵晓川"},{"$f":"'[6]80岁本月在册高龄公示名单'!D23","v":"男"},{"$f":"'[6]80岁本月在册高龄公示名单'!E23","v":86},{"$f":"'[6]80岁本月在册高龄公示名单'!F23","v":50},{"$f":"'[6]80岁本月在册高龄公示名单'!G23","v":"2025-08-01"}]
[538,{"$f":"'[6]80岁本月在册高龄公示名单'!B24","v":"长林社区"},{"$f":"'[6]80岁本月在册高龄公示名单'!C24","v":"谭素珍"},{"$f":"'[6]80岁本月在册高龄公示名单'!D24","v":"女"},{"$f":"'[6]80岁本月在册高龄公示名单'!E24","v":87},{"$f":"'[6]80岁本月在册高龄公示名单'!F24","v":50},{"$f":"'[6]80岁本月在册高龄公示名单'!G24","v":"2025-08-01"}]
[539,{"$f":"'[6]80岁本月在册高龄公示名单'!B25","v":"长林社区"},{"$f":"'[6]80岁本月在册高龄公示名单'!C25","v":"韦宗与"},{"$f":"'[6]80岁本月在册高龄公示名单'!D25","v":"男"},{"$f":"'[6]80岁本月在册高龄公示名单'!E25","v":89},{"$f":"'[6]80岁本月在册高龄公示名单'!F25","v":50},{"$f":"'[6]80岁本月在册高龄公示名单'!G25","v":"2025-08-01"}]
[540,{"$f":"'[6]80岁本月在册高龄公示名单'!B26","v":"长林社区"},{"$f":"'[6]80岁本月在册高龄公示名单'!C26","v":"麦玉娥"},{"$f":"'[6]80岁本月在册高龄公示名单'!D26","v":"女"},{"$f":"'[6]80岁本月在册高龄公示名单'!E26","v":88},{"$f":"'[6]80岁本月在册高龄公示名单'!F26","v":50},{"$f":"'[6]80岁本月在册高龄公示名单'!G26","v":"2025-08-01"}]
[541,{"$f":"'[6]80岁本月在册高龄公示名单'!B27","v":"长林社区"},{"$f":"'[6]80岁本月在册高龄公示名单'!C27","v":"钱优技"},{"$f":"'[6]80岁本月在册高龄公示名单'!D27","v":"女"},{"$f":"'[6]80岁本月在册高龄公示名单'!E27","v":85},{"$f":"'[6]80岁本月在册高龄公示名单'!F27","v":50},{"$f":"'[6]80岁本月在册高龄公示名单'!G27","v":"2025-08-01"}]
[542,{"$f":"'[6]80岁本月在册高龄公示名单'!B28","v":"长林社区"},{"$f":"'[6]80岁本月在册高龄公示名单'!C28","v":"欧冬梅"},{"$f":"'[6]80岁本月在册高龄公示名单'!D28","v":"女"},{"$f":"'[6]80岁本月在册高龄公示名单'!E28","v":89},{"$f":"'[6]80岁本月在册高龄公示名单'!F28","v":50},{"$f":"'[6]80岁本月在册高龄公示名单'!G28","v":"2025-08-01"}]
[543,{"$f":"'[6]80岁本月在册高龄公示名单'!B29","v":"长林社区"},{"$f":"'[6]80岁本月在册高龄公示名单'!C29","v":"翁善云"},{"$f":"'[6]80岁本月在册高龄公示名单'!D29","v":"女"},{"$f":"'[6]80岁本月在册高龄公示名单'!E29","v":85},{"$f":"'[6]80岁本月在册高龄公示名单'!F29","v":50},{"$f":"'[6]80岁本月在册高龄公示名单'!G29","v":"2025-08-01"}]
[544,{"$f":"'[6]80岁本月在册高龄公示名单'!B30","v":"长林社区"},{"$f":"'[6]80岁本月在册高龄公示名单'!C30","v":"郑冬梅"},{"$f":"'[6]80岁本月在册高龄公示名单'!D30","v":"女"},{"$f":"'[6]80岁本月在册高龄公示名单'!E30","v":85},{"$f":"'[6]80岁本月在册高龄公示名单'!F30","v":50},{"$f":"'[6]80岁本月在册高龄公示名单'!G30","v":"2025-08-01"}]
[545,{"$f":"'[6]80岁本月在册高龄公示名单'!B31","v":"长林社区"},{"$f":"'[6]80岁本月在册高龄公示名单'!C31","v":"龙庆贤"},{"$f":"'[6]80岁本月在册高龄公示名单'!D31","v":"男"},{"$f":"'[6]80岁本月在册高龄公示名单'!E31","v":85},{"$f":"'[6]80岁本月在册高龄公示名单'!F31","v":50},{"$f":"'[6]80岁本月在册高龄公示名单'!G31","v":"2025-08-01"}]
[546,{"$f":"'[6]80岁本月在册高龄公示名单'!B32","v":"长林社区"},{"$f":"'[6]80岁本月在册高龄公示名单'!C32","v":"钟友容"},{"$f":"'[6]80岁本月在册高龄公示名单'!D32","v":"女"},{"$f":"'[6]80岁本月在册高龄公示名单'!E32","v":85},{"$f":"'[6]80岁本月在册高龄公示名单'!F32","v":50},{"$f":"'[6]80岁本月在册高龄公示名单'!G32","v":"2025-08-01"}]
[547,{"$f":"'[6]80岁本月在册高龄公示名单'!B33","v":"长林社区"},{"$f":"'[6]80岁本月在册高龄公示名单'!C33","v":"陈炳武"},{"$f":"'[6]80岁本月在册高龄公示名单'!D33","v":"男"},{"$f":"'[6]80岁本月在册高龄公示名单'!E33","v":88},{"$f":"'[6]80岁本月在册高龄公示名单'!F33","v":50},{"$f":"'[6]80岁本月在册高龄公示名单'!G33","v":"2025-08-01"}]
[548,{"$f":"'[6]80岁本月在册高龄公示名单'!B34","v":"长林社区"},{"$f":"'[6]80岁本月在册高龄公示名单'!C34","v":"梁醒强"},{"$f":"'[6]80岁本月在册高龄公示名单'!D34","v":"男"},{"$f":"'[6]80岁本月在册高龄公示名单'!E34","v":84},{"$f":"'[6]80岁本月在册高龄公示名单'!F34","v":50},{"$f":"'[6]80岁本月在册高龄公示名单'!G34","v":"2025-08-01"}]
[549,{"$f":"'[6]80岁本月在册高龄公示名单'!B35","v":"长林社区"},{"$f":"'[6]80岁本月在册高龄公示名单'!C35","v":"吴久源"},{"$f":"'[6]80岁本月在册高龄公示名单'!D35","v":"男"},{"$f":"'[6]80岁本月在册高龄公示名单'!E35","v":84},{"$f":"'[6]80岁本月在册高龄公示名单'!F35","v":50},{"$f":"'[6]80岁本月在册高龄公示名单'!G35","v":"2025-08-01"}]
[550,{"$f":"'[6]80岁本月在册高龄公示名单'!B36","v":"长林社区"},{"$f":"'[6]80岁本月在册高龄公示名单'!C36","v":"廖凤群"},{"$f":"'[6]80岁本月在册高龄公示名单'!D36","v":"女"},{"$f":"'[6]80岁本月在册高龄公示名单'!E36","v":85},{"$f":"'[6]80岁本月在册高龄公示名单'!F36","v":50},{"$f":"'[6]80岁本月在册高龄公示名单'!G36","v":"2025-08-01"}]
[551,{"$f":"'[6]80岁本月在册高龄公示名单'!B37","v":"长林社区"},{"$f":"'[6]80岁本月在册高龄公示名单'!C37","v":"莫荣英"},{"$f":"'[6]80岁本月在册高龄公示名单'!D37","v":"女"},{"$f":"'[6]80岁本月在册高龄公示名单'!E37","v":84},{"$f":"'[6]80岁本月在册高龄公示名单'!F37","v":50},{"$f":"'[6]80岁本月在册高龄公示名单'!G37","v":"2025-08-01"}]
[552,{"$f":"'[6]80岁本月在册高龄公示名单'!B38","v":"长林社区"},{"$f":"'[6]80岁本月在册高龄公示名单'!C38","v":"周玉琴"},{"$f":"'[6]80岁本月在册高龄公示名单'!D38","v":"女"},{"$f":"'[6]80岁本月在册高龄公示名单'!E38","v":89},{"$f":"'[6]80岁本月在册高龄公示名单'!F38","v":50},{"$f":"'[6]80岁本月在册高龄公示名单'!G38","v":"2025-08-01"}]
[553,{"$f":"'[6]80岁本月在册高龄公示名单'!B39","v":"长林社区"},{"$f":"'[6]80岁本月在册高龄公示名单'!C39","v":"乔剑明"},{"$f":"'[6]80岁本月在册高龄公示名单'!D39","v":"男"},{"$f":"'[6]80岁本月在册高龄公示名单'!E39","v":84},{"$f":"'[6]80岁本月在册高龄公示名单'!F39","v":50},{"$f":"'[6]80岁本月在册高龄公示名单'!G39","v":"2025-08-01"}]
[554,{"$f":"'[6]80岁本月在册高龄公示名单'!B40","v":"长林社区"},{"$f":"'[6]80岁本月在册高龄公示名单'!C40","v":"覃超波"},{"$f":"'[6]80岁本月在册高龄公示名单'!D40","v":"男"},{"$f":"'[6]80岁本月在册高龄公示名单'!E40","v":84},{"$f":"'[6]80岁本月在册高龄公示名单'!F40","v":50},{"$f":"'[6]80岁本月在册高龄公示名单'!G40","v":"2025-08-01"}]
[555,{"$f":"'[6]80岁本月在册高龄公示名单'!B41","v":"长林社区"},{"$f":"'[6]80岁本月在册高龄公示名单'!C41","v":"刘育松"},{"$f":"'[6]80岁本月在册高龄公示名单'!D41","v":"男"},{"$f":"'[6]80岁本月在册高龄公示名单'!E41","v":84},{"$f":"'[6]80岁本月在册高龄公示名单'!F41","v":50},{"$f":"'[6]80岁本月在册高龄公示名单'!G41","v":"2025-08-01"}]
[556,{"$f":"'[6]80岁本月在册高龄公示名单'!B42","v":"长林社区"},{"$f":"'[6]80岁本月在册高龄公示名单'!C42","v":"李美英"},{"$f":"'[6]80岁本月在册高龄公示名单'!D42","v":"女"},{"$f":"'[6]80岁本月在册高龄公示名单'!E42","v":86},{"$f":"'[6]80岁本月在册高龄公示名单'!F42","v":50},{"$f":"'[6]80岁本月在册高龄公示名单'!G42","v":"2025-08-01"}]
[557,{"$f":"'[6]80岁本月在册高龄公示名单'!B43","v":"长林社区"},{"$f":"'[6]80岁本月在册高龄公示名单'!C43","v":"廖美英"},{"$f":"'[6]80岁本月在册高龄公示名单'!D43","v":"女"},{"$f":"'[6]80岁本月在册高龄公示名单'!E43","v":84},{"$f":"'[6]80岁本月在册高龄公示名单'!F43","v":50},{"$f":"'[6]80岁本月在册高龄公示名单'!G43","v":"2025-08-01"}]
[558,{"$f":"'[6]80岁本月在册高龄公示名单'!B44","v":"长林社区"},{"$f":"'[6]80岁本月在册高龄公示名单'!C44","v":"冯怡胜"},{"$f":"'[6]80岁本月在册高龄公示名单'!D44","v":"男"},{"$f":"'[6]80岁本月在册高龄公示名单'!E44","v":83},{"$f":"'[6]80岁本月在册高龄公示名单'!F44","v":50},{"$f":"'[6]80岁本月在册高龄公示名单'!G44","v":"2025-08-01"}]
[559,{"$f":"'[6]80岁本月在册高龄公示名单'!B45","v":"长林社区"},{"$f":"'[6]80岁本月在册高龄公示名单'!C45","v":"唐明晟"},{"$f":"'[6]80岁本月在册高龄公示名单'!D45","v":"男"},{"$f":"'[6]80岁本月在册高龄公示名单'!E45","v":83},{"$f":"'[6]80岁本月在册高龄公示名单'!F45","v":50},{"$f":"'[6]80岁本月在册高龄公示名单'!G45","v":"2025-08-01"}]
[560,{"$f":"'[6]80岁本月在册高龄公示名单'!B46","v":"长林社区"},{"$f":"'[6]80岁本月在册高龄公示名单'!C46","v":"彭代彬"},{"$f":"'[6]80岁本月在册高龄公示名单'!D46","v":"男"},{"$f":"'[6]80岁本月在册高龄公示名单'!E46","v":81},{"$f":"'[6]80岁本月在册高龄公示名单'!F46","v":50},{"$f":"'[6]80岁本月在册高龄公示名单'!G46","v":"2025-08-01"}]
[561,{"$f":"'[6]80岁本月在册高龄公示名单'!B47","v":"长林社区"},{"$f":"'[6]80岁本月在册高龄公示名单'!C47","v":"宾冠元"},{"$f":"'[6]80岁本月在册高龄公示名单'!D47","v":"女"},{"$f":"'[6]80岁本月在册高龄公示名单'!E47","v":83},{"$f":"'[6]80岁本月在册高龄公示名单'!F47","v":50},{"$f":"'[6]80岁本月在册高龄公示名单'!G47","v":"2025-08-01"}]
[562,{"$f":"'[6]80岁本月在册高龄公示名单'!B48","v":"长林社区"},{"$f":"'[6]80岁本月在册高龄公示名单'!C48","v":"黄凤芝"},{"$f":"'[6]80岁本月在册高龄公示名单'!D48","v":"女"},{"$f":"'[6]80岁本月在册高龄公示名单'!E48","v":88},{"$f":"'[6]80岁本月在册高龄公示名单'!F48","v":50},{"$f":"'[6]80岁本月在册高龄公示名单'!G48","v":"2025-08-01"}]
[563,{"$f":"'[6]80岁本月在册高龄公示名单'!B49","v":"长林社区"},{"$f":"'[6]80岁本月在册高龄公示名单'!C49","v":"刘秀荣"},{"$f":"'[6]80岁本月在册高龄公示名单'!D49","v":"女"},{"$f":"'[6]80岁本月在册高龄公示名单'!E49","v":84},{"$f":"'[6]80岁本月在册高龄公示名单'!F49","v":50},{"$f":"'[6]80岁本月在册高龄公示名单'!G49","v":"2025-08-01"}]
[564,{"$f":"'[6]80岁本月在册高龄公示名单'!B50","v":"长林社区"},{"$f":"'[6]80岁本月在册高龄公示名单'!C50","v":"王礼和"},{"$f":"'[6]80岁本月在册高龄公示名单'!D50","v":"男"},{"$f":"'[6]80岁本月在册高龄公示名单'!E50","v":82},{"$f":"'[6]80岁本月在册高龄公示名单'!F50","v":50},{"$f":"'[6]80岁本月在册高龄公示名单'!G50","v":"2025-08-01"}]
[565,{"$f":"'[6]80岁本月在册高龄公示名单'!B51","v":"长林社区"},{"$f":"'[6]80岁本月在册高龄公示名单'!C51","v":"高英贤"},{"$f":"'[6]80岁本月在册高龄公示名单'!D51","v":"男"},{"$f":"'[6]80岁本月在册高龄公示名单'!E51","v":88},{"$f":"'[6]80岁本月在册高龄公示名单'!F51","v":50},{"$f":"'[6]80岁本月在册高龄公示名单'!G51","v":"2025-08-01"}]
[566,{"$f":"'[6]80岁本月在册高龄公示名单'!B52","v":"长林社区"},{"$f":"'[6]80岁本月在册高龄公示名单'!C52","v":"王素琴"},{"$f":"'[6]80岁本月在册高龄公示名单'!D52","v":"女"},{"$f":"'[6]80岁本月在册高龄公示名单'!E52","v":87},{"$f":"'[6]80岁本月在册高龄公示名单'!F52","v":50},{"$f":"'[6]80岁本月在册高龄公示名单'!G52","v":"2025-08-01"}]
[567,{"$f":"'[6]80岁本月在册高龄公示名单'!B53","v":"长林社区"},{"$f":"'[6]80岁本月在册高龄公示名单'!C53","v":"石朝辉"},{"$f":"'[6]80岁本月在册高龄公示名单'!D53","v":"男"},{"$f":"'[6]80岁本月在册高龄公示名单'!E53","v":82},{"$f":"'[6]80岁本月在册高龄公示名单'!F53","v":50},{"$f":"'[6]80岁本月在册高龄公示名单'!G53","v":"2025-08-01"}]
[568,{"$f":"'[6]80岁本月在册高龄公示名单'!B54","v":"长林社区"},{"$f":"'[6]80岁本月在册高龄公示名单'!C54","v":"王一民"},{"$f":"'[6]80岁本月在册高龄公示名单'!D54","v":"男"},{"$f":"'[6]80岁本月在册高龄公示名单'!E54","v":83},{"$f":"'[6]80岁本月在册高龄公示名单'!F54","v":50},{"$f":"'[6]80岁本月在册高龄公示名单'!G54","v":"2025-08-01"}]
[569,{"$f":"'[6]80岁本月在册高龄公示名单'!B55","v":"长林社区"},{"$f":"'[6]80岁本月在册高龄公示名单'!C55","v":"林贤茂"},{"$f":"'[6]80岁本月在册高龄公示名单'!D55","v":"男"},{"$f":"'[6]80岁本月在册高龄公示名单'!E55","v":82},{"$f":"'[6]80岁本月在册高龄公示名单'!F55","v":50},{"$f":"'[6]80岁本月在册高龄公示名单'!G55","v":"2025-08-01"}]
[570,{"$f":"'[6]80岁本月在册高龄公示名单'!B56","v":"长林社区"},{"$f":"'[6]80岁本月在册高龄公示名单'!C56","v":"庞永"},{"$f":"'[6]80岁本月在册高龄公示名单'!D56","v":"男"},{"$f":"'[6]80岁本月在册高龄公示名单'!E56","v":82},{"$f":"'[6]80岁本月在册高龄公示名单'!F56","v":50},{"$f":"'[6]80岁本月在册高龄公示名单'!G56","v":"2025-08-01"}]
[571,{"$f":"'[6]80岁本月在册高龄公示名单'!B57","v":"长林社区"},{"$f":"'[6]80岁本月在册高龄公示名单'!C57","v":"王晨光"},{"$f":"'[6]80岁本月在册高龄公示名单'!D57","v":"女"},{"$f":"'[6]80岁本月在册高龄公示名单'!E57","v":82},{"$f":"'[6]80岁本月在册高龄公示名单'!F57","v":50},{"$f":"'[6]80岁本月在册高龄公示名单'!G57","v":"2025-08-01"}]
[572,{"$f":"'[6]80岁本月在册高龄公示名单'!B58","v":"长林社区"},{"$f":"'[6]80岁本月在册高龄公示名单'!C58","v":"许桂娟"},{"$f":"'[6]80岁本月在册高龄公示名单'!D58","v":"女"},{"$f":"'[6]80岁本月在册高龄公示名单'!E58","v":83},{"$f":"'[6]80岁本月在册高龄公示名单'!F58","v":50},{"$f":"'[6]80岁本月在册高龄公示名单'!G58","v":"2025-08-01"}]
[573,{"$f":"'[6]80岁本月在册高龄公示名单'!B59","v":"长林社区"},{"$f":"'[6]80岁本月在册高龄公示名单'!C59","v":"邱春才"},{"$f":"'[6]80岁本月在册高龄公示名单'!D59","v":"男"},{"$f":"'[6]80岁本月在册高龄公示名单'!E59","v":82},{"$f":"'[6]80岁本月在册高龄公示名单'!F59","v":50},{"$f":"'[6]80岁本月在册高龄公示名单'!G59","v":"2025-08-01"}]
[574,{"$f":"'[6]80岁本月在册高龄公示名单'!B60","v":"长林社区"},{"$f":"'[6]80岁本月在册高龄公示名单'!C60","v":"宋祖球"},{"$f":"'[6]80岁本月在册高龄公示名单'!D60","v":"男"},{"$f":"'[6]80岁本月在册高龄公示名单'!E60","v":82},{"$f":"'[6]80岁本月在册高龄公示名单'!F60","v":50},{"$f":"'[6]80岁本月在册高龄公示名单'!G60","v":"2025-08-01"}]
[575,{"$f":"'[6]80岁本月在册高龄公示名单'!B61","v":"长林社区"},{"$f":"'[6]80岁本月在册高龄公示名单'!C61","v":"陆锦才"},{"$f":"'[6]80岁本月在册高龄公示名单'!D61","v":"男"},{"$f":"'[6]80岁本月在册高龄公示名单'!E61","v":82},{"$f":"'[6]80岁本月在册高龄公示名单'!F61","v":50},{"$f":"'[6]80岁本月在册高龄公示名单'!G61","v":"2025-08-01"}]
[576,{"$f":"'[6]80岁本月在册高龄公示名单'!B62","v":"长林社区"},{"$f":"'[6]80岁本月在册高龄公示名单'!C62","v":"郑英菊"},{"$f":"'[6]80岁本月在册高龄公示名单'!D62","v":"男"},{"$f":"'[6]80岁本月在册高龄公示名单'!E62","v":81},{"$f":"'[6]80岁本月在册高龄公示名单'!F62","v":50},{"$f":"'[6]80岁本月在册高龄公示名单'!G62","v":"2025-08-01"}]
[577,{"$f":"'[6]80岁本月在册高龄公示名单'!B63","v":"长林社区"},{"$f":"'[6]80岁本月在册高龄公示名单'!C63","v":"黄波涛"},{"$f":"'[6]80岁本月在册高龄公示名单'!D63","v":"男"},{"$f":"'[6]80岁本月在册高龄公示名单'!E63","v":81},{"$f":"'[6]80岁本月在册高龄公示名单'!F63","v":50},{"$f":"'[6]80岁本月在册高龄公示名单'!G63","v":"2025-08-01"}]
[578,{"$f":"'[6]80岁本月在册高龄公示名单'!B64","v":"长林社区"},{"$f":"'[6]80岁本月在册高龄公示名单'!C64","v":"缴福报"},{"$f":"'[6]80岁本月在册高龄公示名单'!D64","v":"男"},{"$f":"'[6]80岁本月在册高龄公示名单'!E64","v":82},{"$f":"'[6]80岁本月在册高龄公示名单'!F64","v":50},{"$f":"'[6]80岁本月在册高龄公示名单'!G64","v":"2025-08-01"}]
[579,{"$f":"'[6]80岁本月在册高龄公示名单'!B65","v":"长林社区"},{"$f":"'[6]80岁本月在册高龄公示名单'!C65","v":"张翠玉"},{"$f":"'[6]80岁本月在册高龄公示名单'!D65","v":"女"},{"$f":"'[6]80岁本月在册高龄公示名单'!E65","v":81},{"$f":"'[6]80岁本月在册高龄公示名单'!F65","v":50},{"$f":"'[6]80岁本月在册高龄公示名单'!G65","v":"2025-08-01"}]
[580,{"$f":"'[6]80岁本月在册高龄公示名单'!B66","v":"长林社区"},{"$f":"'[6]80岁本月在册高龄公示名单'!C66","v":"王爱群"},{"$f":"'[6]80岁本月在册高龄公示名单'!D66","v":"男"},{"$f":"'[6]80岁本月在册高龄公示名单'!E66","v":81},{"$f":"'[6]80岁本月在册高龄公示名单'!F66","v":50},{"$f":"'[6]80岁本月在册高龄公示名单'!G66","v":"2025-08-01"}]
[581,{"$f":"'[6]80岁本月在册高龄公示名单'!B67","v":"长林社区"},{"$f":"'[6]80岁本月在册高龄公示名单'!C67","v":"冯旭芬"},{"$f":"'[6]80岁本月在册高龄公示名单'!D67","v":"女"},{"$f":"'[6]80岁本月在册高龄公示名单'!E67","v":81},{"$f":"'[6]80岁本月在册高龄公示名单'!F67","v":50},{"$f":"'[6]80岁本月在册高龄公示名单'!G67","v":"2025-08-01"}]
[582,{"$f":"'[6]80岁本月在册高龄公示名单'!B68","v":"长林社区"},{"$f":"'[6]80岁本月在册高龄公示名单'!C68","v":"何桂英"},{"$f":"'[6]80岁本月在册高龄公示名单'!D68","v":"女"},{"$f":"'[6]80岁本月在册高龄公示名单'!E68","v":80},{"$f":"'[6]80岁本月在册高龄公示名单'!F68","v":50},{"$f":"'[6]80岁本月在册高龄公示名单'!G68","v":"2025-08-01"}]
[583,{"$f":"'[6]80岁本月在册高龄公示名单'!B69","v":"长林社区"},{"$f":"'[6]80岁本月在册高龄公示名单'!C69","v":"陈贤芳"},{"$f":"'[6]80岁本月在册高龄公示名单'!D69","v":"男"},{"$f":"'[6]80岁本月在册高龄公示名单'!E69","v":80},{"$f":"'[6]80岁本月在册高龄公示名单'!F69","v":50},{"$f":"'[6]80岁本月在册高龄公示名单'!G69","v":"2025-08-01"}]
[584,{"$f":"'[6]80岁本月在册高龄公示名单'!B70","v":"长林社区"},{"$f":"'[6]80岁本月在册高龄公示名单'!C70","v":"何成章"},{"$f":"'[6]80岁本月在册高龄公示名单'!D70","v":"男"},{"$f":"'[6]80岁本月在册高龄公示名单'!E70","v":80},{"$f":"'[6]80岁本月在册高龄公示名单'!F70","v":50},{"$f":"'[6]80岁本月在册高龄公示名单'!G70","v":"2025-08-01"}]
[585,{"$f":"'[6]80岁本月在册高龄公示名单'!B71","v":"长林社区"},{"$f":"'[6]80岁本月在册高龄公示名单'!C71","v":"何立生"},{"$f":"'[6]80岁本月在册高龄公示名单'!D71","v":"男"},{"$f":"'[6]80岁本月在册高龄公示名单'!E71","v":80},{"$f":"'[6]80岁本月在册高龄公示名单'!F71","v":50},{"$f":"'[6]80岁本月在册高龄公示名单'!G71","v":"2025-08-01"}]
[586,{"$f":"'[6]80岁本月在册高龄公示名单'!B72","v":"长林社区"},{"$f":"'[6]80岁本月在册高龄公示名单'!C72","v":"金敏"},{"$f":"'[6]80岁本月在册高龄公示名单'!D72","v":"女"},{"$f":"'[6]80岁本月在册高龄公示名单'!E72","v":80},{"$f":"'[6]80岁本月在册高龄公示名单'!F72","v":50},{"$f":"'[6]80岁本月在册高龄公示名单'!G72","v":"2025-08-01"}]
[587,{"$f":"'[6]80岁本月在册高龄公示名单'!B73","v":"长林社区"},{"$f":"'[6]80岁本月在册高龄公示名单'!C73","v":"陈钻玲"},{"$f":"'[6]80岁本月在册高龄公示名单'!D73","v":"女"},{"$f":"'[6]80岁本月在册高龄公示名单'!E73","v":80},{"$f":"'[6]80岁本月在册高龄公示名单'!F73","v":50},{"$f":"'[6]80岁本月在册高龄公示名单'!G73","v":"2025-08-01"}]
[588,{"$f":"'[6]80岁本月在册高龄公示名单'!B74","v":"长林社区"},{"$f":"'[6]80岁本月在册高龄公示名单'!C74","v":"龙文勤"},{"$f":"'[6]80岁本月在册高龄公示名单'!D74","v":"男"},{"$f":"'[6]80岁本月在册高龄公示名单'!E74","v":80},{"$f":"'[6]80岁本月在册高龄公示名单'!F74","v":50},{"$f":"'[6]80岁本月在册高龄公示名单'!G74","v":"2025-08-01"}]
[589,{"$f":"'[6]80岁本月在册高龄公示名单'!B75","v":"长林社区"},{"$f":"'[6]80岁本月在册高龄公示名单'!C75","v":"苏秀英"},{"$f":"'[6]80岁本月在册高龄公示名单'!D75","v":"女"},{"$f":"'[6]80岁本月在册高龄公示名单'!E75","v":80},{"$f":"'[6]80岁本月在册高龄公示名单'!F75","v":50},{"$f":"'[6]80岁本月在册高龄公示名单'!G75","v":"2025-08-01"}]
[590,{"$f":"'[6]80岁本月在册高龄公示名单'!B76","v":"长林社区"},{"$f":"'[6]80岁本月在册高龄公示名单'!C76","v":"陈萍"},{"$f":"'[6]80岁本月在册高龄公示名单'!D76","v":"女"},{"$f":"'[6]80岁本月在册高龄公示名单'!E76","v":80},{"$f":"'[6]80岁本月在册高龄公示名单'!F76","v":50},{"$f":"'[6]80岁本月在册高龄公示名单'!G76","v":"2025-08-01"}]
[591,{"$f":"'[6]80岁本月在册高龄公示名单'!B77","v":"长林社区"},{"$f":"'[6]80岁本月在册高龄公示名单'!C77","v":"吴光科"},{"$f":"'[6]80岁本月在册高龄公示名单'!D77","v":"男"},{"$f":"'[6]80岁本月在册高龄公示名单'!E77","v":80},{"$f":"'[6]80岁本月在册高龄公示名单'!F77","v":50},{"$f":"'[6]80岁本月在册高龄公示名单'!G77","v":"2025-08-01"}]
[592,{"$f":"'[6]80岁本月在册高龄公示名单'!B78","v":"长林社区"},{"$f":"'[6]80岁本月在册高龄公示名单'!C78","v":"何开善"},{"$f":"'[6]80岁本月在册高龄公示名单'!D78","v":"男"},{"$f":"'[6]80岁本月在册高龄公示名单'!E78","v":80},{"$f":"'[6]80岁本月在册高龄公示名单'!F78","v":50},{"$f":"'[6]80岁本月在册高龄公示名单'!G78","v":"2025-08-01"}]
[593,{"$f":"'[6]80岁本月在册高龄公示名单'!B79","v":"长林社区"},{"$f":"'[6]80岁本月在册高龄公示名单'!C79","v":"黄巧莲"},{"$f":"'[6]80岁本月在册高龄公示名单'!D79","v":"女"},{"$f":"'[6]80岁本月在册高龄公示名单'!E79","v":80},{"$f":"'[6]80岁本月在册高龄公示名单'!F79","v":50},{"$f":"'[6]80岁本月在册高龄公示名单'!G79","v":"2025-08-01"}]
[594,{"$f":"'[6]80岁本月在册高龄公示名单'!B80","v":"长林社区"},{"$f":"'[6]80岁本月在册高龄公示名单'!C80","v":"江继生"},{"$f":"'[6]80岁本月在册高龄公示名单'!D80","v":"男"},{"$f":"'[6]80岁本月在册高龄公示名单'!E80","v":80},{"$f":"'[6]80岁本月在册高龄公示名单'!F80","v":50},{"$f":"'[6]80岁本月在册高龄公示名单'!G80","v":"2025-08-01"}]
[595,{"$f":"'[6]80岁本月在册高龄公示名单'!B81","v":"长林社区"},{"$f":"'[6]80岁本月在册高龄公示名单'!C81","v":"陈秀美"},{"$f":"'[6]80岁本月在册高龄公示名单'!D81","v":"女"},{"$f":"'[6]80岁本月在册高龄公示名单'!E81","v":80},{"$f":"'[6]80岁本月在册高龄公示名单'!F81","v":50},{"$f":"'[6]80岁本月在册高龄公示名单'!G81","v":"2025-08-01"}]
[596,{"$f":"'[6]80岁本月在册高龄公示名单'!B82","v":"长林社区"},{"$f":"'[6]80岁本月在册高龄公示名单'!C82","v":"梁琼美"},{"$f":"'[6]80岁本月在册高龄公示名单'!D82","v":"女"},{"$f":"'[6]80岁本月在册高龄公示名单'!E82","v":80},{"$f":"'[6]80岁本月在册高龄公示名单'!F82","v":50},{"$f":"'[6]80岁本月在册高龄公示名单'!G82","v":"2025-08-01"}]
[597,{"$f":"'[6]80岁本月在册高龄公示名单'!B83","v":"长林社区"},{"$f":"'[6]80岁本月在册高龄公示名单'!C83","v":"谢文生"},{"$f":"'[6]80岁本月在册高龄公示名单'!D83","v":"男"},{"$f":"'[6]80岁本月在册高龄公示名单'!E83","v":80},{"$f":"'[6]80岁本月在册高龄公示名单'!F83","v":50},{"$f":"'[6]80岁本月在册高龄公示名单'!G83","v":"2025-08-01"}]
[598,{"$f":"'[6]80岁本月在册高龄公示名单'!B84","v":"长林社区"},{"$f":"'[6]80岁本月在册高龄公示名单'!C84","v":"廖远贵"},{"$f":"'[6]80岁本月在册高龄公示名单'!D84","v":"女"},{"$f":"'[6]80岁本月在册高龄公示名单'!E84","v":80},{"$f":"'[6]80岁本月在册高龄公示名单'!F84","v":50},{"$f":"'[6]80岁本月在册高龄公示名单'!G84","v":"2025-08-01"}]
[599,{"$f":"'[7]80岁本月在册高龄公示名单'!B4","v":"紫薇园社区"},{"$f":"'[7]80岁本月在册高龄公示名单'!C4","v":"姚德明"},{"$f":"'[7]80岁本月在册高龄公示名单'!D4","v":"男"},{"$f":"'[7]80岁本月在册高龄公示名单'!E4","v":87},{"$f":"'[7]80岁本月在册高龄公示名单'!F4","v":50},{"$f":"'[7]80岁本月在册高龄公示名单'!G4","v":"2025-08-01"}]
[600,{"$f":"'[7]80岁本月在册高龄公示名单'!B5","v":"紫薇园社区"},{"$f":"'[7]80岁本月在册高龄公示名单'!C5","v":"梁小平"},{"$f":"'[7]80岁本月在册高龄公示名单'!D5","v":"男"},{"$f":"'[7]80岁本月在册高龄公示名单'!E5","v":87},{"$f":"'[7]80岁本月在册高龄公示名单'!F5","v":50},{"$f":"'[7]80岁本月在册高龄公示名单'!G5","v":"2025-08-01"}]
[601,{"$f":"'[7]80岁本月在册高龄公示名单'!B6","v":"紫薇园社区"},{"$f":"'[7]80岁本月在册高龄公示名单'!C6","v":"李玉英"},{"$f":"'[7]80岁本月在册高龄公示名单'!D6","v":"女"},{"$f":"'[7]80岁本月在册高龄公示名单'!E6","v":89},{"$f":"'[7]80岁本月在册高龄公示名单'!F6","v":50},{"$f":"'[7]80岁本月在册高龄公示名单'!G6","v":"2025-08-01"}]
[602,{"$f":"'[7]80岁本月在册高龄公示名单'!B7","v":"紫薇园社区"},{"$f":"'[7]80岁本月在册高龄公示名单'!C7","v":"谭子烈"},{"$f":"'[7]80岁本月在册高龄公示名单'!D7","v":"男"},{"$f":"'[7]80岁本月在册高龄公示名单'!E7","v":85},{"$f":"'[7]80岁本月在册高龄公示名单'!F7","v":50},{"$f":"'[7]80岁本月在册高龄公示名单'!G7","v":"2025-08-01"}]
[603,{"$f":"'[7]80岁本月在册高龄公示名单'!B8","v":"紫薇园社区"},{"$f":"'[7]80岁本月在册高龄公示名单'!C8","v":"区焕文"},{"$f":"'[7]80岁本月在册高龄公示名单'!D8","v":"男"},{"$f":"'[7]80岁本月在册高龄公示名单'!E8","v":88},{"$f":"'[7]80岁本月在册高龄公示名单'!F8","v":50},{"$f":"'[7]80岁本月在册高龄公示名单'!G8","v":"2025-08-01"}]
[604,{"$f":"'[7]80岁本月在册高龄公示名单'!B9","v":"紫薇园社区"},{"$f":"'[7]80岁本月在册高龄公示名单'!C9","v":"秦爱雪"},{"$f":"'[7]80岁本月在册高龄公示名单'!D9","v":"女"},{"$f":"'[7]80岁本月在册高龄公示名单'!E9","v":85},{"$f":"'[7]80岁本月在册高龄公示名单'!F9","v":50},{"$f":"'[7]80岁本月在册高龄公示名单'!G9","v":"2025-08-01"}]
[605,{"$f":"'[7]80岁本月在册高龄公示名单'!B10","v":"紫薇园社区"},{"$f":"'[7]80岁本月在册高龄公示名单'!C10","v":"谭仕琳"},{"$f":"'[7]80岁本月在册高龄公示名单'!D10","v":"女"},{"$f":"'[7]80岁本月在册高龄公示名单'!E10","v":85},{"$f":"'[7]80岁本月在册高龄公示名单'!F10","v":50},{"$f":"'[7]80岁本月在册高龄公示名单'!G10","v":"2025-08-01"}]
[606,{"$f":"'[7]80岁本月在册高龄公示名单'!B11","v":"紫薇园社区"},{"$f":"'[7]80岁本月在册高龄公示名单'!C11","v":"黎玉英"},{"$f":"'[7]80岁本月在册高龄公示名单'!D11","v":"女"},{"$f":"'[7]80岁本月在册高龄公示名单'!E11","v":87},{"$f":"'[7]80岁本月在册高龄公示名单'!F11","v":50},{"$f":"'[7]80岁本月在册高龄公示名单'!G11","v":"2025-08-01"}]
[607,{"$f":"'[7]80岁本月在册高龄公示名单'!B12","v":"紫薇园社区"},{"$f":"'[7]80岁本月在册高龄公示名单'!C12","v":"莫应群"},{"$f":"'[7]80岁本月在册高龄公示名单'!D12","v":"女"},{"$f":"'[7]80岁本月在册高龄公示名单'!E12","v":89},{"$f":"'[7]80岁本月在册高龄公示名单'!F12","v":50},{"$f":"'[7]80岁本月在册高龄公示名单'!G12","v":"2025-08-01"}]
[608,{"$f":"'[7]80岁本月在册高龄公示名单'!B13","v":"紫薇园社区"},{"$f":"'[7]80岁本月在册高龄公示名单'!C13","v":"丁裕安"},{"$f":"'[7]80岁本月在册高龄公示名单'!D13","v":"男"},{"$f":"'[7]80岁本月在册高龄公示名单'!E13","v":89},{"$f":"'[7]80岁本月在册高龄公示名单'!F13","v":50},{"$f":"'[7]80岁本月在册高龄公示名单'!G13","v":"2025-08-01"}]
[609,{"$f":"'[7]80岁本月在册高龄公示名单'!B14","v":"紫薇园社区"},{"$f":"'[7]80岁本月在册高龄公示名单'!C14","v":"罗秀珍"},{"$f":"'[7]80岁本月在册高龄公示名单'!D14","v":"女"},{"$f":"'[7]80岁本月在册高龄公示名单'!E14","v":87},{"$f":"'[7]80岁本月在册高龄公示名单'!F14","v":50},{"$f":"'[7]80岁本月在册高龄公示名单'!G14","v":"2025-08-01"}]
[610,{"$f":"'[7]80岁本月在册高龄公示名单'!B15","v":"紫薇园社区"},{"$f":"'[7]80岁本月在册高龄公示名单'!C15","v":"陈孟秋"},{"$f":"'[7]80岁本月在册高龄公示名单'!D15","v":"男"},{"$f":"'[7]80岁本月在册高龄公示名单'!E15","v":88},{"$f":"'[7]80岁本月在册高龄公示名单'!F15","v":50},{"$f":"'[7]80岁本月在册高龄公示名单'!G15","v":"2025-08-01"}]
[611,{"$f":"'[7]80岁本月在册高龄公示名单'!B16","v":"紫薇园社区"},{"$f":"'[7]80岁本月在册高龄公示名单'!C16","v":"丘秀德"},{"$f":"'[7]80岁本月在册高龄公示名单'!D16","v":"女"},{"$f":"'[7]80岁本月在册高龄公示名单'!E16","v":88},{"$f":"'[7]80岁本月在册高龄公示名单'!F16","v":50},{"$f":"'[7]80岁本月在册高龄公示名单'!G16","v":"2025-08-01"}]
[612,{"$f":"'[7]80岁本月在册高龄公示名单'!B17","v":"紫薇园社区"},{"$f":"'[7]80岁本月在册高龄公示名单'!C17","v":"陈兴祥"},{"$f":"'[7]80岁本月在册高龄公示名单'!D17","v":"男"},{"$f":"'[7]80岁本月在册高龄公示名单'!E17","v":89},{"$f":"'[7]80岁本月在册高龄公示名单'!F17","v":50},{"$f":"'[7]80岁本月在册高龄公示名单'!G17","v":"2025-08-01"}]
[613,{"$f":"'[7]80岁本月在册高龄公示名单'!B18","v":"紫薇园社区"},{"$f":"'[7]80岁本月在册高龄公示名单'!C18","v":"徐凤英"},{"$f":"'[7]80岁本月在册高龄公示名单'!D18","v":"女"},{"$f":"'[7]80岁本月在册高龄公示名单'!E18","v":88},{"$f":"'[7]80岁本月在册高龄公示名单'!F18","v":50},{"$f":"'[7]80岁本月在册高龄公示名单'!G18","v":"2025-08-01"}]
[614,{"$f":"'[7]80岁本月在册高龄公示名单'!B19","v":"紫薇园社区"},{"$f":"'[7]80岁本月在册高龄公示名单'!C19","v":"卢松强"},{"$f":"'[7]80岁本月在册高龄公示名单'!D19","v":"男"},{"$f":"'[7]80岁本月在册高龄公示名单'!E19","v":88},{"$f":"'[7]80岁本月在册高龄公示名单'!F19","v":50},{"$f":"'[7]80岁本月在册高龄公示名单'!G19","v":"2025-08-01"}]
[615,{"$f":"'[7]80岁本月在册高龄公示名单'!B20","v":"紫薇园社区"},{"$f":"'[7]80岁本月在册高龄公示名单'!C20","v":"周群珍"},{"$f":"'[7]80岁本月在册高龄公示名单'!D20","v":"女"},{"$f":"'[7]80岁本月在册高龄公示名单'!E20","v":86},{"$f":"'[7]80岁本月在册高龄公示名单'!F20","v":50},{"$f":"'[7]80岁本月在册高龄公示名单'!G20","v":"2025-08-01"}]
[616,{"$f":"'[7]80岁本月在册高龄公示名单'!B21","v":"紫薇园社区"},{"$f":"'[7]80岁本月在册高龄公示名单'!C21","v":"陈亮勤"},{"$f":"'[7]80岁本月在册高龄公示名单'!D21","v":"女"},{"$f":"'[7]80岁本月在册高龄公示名单'!E21","v":89},{"$f":"'[7]80岁本月在册高龄公示名单'!F21","v":50},{"$f":"'[7]80岁本月在册高龄公示名单'!G21","v":"2025-08-01"}]
[617,{"$f":"'[7]80岁本月在册高龄公示名单'!B22","v":"紫薇园社区"},{"$f":"'[7]80岁本月在册高龄公示名单'!C22","v":"刘瑞濂"},{"$f":"'[7]80岁本月在册高龄公示名单'!D22","v":"男"},{"$f":"'[7]80岁本月在册高龄公示名单'!E22","v":87},{"$f":"'[7]80岁本月在册高龄公示名单'!F22","v":50},{"$f":"'[7]80岁本月在册高龄公示名单'!G22","v":"2025-08-01"}]
[618,{"$f":"'[7]80岁本月在册高龄公示名单'!B23","v":"紫薇园社区"},{"$f":"'[7]80岁本月在册高龄公示名单'!C23","v":"喻珍华"},{"$f":"'[7]80岁本月在册高龄公示名单'!D23","v":"女"},{"$f":"'[7]80岁本月在册高龄公示名单'!E23","v":89},{"$f":"'[7]80岁本月在册高龄公示名单'!F23","v":50},{"$f":"'[7]80岁本月在册高龄公示名单'!G23","v":"2025-08-01"}]
[619,{"$f":"'[7]80岁本月在册高龄公示名单'!B24","v":"紫薇园社区"},{"$f":"'[7]80岁本月在册高龄公示名单'!C24","v":"吕桂南"},{"$f":"'[7]80岁本月在册高龄公示名单'!D24","v":"男"},{"$f":"'[7]80岁本月在册高龄公示名单'!E24","v":86},{"$f":"'[7]80岁本月在册高龄公示名单'!F24","v":50},{"$f":"'[7]80岁本月在册高龄公示名单'!G24","v":"2025-08-01"}]
[620,{"$f":"'[7]80岁本月在册高龄公示名单'!B25","v":"紫薇园社区"},{"$f":"'[7]80岁本月在册高龄公示名单'!C25","v":"李玉珍"},{"$f":"'[7]80岁本月在册高龄公示名单'!D25","v":"女"},{"$f":"'[7]80岁本月在册高龄公示名单'!E25","v":86},{"$f":"'[7]80岁本月在册高龄公示名单'!F25","v":50},{"$f":"'[7]80岁本月在册高龄公示名单'!G25","v":"2025-08-01"}]
[621,{"$f":"'[7]80岁本月在册高龄公示名单'!B26","v":"紫薇园社区"},{"$f":"'[7]80岁本月在册高龄公示名单'!C26","v":"罗繁祥"},{"$f":"'[7]80岁本月在册高龄公示名单'!D26","v":"男"},{"$f":"'[7]80岁本月在册高龄公示名单'!E26","v":86},{"$f":"'[7]80岁本月在册高龄公示名单'!F26","v":50},{"$f":"'[7]80岁本月在册高龄公示名单'!G26","v":"2025-08-01"}]
[622,{"$f":"'[7]80岁本月在册高龄公示名单'!B27","v":"紫薇园社区"},{"$f":"'[7]80岁本月在册高龄公示名单'!C27","v":"刘静平"},{"$f":"'[7]80岁本月在册高龄公示名单'!D27","v":"女"},{"$f":"'[7]80岁本月在册高龄公示名单'!E27","v":89},{"$f":"'[7]80岁本月在册高龄公示名单'!F27","v":50},{"$f":"'[7]80岁本月在册高龄公示名单'!G27","v":"2025-08-01"}]
[623,{"$f":"'[7]80岁本月在册高龄公示名单'!B28","v":"紫薇园社区"},{"$f":"'[7]80岁本月在册高龄公示名单'!C28","v":"陆惠琴"},{"$f":"'[7]80岁本月在册高龄公示名单'!D28","v":"女"},{"$f":"'[7]80岁本月在册高龄公示名单'!E28","v":89},{"$f":"'[7]80岁本月在册高龄公示名单'!F28","v":50},{"$f":"'[7]80岁本月在册高龄公示名单'!G28","v":"2025-08-01"}]
[624,{"$f":"'[7]80岁本月在册高龄公示名单'!B29","v":"紫薇园社区"},{"$f":"'[7]80岁本月在册高龄公示名单'!C29","v":"谭保仪"},{"$f":"'[7]80岁本月在册高龄公示名单'!D29","v":"女"},{"$f":"'[7]80岁本月在册高龄公示名单'!E29","v":88},{"$f":"'[7]80岁本月在册高龄公示名单'!F29","v":50},{"$f":"'[7]80岁本月在册高龄公示名单'!G29","v":"2025-08-01"}]
[625,{"$f":"'[7]80岁本月在册高龄公示名单'!B30","v":"紫薇园社区"},{"$f":"'[7]80岁本月在册高龄公示名单'!C30","v":"王乐华"},{"$f":"'[7]80岁本月在册高龄公示名单'!D30","v":"女"},{"$f":"'[7]80岁本月在册高龄公示名单'!E30","v":85},{"$f":"'[7]80岁本月在册高龄公示名单'!F30","v":50},{"$f":"'[7]80岁本月在册高龄公示名单'!G30","v":"2025-08-01"}]
[626,{"$f":"'[7]80岁本月在册高龄公示名单'!B31","v":"紫薇园社区"},{"$f":"'[7]80岁本月在册高龄公示名单'!C31","v":"成保国"},{"$f":"'[7]80岁本月在册高龄公示名单'!D31","v":"男"},{"$f":"'[7]80岁本月在册高龄公示名单'!E31","v":85},{"$f":"'[7]80岁本月在册高龄公示名单'!F31","v":50},{"$f":"'[7]80岁本月在册高龄公示名单'!G31","v":"2025-08-01"}]
[627,{"$f":"'[7]80岁本月在册高龄公示名单'!B32","v":"紫薇园社区"},{"$f":"'[7]80岁本月在册高龄公示名单'!C32","v":"叶良仁"},{"$f":"'[7]80岁本月在册高龄公示名单'!D32","v":"男"},{"$f":"'[7]80岁本月在册高龄公示名单'!E32","v":85},{"$f":"'[7]80岁本月在册高龄公示名单'!F32","v":50},{"$f":"'[7]80岁本月在册高龄公示名单'!G32","v":"2025-08-01"}]
[628,{"$f":"'[7]80岁本月在册高龄公示名单'!B33","v":"紫薇园社区"},{"$f":"'[7]80岁本月在册高龄公示名单'!C33","v":"谢佩芳"},{"$f":"'[7]80岁本月在册高龄公示名单'!D33","v":"女"},{"$f":"'[7]80岁本月在册高龄公示名单'!E33","v":85},{"$f":"'[7]80岁本月在册高龄公示名单'!F33","v":50},{"$f":"'[7]80岁本月在册高龄公示名单'!G33","v":"2025-08-01"}]
[629,{"$f":"'[7]80岁本月在册高龄公示名单'!B34","v":"紫薇园社区"},{"$f":"'[7]80岁本月在册高龄公示名单'!C34","v":"莫增贤"},{"$f":"'[7]80岁本月在册高龄公示名单'!D34","v":"男"},{"$f":"'[7]80岁本月在册高龄公示名单'!E34","v":84},{"$f":"'[7]80岁本月在册高龄公示名单'!F34","v":50},{"$f":"'[7]80岁本月在册高龄公示名单'!G34","v":"2025-08-01"}]
[630,{"$f":"'[7]80岁本月在册高龄公示名单'!B35","v":"紫薇园社区"},{"$f":"'[7]80岁本月在册高龄公示名单'!C35","v":"熊志珍"},{"$f":"'[7]80岁本月在册高龄公示名单'!D35","v":"女"},{"$f":"'[7]80岁本月在册高龄公示名单'!E35","v":84},{"$f":"'[7]80岁本月在册高龄公示名单'!F35","v":50},{"$f":"'[7]80岁本月在册高龄公示名单'!G35","v":"2025-08-01"}]
[631,{"$f":"'[7]80岁本月在册高龄公示名单'!B36","v":"紫薇园社区"},{"$f":"'[7]80岁本月在册高龄公示名单'!C36","v":"覃秀容"},{"$f":"'[7]80岁本月在册高龄公示名单'!D36","v":"女"},{"$f":"'[7]80岁本月在册高龄公示名单'!E36","v":84},{"$f":"'[7]80岁本月在册高龄公示名单'!F36","v":50},{"$f":"'[7]80岁本月在册高龄公示名单'!G36","v":"2025-08-01"}]
[632,{"$f":"'[7]80岁本月在册高龄公示名单'!B37","v":"紫薇园社区"},{"$f":"'[7]80岁本月在册高龄公示名单'!C37","v":"覃有茂"},{"$f":"'[7]80岁本月在册高龄公示名单'!D37","v":"男"},{"$f":"'[7]80岁本月在册高龄公示名单'!E37","v":84},{"$f":"'[7]80岁本月在册高龄公示名单'!F37","v":50},{"$f":"'[7]80岁本月在册高龄公示名单'!G37","v":"2025-08-01"}]
[633,{"$f":"'[7]80岁本月在册高龄公示名单'!B38","v":"紫薇园社区"},{"$f":"'[7]80岁本月在册高龄公示名单'!C38","v":"林文忠"},{"$f":"'[7]80岁本月在册高龄公示名单'!D38","v":"男"},{"$f":"'[7]80岁本月在册高龄公示名单'!E38","v":84},{"$f":"'[7]80岁本月在册高龄公示名单'!F38","v":50},{"$f":"'[7]80岁本月在册高龄公示名单'!G38","v":"2025-08-01"}]
[634,{"$f":"'[7]80岁本月在册高龄公示名单'!B39","v":"紫薇园社区"},{"$f":"'[7]80岁本月在册高龄公示名单'!C39","v":"刘幼君"},{"$f":"'[7]80岁本月在册高龄公示名单'!D39","v":"女"},{"$f":"'[7]80岁本月在册高龄公示名单'!E39","v":84},{"$f":"'[7]80岁本月在册高龄公示名单'!F39","v":50},{"$f":"'[7]80岁本月在册高龄公示名单'!G39","v":"2025-08-01"}]
[635,{"$f":"'[7]80岁本月在册高龄公示名单'!B40","v":"紫薇园社区"},{"$f":"'[7]80岁本月在册高龄公示名单'!C40","v":"李达眉"},{"$f":"'[7]80岁本月在册高龄公示名单'!D40","v":"女"},{"$f":"'[7]80岁本月在册高龄公示名单'!E40","v":84},{"$f":"'[7]80岁本月在册高龄公示名单'!F40","v":50},{"$f":"'[7]80岁本月在册高龄公示名单'!G40","v":"2025-08-01"}]
[636,{"$f":"'[7]80岁本月在册高龄公示名单'!B41","v":"紫薇园社区"},{"$f":"'[7]80岁本月在册高龄公示名单'!C41","v":"倪建开"},{"$f":"'[7]80岁本月在册高龄公示名单'!D41","v":"男"},{"$f":"'[7]80岁本月在册高龄公示名单'!E41","v":84},{"$f":"'[7]80岁本月在册高龄公示名单'!F41","v":50},{"$f":"'[7]80岁本月在册高龄公示名单'!G41","v":"2025-08-01"}]
[637,{"$f":"'[7]80岁本月在册高龄公示名单'!B42","v":"紫薇园社区"},{"$f":"'[7]80岁本月在册高龄公示名单'!C42","v":"吴望秀"},{"$f":"'[7]80岁本月在册高龄公示名单'!D42","v":"女"},{"$f":"'[7]80岁本月在册高龄公示名单'!E42","v":87},{"$f":"'[7]80岁本月在册高龄公示名单'!F42","v":50},{"$f":"'[7]80岁本月在册高龄公示名单'!G42","v":"2025-08-01"}]
[638,{"$f":"'[7]80岁本月在册高龄公示名单'!B43","v":"紫薇园社区"},{"$f":"'[7]80岁本月在册高龄公示名单'!C43","v":"佟钧"},{"$f":"'[7]80岁本月在册高龄公示名单'!D43","v":"男"},{"$f":"'[7]80岁本月在册高龄公示名单'!E43","v":84},{"$f":"'[7]80岁本月在册高龄公示名单'!F43","v":50},{"$f":"'[7]80岁本月在册高龄公示名单'!G43","v":"2025-08-01"}]
[639,{"$f":"'[7]80岁本月在册高龄公示名单'!B44","v":"紫薇园社区"},{"$f":"'[7]80岁本月在册高龄公示名单'!C44","v":"陆咸铭"},{"$f":"'[7]80岁本月在册高龄公示名单'!D44","v":"男"},{"$f":"'[7]80岁本月在册高龄公示名单'!E44","v":84},{"$f":"'[7]80岁本月在册高龄公示名单'!F44","v":50},{"$f":"'[7]80岁本月在册高龄公示名单'!G44","v":"2025-08-01"}]
[640,{"$f":"'[7]80岁本月在册高龄公示名单'!B45","v":"紫薇园社区"},{"$f":"'[7]80岁本月在册高龄公示名单'!C45","v":"温玉萍"},{"$f":"'[7]80岁本月在册高龄公示名单'!D45","v":"女"},{"$f":"'[7]80岁本月在册高龄公示名单'!E45","v":84},{"$f":"'[7]80岁本月在册高龄公示名单'!F45","v":50},{"$f":"'[7]80岁本月在册高龄公示名单'!G45","v":"2025-08-01"}]
[641,{"$f":"'[7]80岁本月在册高龄公示名单'!B46","v":"紫薇园社区"},{"$f":"'[7]80岁本月在册高龄公示名单'!C46","v":"李笃新"},{"$f":"'[7]80岁本月在册高龄公示名单'!D46","v":"男"},{"$f":"'[7]80岁本月在册高龄公示名单'!E46","v":83},{"$f":"'[7]80岁本月在册高龄公示名单'!F46","v":50},{"$f":"'[7]80岁本月在册高龄公示名单'!G46","v":"2025-08-01"}]
[642,{"$f":"'[7]80岁本月在册高龄公示名单'!B47","v":"紫薇园社区"},{"$f":"'[7]80岁本月在册高龄公示名单'!C47","v":"覃裕兰"},{"$f":"'[7]80岁本月在册高龄公示名单'!D47","v":"女"},{"$f":"'[7]80岁本月在册高龄公示名单'!E47","v":83},{"$f":"'[7]80岁本月在册高龄公示名单'!F47","v":50},{"$f":"'[7]80岁本月在册高龄公示名单'!G47","v":"2025-08-01"}]
[643,{"$f":"'[7]80岁本月在册高龄公示名单'!B48","v":"紫薇园社区"},{"$f":"'[7]80岁本月在册高龄公示名单'!C48","v":"唐崇联"},{"$f":"'[7]80岁本月在册高龄公示名单'!D48","v":"男"},{"$f":"'[7]80岁本月在册高龄公示名单'!E48","v":83},{"$f":"'[7]80岁本月在册高龄公示名单'!F48","v":50},{"$f":"'[7]80岁本月在册高龄公示名单'!G48","v":"2025-08-01"}]
[644,{"$f":"'[7]80岁本月在册高龄公示名单'!B49","v":"紫薇园社区"},{"$f":"'[7]80岁本月在册高龄公示名单'!C49","v":"陈丽庄"},{"$f":"'[7]80岁本月在册高龄公示名单'!D49","v":"女"},{"$f":"'[7]80岁本月在册高龄公示名单'!E49","v":83},{"$f":"'[7]80岁本月在册高龄公示名单'!F49","v":50},{"$f":"'[7]80岁本月在册高龄公示名单'!G49","v":"2025-08-01"}]
[645,{"$f":"'[7]80岁本月在册高龄公示名单'!B50","v":"紫薇园社区"},{"$f":"'[7]80岁本月在册高龄公示名单'!C50","v":"潘广华"},{"$f":"'[7]80岁本月在册高龄公示名单'!D50","v":"男"},{"$f":"'[7]80岁本月在册高龄公示名单'!E50","v":83},{"$f":"'[7]80岁本月在册高龄公示名单'!F50","v":50},{"$f":"'[7]80岁本月在册高龄公示名单'!G50","v":"2025-08-01"}]
[646,{"$f":"'[7]80岁本月在册高龄公示名单'!B51","v":"紫薇园社区"},{"$f":"'[7]80岁本月在册高龄公示名单'!C51","v":"黄桂英"},{"$f":"'[7]80岁本月在册高龄公示名单'!D51","v":"女"},{"$f":"'[7]80岁本月在册高龄公示名单'!E51","v":83},{"$f":"'[7]80岁本月在册高龄公示名单'!F51","v":50},{"$f":"'[7]80岁本月在册高龄公示名单'!G51","v":"2025-08-01"}]
[647,{"$f":"'[7]80岁本月在册高龄公示名单'!B52","v":"紫薇园社区"},{"$f":"'[7]80岁本月在册高龄公示名单'!C52","v":"杨益成"},{"$f":"'[7]80岁本月在册高龄公示名单'!D52","v":"男"},{"$f":"'[7]80岁本月在册高龄公示名单'!E52","v":83},{"$f":"'[7]80岁本月在册高龄公示名单'!F52","v":50},{"$f":"'[7]80岁本月在册高龄公示名单'!G52","v":"2025-08-01"}]
[648,{"$f":"'[7]80岁本月在册高龄公示名单'!B53","v":"紫薇园社区"},{"$f":"'[7]80岁本月在册高龄公示名单'!C53","v":"陈水保"},{"$f":"'[7]80岁本月在册高龄公示名单'!D53","v":"男"},{"$f":"'[7]80岁本月在册高龄公示名单'!E53","v":83},{"$f":"'[7]80岁本月在册高龄公示名单'!F53","v":50},{"$f":"'[7]80岁本月在册高龄公示名单'!G53","v":"2025-08-01"}]
[649,{"$f":"'[7]80岁本月在册高龄公示名单'!B54","v":"紫薇园社区"},{"$f":"'[7]80岁本月在册高龄公示名单'!C54","v":"周雪琼"},{"$f":"'[7]80岁本月在册高龄公示名单'!D54","v":"女"},{"$f":"'[7]80岁本月在册高龄公示名单'!E54","v":83},{"$f":"'[7]80岁本月在册高龄公示名单'!F54","v":50},{"$f":"'[7]80岁本月在册高龄公示名单'!G54","v":"2025-08-01"}]
[650,{"$f":"'[7]80岁本月在册高龄公示名单'!B55","v":"紫薇园社区"},{"$f":"'[7]80岁本月在册高龄公示名单'!C55","v":"谢如琳"},{"$f":"'[7]80岁本月在册高龄公示名单'!D55","v":"女"},{"$f":"'[7]80岁本月在册高龄公示名单'!E55","v":83},{"$f":"'[7]80岁本月在册高龄公示名单'!F55","v":50},{"$f":"'[7]80岁本月在册高龄公示名单'!G55","v":"2025-08-01"}]
[651,{"$f":"'[7]80岁本月在册高龄公示名单'!B56","v":"紫薇园社区"},{"$f":"'[7]80岁本月在册高龄公示名单'!C56","v":"陈卓生"},{"$f":"'[7]80岁本月在册高龄公示名单'!D56","v":"男"},{"$f":"'[7]80岁本月在册高龄公示名单'!E56","v":83},{"$f":"'[7]80岁本月在册高龄公示名单'!F56","v":50},{"$f":"'[7]80岁本月在册高龄公示名单'!G56","v":"2025-08-01"}]
[652,{"$f":"'[7]80岁本月在册高龄公示名单'!B57","v":"紫薇园社区"},{"$f":"'[7]80岁本月在册高龄公示名单'!C57","v":"江碧莲"},{"$f":"'[7]80岁本月在册高龄公示名单'!D57","v":"女"},{"$f":"'[7]80岁本月在册高龄公示名单'!E57","v":83},{"$f":"'[7]80岁本月在册高龄公示名单'!F57","v":50},{"$f":"'[7]80岁本月在册高龄公示名单'!G57","v":"2025-08-01"}]
[653,{"$f":"'[7]80岁本月在册高龄公示名单'!B58","v":"紫薇园社区"},{"$f":"'[7]80岁本月在册高龄公示名单'!C58","v":"黄振刚"},{"$f":"'[7]80岁本月在册高龄公示名单'!D58","v":"男"},{"$f":"'[7]80岁本月在册高龄公示名单'!E58","v":83},{"$f":"'[7]80岁本月在册高龄公示名单'!F58","v":50},{"$f":"'[7]80岁本月在册高龄公示名单'!G58","v":"2025-08-01"}]
[654,{"$f":"'[7]80岁本月在册高龄公示名单'!B59","v":"紫薇园社区"},{"$f":"'[7]80岁本月在册高龄公示名单'!C59","v":"何班华"},{"$f":"'[7]80岁本月在册高龄公示名单'!D59","v":"男"},{"$f":"'[7]80岁本月在册高龄公示名单'!E59","v":83},{"$f":"'[7]80岁本月在册高龄公示名单'!F59","v":50},{"$f":"'[7]80岁本月在册高龄公示名单'!G59","v":"2025-08-01"}]
[655,{"$f":"'[7]80岁本月在册高龄公示名单'!B60","v":"紫薇园社区"},{"$f":"'[7]80岁本月在册高龄公示名单'!C60","v":"玉爱芳"},{"$f":"'[7]80岁本月在册高龄公示名单'!D60","v":"女"},{"$f":"'[7]80岁本月在册高龄公示名单'!E60","v":82},{"$f":"'[7]80岁本月在册高龄公示名单'!F60","v":50},{"$f":"'[7]80岁本月在册高龄公示名单'!G60","v":"2025-08-01"}]
[656,{"$f":"'[7]80岁本月在册高龄公示名单'!B61","v":"紫薇园社区"},{"$f":"'[7]80岁本月在册高龄公示名单'!C61","v":"袁子兰"},{"$f":"'[7]80岁本月在册高龄公示名单'!D61","v":"女"},{"$f":"'[7]80岁本月在册高龄公示名单'!E61","v":82},{"$f":"'[7]80岁本月在册高龄公示名单'!F61","v":50},{"$f":"'[7]80岁本月在册高龄公示名单'!G61","v":"2025-08-01"}]
[657,{"$f":"'[7]80岁本月在册高龄公示名单'!B62","v":"紫薇园社区"},{"$f":"'[7]80岁本月在册高龄公示名单'!C62","v":"邹玉香"},{"$f":"'[7]80岁本月在册高龄公示名单'!D62","v":"女"},{"$f":"'[7]80岁本月在册高龄公示名单'!E62","v":82},{"$f":"'[7]80岁本月在册高龄公示名单'!F62","v":50},{"$f":"'[7]80岁本月在册高龄公示名单'!G62","v":"2025-08-01"}]
[658,{"$f":"'[7]80岁本月在册高龄公示名单'!B63","v":"紫薇园社区"},{"$f":"'[7]80岁本月在册高龄公示名单'!C63","v":"张世宽"},{"$f":"'[7]80岁本月在册高龄公示名单'!D63","v":"男"},{"$f":"'[7]80岁本月在册高龄公示名单'!E63","v":82},{"$f":"'[7]80岁本月在册高龄公示名单'!F63","v":50},{"$f":"'[7]80岁本月在册高龄公示名单'!G63","v":"2025-08-01"}]
[659,{"$f":"'[7]80岁本月在册高龄公示名单'!B64","v":"紫薇园社区"},{"$f":"'[7]80岁本月在册高龄公示名单'!C64","v":"谢贤钊"},{"$f":"'[7]80岁本月在册高龄公示名单'!D64","v":"男"},{"$f":"'[7]80岁本月在册高龄公示名单'!E64","v":82},{"$f":"'[7]80岁本月在册高龄公示名单'!F64","v":50},{"$f":"'[7]80岁本月在册高龄公示名单'!G64","v":"2025-08-01"}]
[660,{"$f":"'[7]80岁本月在册高龄公示名单'!B65","v":"紫薇园社区"},{"$f":"'[7]80岁本月在册高龄公示名单'!C65","v":"刘家坚"},{"$f":"'[7]80岁本月在册高龄公示名单'!D65","v":"女"},{"$f":"'[7]80岁本月在册高龄公示名单'!E65","v":83},{"$f":"'[7]80岁本月在册高龄公示名单'!F65","v":50},{"$f":"'[7]80岁本月在册高龄公示名单'!G65","v":"2025-08-01"}]
[661,{"$f":"'[7]80岁本月在册高龄公示名单'!B66","v":"紫薇园社区"},{"$f":"'[7]80岁本月在册高龄公示名单'!C66","v":"刘款明"},{"$f":"'[7]80岁本月在册高龄公示名单'!D66","v":"女"},{"$f":"'[7]80岁本月在册高龄公示名单'!E66","v":85},{"$f":"'[7]80岁本月在册高龄公示名单'!F66","v":50},{"$f":"'[7]80岁本月在册高龄公示名单'!G66","v":"2025-08-01"}]
[662,{"$f":"'[7]80岁本月在册高龄公示名单'!B67","v":"紫薇园社区"},{"$f":"'[7]80岁本月在册高龄公示名单'!C67","v":"刘志忠"},{"$f":"'[7]80岁本月在册高龄公示名单'!D67","v":"男"},{"$f":"'[7]80岁本月在册高龄公示名单'!E67","v":82},{"$f":"'[7]80岁本月在册高龄公示名单'!F67","v":50},{"$f":"'[7]80岁本月在册高龄公示名单'!G67","v":"2025-08-01"}]
[663,{"$f":"'[7]80岁本月在册高龄公示名单'!B68","v":"紫薇园社区"},{"$f":"'[7]80岁本月在册高龄公示名单'!C68","v":"许浩然"},{"$f":"'[7]80岁本月在册高龄公示名单'!D68","v":"男"},{"$f":"'[7]80岁本月在册高龄公示名单'!E68","v":82},{"$f":"'[7]80岁本月在册高龄公示名单'!F68","v":50},{"$f":"'[7]80岁本月在册高龄公示名单'!G68","v":"2025-08-01"}]
[664,{"$f":"'[7]80岁本月在册高龄公示名单'!B69","v":"紫薇园社区"},{"$f":"'[7]80岁本月在册高龄公示名单'!C69","v":"杨日英"},{"$f":"'[7]80岁本月在册高龄公示名单'!D69","v":"女"},{"$f":"'[7]80岁本月在册高龄公示名单'!E69","v":82},{"$f":"'[7]80岁本月在册高龄公示名单'!F69","v":50},{"$f":"'[7]80岁本月在册高龄公示名单'!G69","v":"2025-08-01"}]
[665,{"$f":"'[7]80岁本月在册高龄公示名单'!B70","v":"紫薇园社区"},{"$f":"'[7]80岁本月在册高龄公示名单'!C70","v":"柯文英"},{"$f":"'[7]80岁本月在册高龄公示名单'!D70","v":"女"},{"$f":"'[7]80岁本月在册高龄公示名单'!E70","v":82},{"$f":"'[7]80岁本月在册高龄公示名单'!F70","v":50},{"$f":"'[7]80岁本月在册高龄公示名单'!G70","v":"2025-08-01"}]
[666,{"$f":"'[7]80岁本月在册高龄公示名单'!B71","v":"紫薇园社区"},{"$f":"'[7]80岁本月在册高龄公示名单'!C71","v":"李延庆"},{"$f":"'[7]80岁本月在册高龄公示名单'!D71","v":"男"},{"$f":"'[7]80岁本月在册高龄公示名单'!E71","v":82},{"$f":"'[7]80岁本月在册高龄公示名单'!F71","v":50},{"$f":"'[7]80岁本月在册高龄公示名单'!G71","v":"2025-08-01"}]
[667,{"$f":"'[7]80岁本月在册高龄公示名单'!B72","v":"紫薇园社区"},{"$f":"'[7]80岁本月在册高龄公示名单'!C72","v":"覃清辉"},{"$f":"'[7]80岁本月在册高龄公示名单'!D72","v":"男"},{"$f":"'[7]80岁本月在册高龄公示名单'!E72","v":82},{"$f":"'[7]80岁本月在册高龄公示名单'!F72","v":50},{"$f":"'[7]80岁本月在册高龄公示名单'!G72","v":"2025-08-01"}]
[668,{"$f":"'[7]80岁本月在册高龄公示名单'!B73","v":"紫薇园社区"},{"$f":"'[7]80岁本月在册高龄公示名单'!C73","v":"黄耀华"},{"$f":"'[7]80岁本月在册高龄公示名单'!D73","v":"男"},{"$f":"'[7]80岁本月在册高龄公示名单'!E73","v":82},{"$f":"'[7]80岁本月在册高龄公示名单'!F73","v":50},{"$f":"'[7]80岁本月在册高龄公示名单'!G73","v":"2025-08-01"}]
[669,{"$f":"'[7]80岁本月在册高龄公示名单'!B74","v":"紫薇园社区"},{"$f":"'[7]80岁本月在册高龄公示名单'!C74","v":"田莉珍"},{"$f":"'[7]80岁本月在册高龄公示名单'!D74","v":"女"},{"$f":"'[7]80岁本月在册高龄公示名单'!E74","v":82},{"$f":"'[7]80岁本月在册高龄公示名单'!F74","v":50},{"$f":"'[7]80岁本月在册高龄公示名单'!G74","v":"2025-08-01"}]
[670,{"$f":"'[7]80岁本月在册高龄公示名单'!B75","v":"紫薇园社区"},{"$f":"'[7]80岁本月在册高龄公示名单'!C75","v":"黄泰玉"},{"$f":"'[7]80岁本月在册高龄公示名单'!D75","v":"女"},{"$f":"'[7]80岁本月在册高龄公示名单'!E75","v":82},{"$f":"'[7]80岁本月在册高龄公示名单'!F75","v":50},{"$f":"'[7]80岁本月在册高龄公示名单'!G75","v":"2025-08-01"}]
[671,{"$f":"'[7]80岁本月在册高龄公示名单'!B76","v":"紫薇园社区"},{"$f":"'[7]80岁本月在册高龄公示名单'!C76","v":"黄业金"},{"$f":"'[7]80岁本月在册高龄公示名单'!D76","v":"男"},{"$f":"'[7]80岁本月在册高龄公示名单'!E76","v":82},{"$f":"'[7]80岁本月在册高龄公示名单'!F76","v":50},{"$f":"'[7]80岁本月在册高龄公示名单'!G76","v":"2025-08-01"}]
[672,{"$f":"'[7]80岁本月在册高龄公示名单'!B77","v":"紫薇园社区"},{"$f":"'[7]80岁本月在册高龄公示名单'!C77","v":"邱桂兰"},{"$f":"'[7]80岁本月在册高龄公示名单'!D77","v":"女"},{"$f":"'[7]80岁本月在册高龄公示名单'!E77","v":82},{"$f":"'[7]80岁本月在册高龄公示名单'!F77","v":50},{"$f":"'[7]80岁本月在册高龄公示名单'!G77","v":"2025-08-01"}]
[673,{"$f":"'[7]80岁本月在册高龄公示名单'!B78","v":"紫薇园社区"},{"$f":"'[7]80岁本月在册高龄公示名单'!C78","v":"李复光"},{"$f":"'[7]80岁本月在册高龄公示名单'!D78","v":"男"},{"$f":"'[7]80岁本月在册高龄公示名单'!E78","v":81},{"$f":"'[7]80岁本月在册高龄公示名单'!F78","v":50},{"$f":"'[7]80岁本月在册高龄公示名单'!G78","v":"2025-08-01"}]
[674,{"$f":"'[7]80岁本月在册高龄公示名单'!B79","v":"紫薇园社区"},{"$f":"'[7]80岁本月在册高龄公示名单'!C79","v":"潘国英"},{"$f":"'[7]80岁本月在册高龄公示名单'!D79","v":"男"},{"$f":"'[7]80岁本月在册高龄公示名单'!E79","v":81},{"$f":"'[7]80岁本月在册高龄公示名单'!F79","v":50},{"$f":"'[7]80岁本月在册高龄公示名单'!G79","v":"2025-08-01"}]
[675,{"$f":"'[7]80岁本月在册高龄公示名单'!B80","v":"紫薇园社区"},{"$f":"'[7]80岁本月在册高龄公示名单'!C80","v":"熊正芳"},{"$f":"'[7]80岁本月在册高龄公示名单'!D80","v":"女"},{"$f":"'[7]80岁本月在册高龄公示名单'!E80","v":81},{"$f":"'[7]80岁本月在册高龄公示名单'!F80","v":50},{"$f":"'[7]80岁本月在册高龄公示名单'!G80","v":"2025-08-01"}]
[676,{"$f":"'[7]80岁本月在册高龄公示名单'!B81","v":"紫薇园社区"},{"$f":"'[7]80岁本月在册高龄公示名单'!C81","v":"李少芬"},{"$f":"'[7]80岁本月在册高龄公示名单'!D81","v":"女"},{"$f":"'[7]80岁本月在册高龄公示名单'!E81","v":81},{"$f":"'[7]80岁本月在册高龄公示名单'!F81","v":50},{"$f":"'[7]80岁本月在册高龄公示名单'!G81","v":"2025-08-01"}]
[677,{"$f":"'[7]80岁本月在册高龄公示名单'!B82","v":"紫薇园社区"},{"$f":"'[7]80岁本月在册高龄公示名单'!C82","v":"李淑琴"},{"$f":"'[7]80岁本月在册高龄公示名单'!D82","v":"女"},{"$f":"'[7]80岁本月在册高龄公示名单'!E82","v":81},{"$f":"'[7]80岁本月在册高龄公示名单'!F82","v":50},{"$f":"'[7]80岁本月在册高龄公示名单'!G82","v":"2025-08-01"}]
[678,{"$f":"'[7]80岁本月在册高龄公示名单'!B83","v":"紫薇园社区"},{"$f":"'[7]80岁本月在册高龄公示名单'!C83","v":"林月英"},{"$f":"'[7]80岁本月在册高龄公示名单'!D83","v":"女"},{"$f":"'[7]80岁本月在册高龄公示名单'!E83","v":81},{"$f":"'[7]80岁本月在册高龄公示名单'!F83","v":50},{"$f":"'[7]80岁本月在册高龄公示名单'!G83","v":"2025-08-01"}]
[679,{"$f":"'[7]80岁本月在册高龄公示名单'!B84","v":"紫薇园社区"},{"$f":"'[7]80岁本月在册高龄公示名单'!C84","v":"项孝樑"},{"$f":"'[7]80岁本月在册高龄公示名单'!D84","v":"男"},{"$f":"'[7]80岁本月在册高龄公示名单'!E84","v":81},{"$f":"'[7]80岁本月在册高龄公示名单'!F84","v":50},{"$f":"'[7]80岁本月在册高龄公示名单'!G84","v":"2025-08-01"}]
[680,{"$f":"'[7]80岁本月在册高龄公示名单'!B85","v":"紫薇园社区"},{"$f":"'[7]80岁本月在册高龄公示名单'!C85","v":"刘东如"},{"$f":"'[7]80岁本月在册高龄公示名单'!D85","v":"女"},{"$f":"'[7]80岁本月在册高龄公示名单'!E85","v":81},{"$f":"'[7]80岁本月在册高龄公示名单'!F85","v":50},{"$f":"'[7]80岁本月在册高龄公示名单'!G85","v":"2025-08-01"}]
[681,{"$f":"'[7]80岁本月在册高龄公示名单'!B86","v":"紫薇园社区"},{"$f":"'[7]80岁本月在册高龄公示名单'!C86","v":"岳学奎"},{"$f":"'[7]80岁本月在册高龄公示名单'!D86","v":"男"},{"$f":"'[7]80岁本月在册高龄公示名单'!E86","v":81},{"$f":"'[7]80岁本月在册高龄公示名单'!F86","v":50},{"$f":"'[7]80岁本月在册高龄公示名单'!G86","v":"2025-08-01"}]
[682,{"$f":"'[7]80岁本月在册高龄公示名单'!B87","v":"紫薇园社区"},{"$f":"'[7]80岁本月在册高龄公示名单'!C87","v":"刘文华"},{"$f":"'[7]80岁本月在册高龄公示名单'!D87","v":"男"},{"$f":"'[7]80岁本月在册高龄公示名单'!E87","v":81},{"$f":"'[7]80岁本月在册高龄公示名单'!F87","v":50},{"$f":"'[7]80岁本月在册高龄公示名单'!G87","v":"2025-08-01"}]
[683,{"$f":"'[7]80岁本月在册高龄公示名单'!B88","v":"紫薇园社区"},{"$f":"'[7]80岁本月在册高龄公示名单'!C88","v":"韦承孟"},{"$f":"'[7]80岁本月在册高龄公示名单'!D88","v":"女"},{"$f":"'[7]80岁本月在册高龄公示名单'!E88","v":81},{"$f":"'[7]80岁本月在册高龄公示名单'!F88","v":50},{"$f":"'[7]80岁本月在册高龄公示名单'!G88","v":"2025-08-01"}]
[684,{"$f":"'[7]80岁本月在册高龄公示名单'!B89","v":"紫薇园社区"},{"$f":"'[7]80岁本月在册高龄公示名单'!C89","v":"黄进芬"},{"$f":"'[7]80岁本月在册高龄公示名单'!D89","v":"女"},{"$f":"'[7]80岁本月在册高龄公示名单'!E89","v":82},{"$f":"'[7]80岁本月在册高龄公示名单'!F89","v":50},{"$f":"'[7]80岁本月在册高龄公示名单'!G89","v":"2025-08-01"}]
[685,{"$f":"'[7]80岁本月在册高龄公示名单'!B90","v":"紫薇园社区"},{"$f":"'[7]80岁本月在册高龄公示名单'!C90","v":"陆有宗"},{"$f":"'[7]80岁本月在册高龄公示名单'!D90","v":"男"},{"$f":"'[7]80岁本月在册高龄公示名单'!E90","v":81},{"$f":"'[7]80岁本月在册高龄公示名单'!F90","v":50},{"$f":"'[7]80岁本月在册高龄公示名单'!G90","v":"2025-08-01"}]
[686,{"$f":"'[7]80岁本月在册高龄公示名单'!B91","v":"紫薇园社区"},{"$f":"'[7]80岁本月在册高龄公示名单'!C91","v":"曹家平"},{"$f":"'[7]80岁本月在册高龄公示名单'!D91","v":"男"},{"$f":"'[7]80岁本月在册高龄公示名单'!E91","v":81},{"$f":"'[7]80岁本月在册高龄公示名单'!F91","v":50},{"$f":"'[7]80岁本月在册高龄公示名单'!G91","v":"2025-08-01"}]
[687,{"$f":"'[7]80岁本月在册高龄公示名单'!B92","v":"紫薇园社区"},{"$f":"'[7]80岁本月在册高龄公示名单'!C92","v":"涂相远"},{"$f":"'[7]80岁本月在册高龄公示名单'!D92","v":"男"},{"$f":"'[7]80岁本月在册高龄公示名单'!E92","v":81},{"$f":"'[7]80岁本月在册高龄公示名单'!F92","v":50},{"$f":"'[7]80岁本月在册高龄公示名单'!G92","v":"2025-08-01"}]
[688,{"$f":"'[7]80岁本月在册高龄公示名单'!B93","v":"紫薇园社区"},{"$f":"'[7]80岁本月在册高龄公示名单'!C93","v":"伍日良"},{"$f":"'[7]80岁本月在册高龄公示名单'!D93","v":"男"},{"$f":"'[7]80岁本月在册高龄公示名单'!E93","v":81},{"$f":"'[7]80岁本月在册高龄公示名单'!F93","v":50},{"$f":"'[7]80岁本月在册高龄公示名单'!G93","v":"2025-08-01"}]
[689,{"$f":"'[7]80岁本月在册高龄公示名单'!B94","v":"紫薇园社区"},{"$f":"'[7]80岁本月在册高龄公示名单'!C94","v":"黄伟森"},{"$f":"'[7]80岁本月在册高龄公示名单'!D94","v":"男"},{"$f":"'[7]80岁本月在册高龄公示名单'!E94","v":81},{"$f":"'[7]80岁本月在册高龄公示名单'!F94","v":50},{"$f":"'[7]80岁本月在册高龄公示名单'!G94","v":"2025-08-01"}]
[690,{"$f":"'[7]80岁本月在册高龄公示名单'!B95","v":"紫薇园社区"},{"$f":"'[7]80岁本月在册高龄公示名单'!C95","v":"蒙兰新"},{"$f":"'[7]80岁本月在册高龄公示名单'!D95","v":"女"},{"$f":"'[7]80岁本月在册高龄公示名单'!E95","v":81},{"$f":"'[7]80岁本月在册高龄公示名单'!F95","v":50},{"$f":"'[7]80岁本月在册高龄公示名单'!G95","v":"2025-08-01"}]
[691,{"$f":"'[7]80岁本月在册高龄公示名单'!B96","v":"紫薇园社区"},{"$f":"'[7]80岁本月在册高龄公示名单'!C96","v":"阙其君"},{"$f":"'[7]80岁本月在册高龄公示名单'!D96","v":"男"},{"$f":"'[7]80岁本月在册高龄公示名单'!E96","v":81},{"$f":"'[7]80岁本月在册高龄公示名单'!F96","v":50},{"$f":"'[7]80岁本月在册高龄公示名单'!G96","v":"2025-08-01"}]
[692,{"$f":"'[7]80岁本月在册高龄公示名单'!B97","v":"紫薇园社区"},{"$f":"'[7]80岁本月在册高龄公示名单'!C97","v":"熊小穗"},{"$f":"'[7]80岁本月在册高龄公示名单'!D97","v":"女"},{"$f":"'[7]80岁本月在册高龄公示名单'!E97","v":81},{"$f":"'[7]80岁本月在册高龄公示名单'!F97","v":50},{"$f":"'[7]80岁本月在册高龄公示名单'!G97","v":"2025-08-01"}]
[693,{"$f":"'[7]80岁本月在册高龄公示名单'!B98","v":"紫薇园社区"},{"$f":"'[7]80岁本月在册高龄公示名单'!C98","v":"谭嘉云"},{"$f":"'[7]80岁本月在册高龄公示名单'!D98","v":"女"},{"$f":"'[7]80岁本月在册高龄公示名单'!E98","v":80},{"$f":"'[7]80岁本月在册高龄公示名单'!F98","v":50},{"$f":"'[7]80岁本月在册高龄公示名单'!G98","v":"2025-08-01"}]
[694,{"$f":"'[7]80岁本月在册高龄公示名单'!B99","v":"紫薇园社区"},{"$f":"'[7]80岁本月在册高龄公示名单'!C99","v":"冯玉珍"},{"$f":"'[7]80岁本月在册高龄公示名单'!D99","v":"女"},{"$f":"'[7]80岁本月在册高龄公示名单'!E99","v":87},{"$f":"'[7]80岁本月在册高龄公示名单'!F99","v":50},{"$f":"'[7]80岁本月在册高龄公示名单'!G99","v":"2025-08-01"}]
[695,{"$f":"'[7]80岁本月在册高龄公示名单'!B100","v":"紫薇园社区"},{"$f":"'[7]80岁本月在册高龄公示名单'!C100","v":"雷小燕"},{"$f":"'[7]80岁本月在册高龄公示名单'!D100","v":"女"},{"$f":"'[7]80岁本月在册高龄公示名单'!E100","v":80},{"$f":"'[7]80岁本月在册高龄公示名单'!F100","v":50},{"$f":"'[7]80岁本月在册高龄公示名单'!G100","v":"2025-08-01"}]
[696,{"$f":"'[7]80岁本月在册高龄公示名单'!B101","v":"紫薇园社区"},{"$f":"'[7]80岁本月在册高龄公示名单'!C101","v":"汤碧珍"},{"$f":"'[7]80岁本月在册高龄公示名单'!D101","v":"女"},{"$f":"'[7]80岁本月在册高龄公示名单'!E101","v":80},{"$f":"'[7]80岁本月在册高龄公示名单'!F101","v":50},{"$f":"'[7]80岁本月在册高龄公示名单'!G101","v":"2025-08-01"}]
[697,{"$f":"'[7]80岁本月在册高龄公示名单'!B102","v":"紫薇园社区"},{"$f":"'[7]80岁本月在册高龄公示名单'!C102","v":"黄焕玲"},{"$f":"'[7]80岁本月在册高龄公示名单'!D102","v":"男"},{"$f":"'[7]80岁本月在册高龄公示名单'!E102","v":80},{"$f":"'[7]80岁本月在册高龄公示名单'!F102","v":50},{"$f":"'[7]80岁本月在册高龄公示名单'!G102","v":"2025-08-01"}]
[698,{"$f":"'[7]80岁本月在册高龄公示名单'!B103","v":"紫薇园社区"},{"$f":"'[7]80岁本月在册高龄公示名单'!C103","v":"郑兰英"},{"$f":"'[7]80岁本月在册高龄公示名单'!D103","v":"女"},{"$f":"'[7]80岁本月在册高龄公示名单'!E103","v":80},{"$f":"'[7]80岁本月在册高龄公示名单'!F103","v":50},{"$f":"'[7]80岁本月在册高龄公示名单'!G103","v":"2025-08-01"}]
[699,{"$f":"'[7]80岁本月在册高龄公示名单'!B104","v":"紫薇园社区"},{"$f":"'[7]80岁本月在册高龄公示名单'!C104","v":"陈耿芳"},{"$f":"'[7]80岁本月在册高龄公示名单'!D104","v":"女"},{"$f":"'[7]80岁本月在册高龄公示名单'!E104","v":80},{"$f":"'[7]80岁本月在册高龄公示名单'!F104","v":50},{"$f":"'[7]80岁本月在册高龄公示名单'!G104","v":"2025-08-01"}]
[700,{"$f":"'[7]80岁本月在册高龄公示名单'!B105","v":"紫薇园社区"},{"$f":"'[7]80岁本月在册高龄公示名单'!C105","v":"杨秀群"},{"$f":"'[7]80岁本月在册高龄公示名单'!D105","v":"女"},{"$f":"'[7]80岁本月在册高龄公示名单'!E105","v":80},{"$f":"'[7]80岁本月在册高龄公示名单'!F105","v":50},{"$f":"'[7]80岁本月在册高龄公示名单'!G105","v":"2025-08-01"}]
[701,{"$f":"'[7]80岁本月在册高龄公示名单'!B106","v":"紫薇园社区"},{"$f":"'[7]80岁本月在册高龄公示名单'!C106","v":"芦兰翠"},{"$f":"'[7]80岁本月在册高龄公示名单'!D106","v":"女"},{"$f":"'[7]80岁本月在册高龄公示名单'!E106","v":80},{"$f":"'[7]80岁本月在册高龄公示名单'!F106","v":50},{"$f":"'[7]80岁本月在册高龄公示名单'!G106","v":"2025-08-01"}]
[702,{"$f":"'[7]80岁本月在册高龄公示名单'!B107","v":"紫薇园社区"},{"$f":"'[7]80岁本月在册高龄公示名单'!C107","v":"黄非常"},{"$f":"'[7]80岁本月在册高龄公示名单'!D107","v":"男"},{"$f":"'[7]80岁本月在册高龄公示名单'!E107","v":80},{"$f":"'[7]80岁本月在册高龄公示名单'!F107","v":50},{"$f":"'[7]80岁本月在册高龄公示名单'!G107","v":"2025-08-01"}]
[703,{"$f":"'[7]80岁本月在册高龄公示名单'!B108","v":"紫薇园社区"},{"$f":"'[7]80岁本月在册高龄公示名单'!C108","v":"张玉芬"},{"$f":"'[7]80岁本月在册高龄公示名单'!D108","v":"女"},{"$f":"'[7]80岁本月在册高龄公示名单'!E108","v":80},{"$f":"'[7]80岁本月在册高龄公示名单'!F108","v":50},{"$f":"'[7]80岁本月在册高龄公示名单'!G108","v":"2025-08-01"}]
["跃进街道办举报电话：0772-2066785"]
["柳北民政局举报电话：0772-2857806"]
[{"$nulls":5},"2025-08-13"]

{"sheet":"80岁本月补发高龄公示名单 ","index":1,"n_rows":10,"n_cols":7,"rows_kept":10,"merged":[[0,0,0,6],[1,0,1,6],[7,0,7,6],[8,0,8,6],[9,5,9,6]]}
["跃进街道高龄老年人生活补贴公示"]
["　　本街道共有 3 人申请 2025 年第 7 月高龄补贴，根据《柳州市高龄老年人生活补贴发放管理暂行办法》（柳民规〔2020〕5号）的有关规定，现予以公示。"]
["序\n号","所属社区","申请人\n姓名","性别","年龄","补助金额\n（元/月）","发放\n时段"]
[1,{"$f":"'[2]80-89周岁补发公示'!B4","v":"柳星社区"},{"$f":"'[2]80-89周岁补发公示'!C4","v":"邝子彰"},{"$f":"'[2]80-89周岁补发公示'!D4","v":"男"},{"$f":"'[2]80-89周岁补发公示'!E4","v":80},{"$f":"'[2]80-89周岁补发公示'!F4","v":50},{"$f":"'[2]80-89周岁补发公示'!G4","v":"2025-07-01"}]
[2,{"$f":"'[6]80岁本月补发高龄公示名单 '!B4","v":"长林社区"},{"$f":"'[6]80岁本月补发高龄公示名单 '!C4","v":"梁琼美"},{"$f":"'[6]80岁本月补发高龄公示名单 '!D4","v":"女"},{"$f":"'[6]80岁本月补发高龄公示名单 '!E4","v":80},{"$f":"'[6]80岁本月补发高龄公示名单 '!F4","v":50},{"$f":"'[6]80岁本月补发高龄公示名单 '!G4","v":"2025-07-01"}]
[3,{"$f":"'[3]80-89岁本月补发高龄公示名单  '!B4","v":"宏福社区"},{"$f":"'[3]80-89岁本月补发高龄公示名单  '!C4","v":"杨桂才"},{"$f":"'[3]80-89岁本月补发高龄公示名单  '!D4","v":"女"},{"$f":"'[3]80-89岁本月补发高龄公示名单  '!E4","v":80},{"$f":"'[3]80-89岁本月补发高龄公示名单  '!F4","v":50},{"$f":"'[3]80-89岁本月补发高龄公示名单  '!G4","v":"2025-07-01"}]
[]
["跃进街道办举报电话：0772-2066785"]
["柳北民政局举报电话：0772-2857806"]
[{"$nulls":5},"2025-08-13"]

{"sheet":"90岁本月在册高龄公示名单","index":2,"n_rows":124,"n_cols":7,"rows_kept":124,"merged":[[0,0,0,6],[1,0,1,6],[122,0,122,6],[123,5,123,6]]}
["跃进街道高龄老年人生活补贴公示"]
["　　本街道共有   119  人申请 2025 年第 8 月高龄补贴，根据《柳州市高龄老年人生活补贴发放管理暂行办法》（柳民规〔2020〕5号）的有关规定，现予以公示。"]
["序\n号","所属社区","申请人\n姓名","性别","年龄","补助金额\n（元/月）","发放\n时段"]
[1,{"$f":"'[1]2025年7月90岁本月在册高龄公示名单'!B4","v":"和兴园社区"},{"$f":"'[1]2025年7月90岁本月在册高龄公示名单'!C4","v":"贺清凤"},{"$f":"'[1]2025年7月90岁本月在册高龄公示名单'!D4","v":"男"},{"$f":"'[1]2025年7月90岁本月在册高龄公示名单'!E4","v":98},{"$f":"'[1]2025年7月90岁本月在册高龄公示名单'!F4","v":100},{"$f":"'[1]2025年7月90岁本月在册高龄公示名单'!G4","v":"2025-08-01"}]
[2,{"$f":"'[1]2025年7月90岁本月在册高龄公示名单'!B5","v":"和兴园社区"},{"$f":"'[1]2025年7月90岁本月在册高龄公示名单'!C5","v":"刘玉兰"},{"$f":"'[1]2025年7月90岁本月在册高龄公示名单'!D5","v":"女"},{"$f":"'[1]2025年7月90岁本月在册高龄公示名单'!E5","v":95},{"$f":"'[1]2025年7月90岁本月在册高龄公示名单'!F5","v":100},{"$f":"'[1]2025年7月90岁本月在册高龄公示名单'!G5","v":"2025-08-01"}]
[3,{"$f":"'[1]2025年7月90岁本月在册高龄公示名单'!B6","v":"和兴园社区"},{"$f":"'[1]2025年7月90岁本月在册高龄公示名单'!C6","v":"阳焘"},{"$f":"'[1]2025年7月90岁本月在册高龄公示名单'!D6","v":"女"},{"$f":"'[1]2025年7月90岁本月在册高龄公示名单'!E6","v":94},{"$f":"'[1]2025年7月90岁本月在册高龄公示名单'!F6","v":100},{"$f":"'[1]2025年7月90岁本月在册高龄公示名单'!G6","v":"2025-08-01"}]
[4,{"$f":"'[1]2025年7月90岁本月在册高龄公示名单'!B7","v":"和兴园社区"},{"$f":"'[1]2025年7月90岁本月在册高龄公示名单'!C7","v":"朱景明"},{"$f":"'[1]2025年7月90岁本月在册高龄公示名单'!D7","v":"男"},{"$f":"'[1]2025年7月90岁本月在册高龄公示名单'!E7","v":94},{"$f":"'[1]2025年7月90岁本月在册高龄公示名单'!F7","v":100},{"$f":"'[1]2025年7月90岁本月在册高龄公示名单'!G7","v":"2025-08-01"}]
[5,{"$f":"'[1]2025年7月90岁本月在册高龄公示名单'!B8","v":"和兴园社区"},{"$f":"'[1]2025年7月90岁本月在册高龄公示名单'!C8","v":"潘金成"},{"$f":"'[1]2025年7月90岁本月在册高龄公示名单'!D8","v":"女"},{"$f":"'[1]2025年7月90岁本月在册高龄公示名单'!E8","v":94},{"$f":"'[1]2025年7月90岁本月在册高龄公示名单'!F8","v":100},{"$f":"'[1]2025年7月90岁本月在册高龄公示名单'!G8","v":"2025-08-01"}]
[6,{"$f":"'[1]2025年7月90岁本月在册高龄公示名单'!B9","v":"和兴园社区"},{"$f":"'[1]2025年7月90岁本月在册高龄公示名单'!C9","v":"覃崇英"},{"$f":"'[1]2025年7月90岁本月在册高龄公示名单'!D9","v":"女"},{"$f":"'[1]2025年7月90岁本月在册高龄公示名单'!E9","v":94},{"$f":"'[1]2025年7月90岁本月在册高龄公示名单'!F9","v":100},{"$f":"'[1]2025年7月90岁本月在册高龄公示名单'!G9","v":"2025-08-01"}]
[7,{"$f":"'[1]2025年7月90岁本月在册高龄公示名单'!B10","v":"和兴园社区"},{"$f":"'[1]2025年7月90岁本月在册高龄公示名单'!C10","v":"方婵"},{"$f":"'[1]2025年7月90岁本月在册高龄公示名单'!D10","v":"女"},{"$f":"'[1]2025年7月90岁本月在册高龄公示名单'!E10","v":94},{"$f":"'[1]2025年7月90岁本月在册高龄公示名单'!F10","v":100},{"$f":"'[1]2025年7月90岁本月在册高龄公示名单'!G10","v":"2025-08-01"}]
[8,{"$f":"'[1]2025年7月90岁本月在册高龄公示名单'!B11","v":"和兴园社区"},{"$f":"'[1]2025年7月90岁本月在册高龄公示名单'!C11","v":"冼俊华"},{"$f":"'[1]2025年7月90岁本月在册高龄公示名单'!D11","v":"女"},{"$f":"'[1]2025年7月90岁本月在册高龄公示名单'!E11","v":93},{"$f":"'[1]2025年7月90岁本月在册高龄公示名单'!F11","v":100},{"$f":"'[1]2025年7月90岁本月在册高龄公示名单'!G11","v":"2025-08-01"}]
[9,{"$f":"'[1]2025年7月90岁本月在册高龄公示名单'!B12","v":"和兴园社区"},{"$f":"'[1]2025年7月90岁本月在册高龄公示名单'!C12","v":"吴秀云"},{"$f":"'[1]2025年7月90岁本月在册高龄公示名单'!D12","v":"女"},{"$f":"'[1]2025年7月90岁本月在册高龄公示名单'!E12","v":93},{"$f":"'[1]2025年7月90岁本月在册高龄公示名单'!F12","v":100},{"$f":"'[1]2025年7月90岁本月在册高龄公示名单'!G12","v":"2025-08-01"}]
[10,{"$f":"'[1]2025年7月90岁本月在册高龄公示名单'!B13","v":"和兴园社区"},{"$f":"'[1]2025年7月90岁本月在册高龄公示名单'!C13","v":"张光恒"},{"$f":"'[1]2025年7月90岁本月在册高龄公示名单'!D13","v":"男"},{"$f":"'[1]2025年7月90岁本月在册高龄公示名单'!E13","v":92},{"$f":"'[1]2025年7月90岁本月在册高龄公示名单'!F13","v":100},{"$f":"'[1]2025年7月90岁本月在册高龄公示名单'!G13","v":"2025-08-01"}]
[11,{"$f":"'[1]2025年7月90岁本月在册高龄公示名单'!B14","v":"和兴园社区"},{"$f":"'[1]2025年7月90岁本月在册高龄公示名单'!C14","v":"李为琴"},{"$f":"'[1]2025年7月90岁本月在册高龄公示名单'!D14","v":"女"},{"$f":"'[1]2025年7月90岁本月在册高龄公示名单'!E14","v":90},{"$f":"'[1]2025年7月90岁本月在册高龄公示名单'!F14","v":100},{"$f":"'[1]2025年7月90岁本月在册高龄公示名单'!G14","v":"2025-08-01"}]
[12,{"$f":"'[1]2025年7月90岁本月在册高龄公示名单'!B15","v":"和兴园社区"},{"$f":"'[1]2025年7月90岁本月在册高龄公示名单'!C15","v":"徐华生"},{"$f":"'[1]2025年7月90岁本月在册高龄公示名单'!D15","v":"男"},{"$f":"'[1]2025年7月90岁本月在册高龄公示名单'!E15","v":92},{"$f":"'[1]2025年7月90岁本月在册高龄公示名单'!F15","v":100},{"$f":"'[1]2025年7月90岁本月在册高龄公示名单'!G15","v":"2025-08-01"}]
[13,{"$f":"'[1]2025年7月90岁本月在册高龄公示名单'!B16","v":"和兴园社区"},{"$f":"'[1]2025年7月90岁本月在册高龄公示名单'!C16","v":"周裕根"},{"$f":"'[1]2025年7月90岁本月在册高龄公示名单'!D16","v":"男"},{"$f":"'[1]2025年7月90岁本月在册高龄公示名单'!E16","v":92},{"$f":"'[1]2025年7月90岁本月在册高龄公示名单'!F16","v":100},{"$f":"'[1]2025年7月90岁本月在册高龄公示名单'!G16","v":"2025-08-01"}]
[14,{"$f":"'[1]2025年7月90岁本月在册高龄公示名单'!B17","v":"和兴园社区"},{"$f":"'[1]2025年7月90岁本月在册高龄公示名单'!C17","v":"陈荣来"},{"$f":"'[1]2025年7月90岁本月在册高龄公示名单'!D17","v":"男"},{"$f":"'[1]2025年7月90岁本月在册高龄公示名单'!E17","v":92},{"$f":"'[1]2025年7月90岁本月在册高龄公示名单'!F17","v":100},{"$f":"'[1]2025年7月90岁本月在册高龄公示名单'!G17","v":"2025-08-01"}]
[15,{"$f":"'[1]2025年7月90岁本月在册高龄公示名单'!B18","v":"和兴园社区"},{"$f":"'[1]2025年7月90岁本月在册高龄公示名单'!C18","v":"黄凤萍"},{"$f":"'[1]2025年7月90岁本月在册高龄公示名单'!D18","v":"女"},{"$f":"'[1]2025年7月90岁本月在册高龄公示名单'!E18","v":92},{"$f":"'[1]2025年7月90岁本月在册高龄公示名单'!F18","v":100},{"$f":"'[1]2025年7月90岁本月在册高龄公示名单'!G18","v":"2025-08-01"}]
[16,{"$f":"'[1]2025年7月90岁本月在册高龄公示名单'!B19","v":"和兴园社区"},{"$f":"'[1]2025年7月90岁本月在册高龄公示名单'!C19","v":"黄德慈"},{"$f":"'[1]2025年7月90岁本月在册高龄公示名单'!D19","v":"女"},{"$f":"'[1]2025年7月90岁本月在册高龄公示名单'!E19","v":91},{"$f":"'[1]2025年7月90岁本月在册高龄公示名单'!F19","v":100},{"$f":"'[1]2025年7月90岁本月在册高龄公示名单'!G19","v":"2025-08-01"}]
[17,{"$f":"'[1]2025年7月90岁本月在册高龄公示名单'!B20","v":"和兴园社区"},{"$f":"'[1]2025年7月90岁本月在册高龄公示名单'!C20","v":"常月英"},{"$f":"'[1]2025年7月90岁本月在册高龄公示名单'!D20","v":"女"},{"$f":"'[1]2025年7月90岁本月在册高龄公示名单'!E20","v":91},{"$f":"'[1]2025年7月90岁本月在册高龄公示名单'!F20","v":100},{"$f":"'[1]2025年7月90岁本月在册高龄公示名单'!G20","v":"2025-08-01"}]
[18,{"$f":"'[1]2025年7月90岁本月在册高龄公示名单'!B21","v":"和兴园社区"},{"$f":"'[1]2025年7月90岁本月在册高龄公示名单'!C21","v":"翟香丽"},{"$f":"'[1]2025年7月90岁本月在册高龄公示名单'!D21","v":"女"},{"$f":"'[1]2025年7月90岁本月在册高龄公示名单'!E21","v":91},{"$f":"'[1]2025年7月90岁本月在册高龄公示名单'!F21","v":100},{"$f":"'[1]2025年7月90岁本月在册高龄公示名单'!G21","v":"2025-08-01"}]
[19,{"$f":"'[1]2025年7月90岁本月在册高龄公示名单'!B22","v":"和兴园社区"},{"$f":"'[1]2025年7月90岁本月在册高龄公示名单'!C22","v":"黎洁珍"},{"$f":"'[1]2025年7月90岁本月在册高龄公示名单'!D22","v":"女"},{"$f":"'[1]2025年7月90岁本月在册高龄公示名单'!E22","v":91},{"$f":"'[1]2025年7月90岁本月在册高龄公示名单'!F22","v":100},{"$f":"'[1]2025年7月90岁本月在册高龄公示名单'!G22","v":"2025-08-01"}]
[20,{"$f":"'[1]2025年7月90岁本月在册高龄公示名单'!B23","v":"和兴园社区"},{"$f":"'[1]2025年7月90岁本月在册高龄公示名单'!C23","v":"朱怀仁"},{"$f":"'[1]2025年7月90岁本月在册高龄公示名单'!D23","v":"男"},{"$f":"'[1]2025年7月90岁本月在册高龄公示名单'!E23","v":90},{"$f":"'[1]2025年7月90岁本月在册高龄公示名单'!F23","v":100},{"$f":"'[1]2025年7月90岁本月在册高龄公示名单'!G23","v":"2025-08-01"}]
[21,{"$f":"'[1]2025年7月90岁本月在册高龄公示名单'!B24","v":"和兴园社区"},{"$f":"'[1]2025年7月90岁本月在册高龄公示名单'!C24","v":"潘爱珍"},{"$f":"'[1]2025年7月90岁本月在册高龄公示名单'!D24","v":"女"},{"$f":"'[1]2025年7月90岁本月在册高龄公示名单'!E24","v":90},{"$f":"'[1]2025年7月90岁本月在册高龄公示名单'!F24","v":100},{"$f":"'[1]2025年7月90岁本月在册高龄公示名单'!G24","v":"2025-08-01"}]
[22,{"$f":"'[1]2025年7月90岁本月在册高龄公示名单'!B25","v":"和兴园社区"},{"$f":"'[1]2025年7月90岁本月在册高龄公示名单'!C25","v":"孔繁桐"},{"$f":"'[1]2025年7月90岁本月在册高龄公示名单'!D25","v":"男"},{"$f":"'[1]2025年7月90岁本月在册高龄公示名单'!E25","v":90},{"$f":"'[1]2025年7月90岁本月在册高龄公示名单'!F25","v":100},{"$f":"'[1]2025年7月90岁本月在册高龄公示名单'!G25","v":"2025-08-01"}]
[23,{"$f":"'[1]2025年7月90岁本月在册高龄公示名单'!B26","v":"和兴园社区"},{"$f":"'[1]2025年7月90岁本月在册高龄公示名单'!C26","v":"沈慧芬"},{"$f":"'[1]2025年7月90岁本月在册高龄公示名单'!D26","v":"女"},{"$f":"'[1]2025年7月90岁本月在册高龄公示名单'!E26","v":90},{"$f":"'[1]2025年7月90岁本月在册高龄公示名单'!F26","v":100},{"$f":"'[1]2025年7月90岁本月在册高龄公示名单'!G26","v":"2025-08-01"}]
[24,{"$f":"'[1]2025年7月90岁本月在册高龄公示名单'!B27","v":"和兴园社区"},{"$f":"'[1]2025年7月90岁本月在册高龄公示名单'!C27","v":"韦炳权"},{"$f":"'[1]2025年7月90岁本月在册高龄公示名单'!D27","v":"男"},{"$f":"'[1]2025年7月90岁本月在册高龄公示名单'!E27","v":90},{"$f":"'[1]2025年7月90岁本月在册高龄公示名单'!F27","v":100},{"$f":"'[1]2025年7月90岁本月在册高龄公示名单'!G27","v":"2025-08-01"}]
[25,{"$f":"'[1]2025年7月90岁本月在册高龄公示名单'!B28","v":"和兴园社区"},{"$f":"'[1]2025年7月90岁本月在册高龄公示名单'!C28","v":"邓惠梅"},{"$f":"'[1]2025年7月90岁本月在册高龄公示名单'!D28","v":0},{"$f":"'[1]2025年7月90岁本月在册高龄公示名单'!E28","v":90},{"$f":"'[1]2025年7月90岁本月在册高龄公示名单'!F28","v":100},{"$f":"'[1]2025年7月90岁本月在册高龄公示名单'!G28","v":"2025-08-01"}]
[26,{"$f":"'[2]90岁公示'!B4","v":"柳星社区"},{"$f":"'[2]90岁公示'!C4","v":"赵建华"},{"$f":"'[2]90岁公示'!D4","v":"男"},{"$f":"'[2]90岁公示'!E4","v":95},{"$f":"'[2]90岁公示'!F4","v":100},{"$f":"'[2]90岁公示'!G4","v":"2025-08-04"}]
[27,{"$f":"'[2]90岁公示'!B5","v":"柳星社区"},{"$f":"'[2]90岁公示'!C5","v":"邓振西"},{"$f":"'[2]90岁公示'!D5","v":"男"},{"$f":"'[2]90岁公示'!E5","v":95},{"$f":"'[2]90岁公示'!F5","v":100},{"$f":"'[2]90岁公示'!G5","v":"2025-08-06"}]
[28,{"$f":"'[2]90岁公示'!B6","v":"柳星社区"},{"$f":"'[2]90岁公示'!C6","v":"李钟鼎"},{"$f":"'[2]90岁公示'!D6","v":"男"},{"$f":"'[2]90岁公示'!E6","v":94},{"$f":"'[2]90岁公示'!F6","v":100},{"$f":"'[2]90岁公示'!G6","v":"2025-08-08"}]
[29,{"$f":"'[2]90岁公示'!B7","v":"柳星社区"},{"$f":"'[2]90岁公示'!C7","v":"胡夏清"},{"$f":"'[2]90岁公示'!D7","v":"女"},{"$f":"'[2]90岁公示'!E7","v":94},{"$f":"'[2]90岁公示'!F7","v":100},{"$f":"'[2]90岁公示'!G7","v":"2025-08-10"}]
[30,{"$f":"'[2]90岁公示'!B8","v":"柳星社区"},{"$f":"'[2]90岁公示'!C8","v":"杨翠英"},{"$f":"'[2]90岁公示'!D8","v":"女"},{"$f":"'[2]90岁公示'!E8","v":94},{"$f":"'[2]90岁公示'!F8","v":100},{"$f":"'[2]90岁公示'!G8","v":"2025-08-12"}]
[31,{"$f":"'[2]90岁公示'!B9","v":"柳星社区"},{"$f":"'[2]90岁公示'!C9","v":"王向阳"},{"$f":"'[2]90岁公示'!D9","v":"男"},{"$f":"'[2]90岁公示'!E9","v":93},{"$f":"'[2]90岁公示'!F9","v":100},{"$f":"'[2]90岁公示'!G9","v":"2025-08-14"}]
[32,{"$f":"'[2]90岁公示'!B10","v":"柳星社区"},{"$f":"'[2]90岁公示'!C10","v":"胡秀英"},{"$f":"'[2]90岁公示'!D10","v":"女"},{"$f":"'[2]90岁公示'!E10","v":93},{"$f":"'[2]90岁公示'!F10","v":100},{"$f":"'[2]90岁公示'!G10","v":"2025-08-16"}]
[33,{"$f":"'[2]90岁公示'!B11","v":"柳星社区"},{"$f":"'[2]90岁公示'!C11","v":"石菊珍"},{"$f":"'[2]90岁公示'!D11","v":"女"},{"$f":"'[2]90岁公示'!E11","v":93},{"$f":"'[2]90岁公示'!F11","v":100},{"$f":"'[2]90岁公示'!G11","v":"2025-08-18"}]
[34,{"$f":"'[2]90岁公示'!B12","v":"柳星社区"},{"$f":"'[2]90岁公示'!C12","v":"吕桂珍"},{"$f":"'[2]90岁公示'!D12","v":"女"},{"$f":"'[2]90岁公示'!E12","v":92},{"$f":"'[2]90岁公示'!F12","v":100},{"$f":"'[2]90岁公示'!G12","v":"2025-08-20"}]
[35,{"$f":"'[2]90岁公示'!B13","v":"柳星社区"},{"$f":"'[2]90岁公示'!C13","v":"杨秀群"},{"$f":"'[2]90岁公示'!D13","v":"女"},{"$f":"'[2]90岁公示'!E13","v":92},{"$f":"'[2]90岁公示'!F13","v":100},{"$f":"'[2]90岁公示'!G13","v":"2025-08-22"}]
[36,{"$f":"'[2]90岁公示'!B14","v":"柳星社区"},{"$f":"'[2]90岁公示'!C14","v":"胡传极"},{"$f":"'[2]90岁公示'!D14","v":"男"},{"$f":"'[2]90岁公示'!E14","v":92},{"$f":"'[2]90岁公示'!F14","v":100},{"$f":"'[2]90岁公示'!G14","v":"2025-08-24"}]
[37,{"$f":"'[2]90岁公示'!B15","v":"柳星社区"},{"$f":"'[2]90岁公示'!C15","v":"文玉屏"},{"$f":"'[2]90岁公示'!D15","v":"女 "},{"$f":"'[2]90岁公示'!E15","v":90},{"$f":"'[2]90岁公示'!F15","v":100},{"$f":"'[2]90岁公示'!G15","v":"2025-08-26"}]
[38,{"$f":"'[2]90岁公示'!B16","v":"柳星社区"},{"$f":"'[2]90岁公示'!C16","v":"黄素英"},{"$f":"'[2]90岁公示'!D16","v":"女"},{"$f":"'[2]90岁公示'!E16","v":90},{"$f":"'[2]90岁公示'!F16","v":100},{"$f":"'[2]90岁公示'!G16","v":"2025-08-28"}]
[39,{"$f":"'[2]90岁公示'!B17","v":"柳星社区"},{"$f":"'[2]90岁公示'!C17","v":"韦容英"},{"$f":"'[2]90岁公示'!D17","v":"女"},{"$f":"'[2]90岁公示'!E17","v":90},{"$f":"'[2]90岁公示'!F17","v":100},{"$f":"'[2]90岁公示'!G17","v":"2025-08-30"}]
[40,{"$f":"'[2]90岁公示'!B18","v":"柳星社区"},{"$f":"'[2]90岁公示'!C18","v":"陈宣林"},{"$f":"'[2]90岁公示'!D18","v":"男"},{"$f":"'[2]90岁公示'!E18","v":91},{"$f":"'[2]90岁公示'!F18","v":100},{"$f":"'[2]90岁公示'!G18","v":"2025-08-22"}]
[41,{"$f":"'[2]90岁公示'!B19","v":"柳星社区"},{"$f":"'[2]90岁公示'!C19","v":"钟应銮"},{"$f":"'[2]90岁公示'!D19","v":"男"},{"$f":"'[2]90岁公示'!E19","v":91},{"$f":"'[2]90岁公示'!F19","v":100},{"$f":"'[2]90岁公示'!G19","v":"2025-08-28"}]
[42,{"$f":"'[2]90岁公示'!B20","v":"柳星社区"},{"$f":"'[2]90岁公示'!C20","v":"覃仁仙"},{"$f":"'[2]90岁公示'!D20","v":"女"},{"$f":"'[2]90岁公示'!E20","v":91},{"$f":"'[2]90岁公示'!F20","v":100},{"$f":"'[2]90岁公示'!G20","v":"2025-08-30"}]
[43,{"$f":"'[2]90岁公示'!B21","v":"柳星社区"},{"$f":"'[2]90岁公示'!C21","v":"张永林"},{"$f":"'[2]90岁公示'!D21","v":"男"},{"$f":"'[2]90岁公示'!E21","v":91},{"$f":"'[2]90岁公示'!F21","v":100},{"$f":"'[2]90岁公示'!G21","v":"2025-08-22"}]
[44,{"$f":"'[2]90岁公示'!B22","v":"柳星社区"},{"$f":"'[2]90岁公示'!C22","v":"练秀英"},{"$f":"'[2]90岁公示'!D22","v":"女"},{"$f":"'[2]90岁公示'!E22","v":90},{"$f":"'[2]90岁公示'!F22","v":100},{"$f":"'[2]90岁公示'!G22","v":"2025-08-28"}]
[45,{"$f":"'[2]90岁公示'!B23","v":"柳星社区"},{"$f":"'[2]90岁公示'!C23","v":"黄金英"},{"$f":"'[2]90岁公示'!D23","v":"女"},{"$f":"'[2]90岁公示'!E23","v":90},{"$f":"'[2]90岁公示'!F23","v":100},{"$f":"'[2]90岁公示'!G23","v":"2025-08-30"}]
[46,{"$f":"'[2]90岁公示'!B24","v":"柳星社区"},{"$f":"'[2]90岁公示'!C24","v":"曹振歧"},{"$f":"'[2]90岁公示'!D24","v":"男"},{"$f":"'[2]90岁公示'!E24","v":90},{"$f":"'[2]90岁公示'!F24","v":100},{"$f":"'[2]90岁公示'!G24","v":"2025-08-22"}]
[47,{"$f":"'[2]90岁公示'!B25","v":"柳星社区"},{"$f":"'[2]90岁公示'!C25","v":"杨秀珍"},{"$f":"'[2]90岁公示'!D25","v":"女"},{"$f":"'[2]90岁公示'!E25","v":90},{"$f":"'[2]90岁公示'!F25","v":100},{"$f":"'[2]90岁公示'!G25","v":"2025-08-28"}]
[48,{"$f":"'[2]90岁公示'!B26","v":"柳星社区"},{"$f":"'[2]90岁公示'!C26","v":"覃文举"},{"$f":"'[2]90岁公示'!D26","v":"男"},{"$f":"'[2]90岁公示'!E26","v":90},{"$f":"'[2]90岁公示'!F26","v":100},{"$f":"'[2]90岁公示'!G26","v":"2025-08-30"}]
[49,{"$f":"'[2]90岁公示'!B27","v":"柳星社区"},{"$f":"'[2]90岁公示'!C27","v":"曾瑞瑄"},{"$f":"'[2]90岁公示'!D27","v":"男"},{"$f":"'[2]90岁公示'!E27","v":90},{"$f":"'[2]90岁公示'!F27","v":100},{"$f":"'[2]90岁公示'!G27","v":"2025-08-22"}]
[50,{"$f":"'[2]90岁公示'!B28","v":"柳星社区"},{"$f":"'[2]90岁公示'!C28","v":"王顺德"},{"$f":"'[2]90岁公示'!D28","v":"男"},{"$f":"'[2]90岁公示'!E28","v":90},{"$f":"'[2]90岁公示'!F28","v":100},{"$f":"'[2]90岁公示'!G28","v":"2025-08-30"}]
[51,{"$f":"'[2]90岁公示'!B29","v":"柳星社区"},{"$f":"'[2]90岁公示'!C29","v":"赵惠珍"},{"$f":"'[2]90岁公示'!D29","v":"女"},{"$f":"'[2]90岁公示'!E29","v":90},{"$f":"'[2]90岁公示'!F29","v":100},{"$f":"'[2]90岁公示'!G29","v":"2025-08-22"}]
[52,{"$f":"'[2]90岁公示'!B30","v":"柳星社区"},{"$f":"'[2]90岁公示'!C30","v":"吴秀林"},{"$f":"'[2]90岁公示'!D30","v":"男"},{"$f":"'[2]90岁公示'!E30","v":90},{"$f":"'[2]90岁公示'!F30","v":100},{"$f":"'[2]90岁公示'!G30","v":"2025-08-28"}]
[53,{"$f":"'[2]90岁公示'!B31","v":"柳星社区"},{"$f":"'[2]90岁公示'!C31","v":"黄惠媛"},{"$f":"'[2]90岁公示'!D31","v":"女"},{"$f":"'[2]90岁公示'!E31","v":90},{"$f":"'[2]90岁公示'!F31","v":100},{"$f":"'[2]90岁公示'!G31","v":"2025-08-30"}]
[54,{"$f":"'[2]90岁公示'!B32","v":"柳星社区"},{"$f":"'[2]90岁公示'!C32","v":"黄声煜"},{"$f":"'[2]90岁公示'!D32","v":"男"},{"$f":"'[2]90岁公示'!E32","v":90},{"$f":"'[2]90岁公示'!F32","v":100},{"$f":"'[2]90岁公示'!G32","v":"2025-08-22"}]
[55,{"$f":"'[2]90岁公示'!B33","v":"柳星社区"},{"$f":"'[2]90岁公示'!C33","v":"姚增坚"},{"$f":"'[2]90岁公示'!D33","v":"男"},{"$f":"'[2]90岁公示'!E33","v":90},{"$f":"'[2]90岁公示'!F33","v":100},{"$f":"'[2]90岁公示'!G33","v":"2025-08-30"}]
[56,{"$f":"'[2]90岁公示'!B34","v":"柳星社区"},{"$f":"'[2]90岁公示'!C34","v":"袁金兰"},{"$f":"'[2]90岁公示'!D34","v":"女"},{"$f":"'[2]90岁公示'!E34","v":90},{"$f":"'[2]90岁公示'!F34","v":100},{"$f":"'[2]90岁公示'!G34","v":"2025-08-22"}]
[57,{"$f":"'[2]90岁公示'!B35","v":"柳星社区"},{"$f":"'[2]90岁公示'!C35","v":"李玉英"},{"$f":"'[2]90岁公示'!D35","v":"女"},{"$f":"'[2]90岁公示'!E35","v":90},{"$f":"'[2]90岁公示'!F35","v":100},{"$f":"'[2]90岁公示'!G35","v":"2025-08-28"}]
[58,{"$f":"'[8]90-99岁公示名单  '!B4","v":"宏福社区"},{"$f":"'[8]90-99岁公示名单  '!C4","v":"陈兴明"},{"$f":"'[8]90-99岁公示名单  '!D4","v":"男"},{"$f":"'[8]90-99岁公示名单  '!E4","v":91},{"$f":"'[8]90-99岁公示名单  '!F4","v":100},{"$f":"'[8]90-99岁公示名单  '!G4","v":"2025-08-10"}]
[59,{"$f":"'[8]90-99岁公示名单  '!B5","v":"宏福社区"},{"$f":"'[8]90-99岁公示名单  '!C5","v":"吕诚"},{"$f":"'[8]90-99岁公示名单  '!D5","v":"男"},{"$f":"'[8]90-99岁公示名单  '!E5","v":90},{"$f":"'[8]90-99岁公示名单  '!F5","v":100},{"$f":"'[8]90-99岁公示名单  '!G5","v":"2025-08-10"}]
[60,{"$f":"'[8]90-99岁公示名单  '!B6","v":"宏福社区"},{"$f":"'[8]90-99岁公示名单  '!C6","v":"谢伏梅"},{"$f":"'[8]90-99岁公示名单  '!D6","v":"女"},{"$f":"'[8]90-99岁公示名单  '!E6","v":90},{"$f":"'[8]90-99岁公示名单  '!F6","v":100},{"$f":"'[8]90-99岁公示名单  '!G6","v":"2025-08-10"}]
[61,{"$f":"'[8]90-99岁公示名单  '!B7","v":"宏福社区"},{"$f":"'[8]90-99岁公示名单  '!C7","v":"朱辉成"},{"$f":"'[8]90-99岁公示名单  '!D7","v":"男"},{"$f":"'[8]90-99岁公示名单  '!E7","v":96},{"$f":"'[8]90-99岁公示名单  '!F7","v":100},{"$f":"'[8]90-99岁公示名单  '!G7","v":"2025-08-10"}]
[62,{"$f":"'[8]90-99岁公示名单  '!B8","v":"宏福社区"},{"$f":"'[8]90-99岁公示名单  '!C8","v":"葛长利"},{"$f":"'[8]90-99岁公示名单  '!D8","v":"男"},{"$f":"'[8]90-99岁公示名单  '!E8","v":94},{"$f":"'[8]90-99岁公示名单  '!F8","v":100},{"$f":"'[8]90-99岁公示名单  '!G8","v":"2025-08-10"}]
[63,{"$f":"'[8]90-99岁公示名单  '!B9","v":"宏福社区"},{"$f":"'[8]90-99岁公示名单  '!C9","v":"王慧芳"},{"$f":"'[8]90-99岁公示名单  '!D9","v":"女"},{"$f":"'[8]90-99岁公示名单  '!E9","v":94},{"$f":"'[8]90-99岁公示名单  '!F9","v":100},{"$f":"'[8]90-99岁公示名单  '!G9","v":"2025-08-10"}]
[64,{"$f":"'[8]90-99岁公示名单  '!B10","v":"宏福社区"},{"$f":"'[8]90-99岁公示名单  '!C10","v":"雷国先"},{"$f":"'[8]90-99岁公示名单  '!D10","v":"男"},{"$f":"'[8]90-99岁公示名单  '!E10","v":94},{"$f":"'[8]90-99岁公示名单  '!F10","v":100},{"$f":"'[8]90-99岁公示名单  '!G10","v":"2025-08-10"}]
[65,{"$f":"'[8]90-99岁公示名单  '!B11","v":"宏福社区"},{"$f":"'[8]90-99岁公示名单  '!C11","v":"李有俭"},{"$f":"'[8]90-99岁公示名单  '!D11","v":"男"},{"$f":"'[8]90-99岁公示名单  '!E11","v":93},{"$f":"'[8]90-99岁公示名单  '!F11","v":100},{"$f":"'[8]90-99岁公示名单  '!G11","v":"2025-08-10"}]
[66,{"$f":"'[8]90-99岁公示名单  '!B12","v":"宏福社区"},{"$f":"'[8]90-99岁公示名单  '!C12","v":"孟凤花"},{"$f":"'[8]90-99岁公示名单  '!D12","v":"女"},{"$f":"'[8]90-99岁公示名单  '!E12","v":92},{"$f":"'[8]90-99岁公示名单  '!F12","v":100},{"$f":"'[8]90-99岁公示名单  '!G12","v":"2025-08-10"}]
[67,{"$f":"'[8]90-99岁公示名单  '!B13","v":"宏福社区"},{"$f":"'[8]90-99岁公示名单  '!C13","v":"罗世兰"},{"$f":"'[8]90-99岁公示名单  '!D13","v":"女"},{"$f":"'[8]90-99岁公示名单  '!E13","v":92},{"$f":"'[8]90-99岁公示名单  '!F13","v":100},{"$f":"'[8]90-99岁公示名单  '!G13","v":"2025-08-10"}]
[68,{"$f":"'[8]90-99岁公示名单  '!B14","v":"宏福社区"},{"$f":"'[8]90-99岁公示名单  '!C14","v":"秦德玉"},{"$f":"'[8]90-99岁公示名单  '!D14","v":"女"},{"$f":"'[8]90-99岁公示名单  '!E14","v":90},{"$f":"'[8]90-99岁公示名单  '!F14","v":100},{"$f":"'[8]90-99岁公示名单  '!G14","v":"2025-08-10"}]
[69,{"$f":"'[8]90-99岁公示名单  '!B15","v":"宏福社区"},{"$f":"'[8]90-99岁公示名单  '!C15","v":"赵桂荣"},{"$f":"'[8]90-99岁公示名单  '!D15","v":"女"},{"$f":"'[8]90-99岁公示名单  '!E15","v":90},{"$f":"'[8]90-99岁公示名单  '!F15","v":100},{"$f":"'[8]90-99岁公示名单  '!G15","v":"2025-08-10"}]
[70,{"$f":"'[4]8月90岁本月在册高龄公示名单'!B4","v":"温馨社区"},{"$f":"'[4]8月90岁本月在册高龄公示名单'!C4","v":"周金水"},{"$f":"'[4]8月90岁本月在册高龄公示名单'!D4","v":"男"},{"$f":"'[4]8月90岁本月在册高龄公示名单'!E4","v":96},{"$f":"'[4]8月90岁本月在册高龄公示名单'!F4","v":100},{"$f":"'[4]8月90岁本月在册高龄公示名单'!G4","v":"2025-08-01"}]
[71,{"$f":"'[4]8月90岁本月在册高龄公示名单'!B5","v":"温馨社区"},{"$f":"'[4]8月90岁本月在册高龄公示名单'!C5","v":"彭言秀"},{"$f":"'[4]8月90岁本月在册高龄公示名单'!D5","v":"女"},{"$f":"'[4]8月90岁本月在册高龄公示名单'!E5","v":95},{"$f":"'[4]8月90岁本月在册高龄公示名单'!F5","v":100},{"$f":"'[4]8月90岁本月在册高龄公示名单'!G5","v":"2025-08-01"}]
[72,{"$f":"'[4]8月90岁本月在册高龄公示名单'!B6","v":"温馨社区"},{"$f":"'[4]8月90岁本月在册高龄公示名单'!C6","v":"陈绍欣"},{"$f":"'[4]8月90岁本月在册高龄公示名单'!D6","v":"男"},{"$f":"'[4]8月90岁本月在册高龄公示名单'!E6","v":93},{"$f":"'[4]8月90岁本月在册高龄公示名单'!F6","v":100},{"$f":"'[4]8月90岁本月在册高龄公示名单'!G6","v":"2025-08-01"}]
[73,{"$f":"'[4]8月90岁本月在册高龄公示名单'!B7","v":"温馨社区"},{"$f":"'[4]8月90岁本月在册高龄公示名单'!C7","v":"刘术英"},{"$f":"'[4]8月90岁本月在册高龄公示名单'!D7","v":"女"},{"$f":"'[4]8月90岁本月在册高龄公示名单'!E7","v":92},{"$f":"'[4]8月90岁本月在册高龄公示名单'!F7","v":100},{"$f":"'[4]8月90岁本月在册高龄公示名单'!G7","v":"2025-08-01"}]
[74,{"$f":"'[4]8月90岁本月在册高龄公示名单'!B8","v":"温馨社区"},{"$f":"'[4]8月90岁本月在册高龄公示名单'!C8","v":"邹华美"},{"$f":"'[4]8月90岁本月在册高龄公示名单'!D8","v":"男"},{"$f":"'[4]8月90岁本月在册高龄公示名单'!E8","v":92},{"$f":"'[4]8月90岁本月在册高龄公示名单'!F8","v":100},{"$f":"'[4]8月90岁本月在册高龄公示名单'!G8","v":"2025-08-01"}]
[75,{"$f":"'[4]8月90岁本月在册高龄公示名单'!B9","v":"温馨社区"},{"$f":"'[4]8月90岁本月在册高龄公示名单'!C9","v":"曾宪群"},{"$f":"'[4]8月90岁本月在册高龄公示名单'!D9","v":"女"},{"$f":"'[4]8月90岁本月在册高龄公示名单'!E9","v":90},{"$f":"'[4]8月90岁本月在册高龄公示名单'!F9","v":100},{"$f":"'[4]8月90岁本月在册高龄公示名单'!G9","v":"2025-08-01"}]
[76,{"$f":"'[4]8月90岁本月在册高龄公示名单'!B10","v":"温馨社区"},{"$f":"'[4]8月90岁本月在册高龄公示名单'!C10","v":"练锡仁"},{"$f":"'[4]8月90岁本月在册高龄公示名单'!D10","v":"男"},{"$f":"'[4]8月90岁本月在册高龄公示名单'!E10","v":90},{"$f":"'[4]8月90岁本月在册高龄公示名单'!F10","v":100},{"$f":"'[4]8月90岁本月在册高龄公示名单'!G10","v":"2025-08-01"}]
[77,{"$f":"'[4]8月90岁本月在册高龄公示名单'!B11","v":"温馨社区"},{"$f":"'[4]8月90岁本月在册高龄公示名单'!C11","v":"覃玉兰"},{"$f":"'[4]8月90岁本月在册高龄公示名单'!D11","v":"女"},{"$f":"'[4]8月90岁本月在册高龄公示名单'!E11","v":90},{"$f":"'[4]8月90岁本月在册高龄公示名单'!F11","v":100},{"$f":"'[4]8月90岁本月在册高龄公示名单'!G11","v":"2025-08-01"}]
[78,{"$f":"'[4]8月90岁本月在册高龄公示名单'!B12","v":"温馨社区"},{"$f":"'[4]8月90岁本月在册高龄公示名单'!C12","v":"班天润"},{"$f":"'[4]8月90岁本月在册高龄公示名单'!D12","v":"男"},{"$f":"'[4]8月90岁本月在册高龄公示名单'!E12","v":90},{"$f":"'[4]8月90岁本月在册高龄公示名单'!F12","v":100},{"$f":"'[4]8月90岁本月在册高龄公示名单'!G12","v":"2025-08-01"}]
[79,{"$f":"'[5]90-99岁本月在册高龄公示名单  '!B4","v":"长风社区"},{"$f":"'[5]90-99岁本月在册高龄公示名单  '!C4","v":"闫秀芳"},{"$f":"'[5]90-99岁本月在册高龄公示名单  '!D4","v":"女"},{"$f":"'[5]90-99岁本月在册高龄公示名单  '!E4","v":98},{"$f":"'[5]90-99岁本月在册高龄公示名单  '!F4","v":100},{"$f":"'[5]90-99岁本月在册高龄公示名单  '!G4","v":"2025-08-01"}]
[80,{"$f":"'[5]90-99岁本月在册高龄公示名单  '!B5","v":"长风社区"},{"$f":"'[5]90-99岁本月在册高龄公示名单  '!C5","v":"余世太"},{"$f":"'[5]90-99岁本月在册高龄公示名单  '!D5","v":"男"},{"$f":"'[5]90-99岁本月在册高龄公示名单  '!E5","v":96},{"$f":"'[5]90-99岁本月在册高龄公示名单  '!F5","v":100},{"$f":"'[5]90-99岁本月在册高龄公示名单  '!G5","v":"2025-08-01"}]
[81,{"$f":"'[5]90-99岁本月在册高龄公示名单  '!B6","v":"长风社区"},{"$f":"'[5]90-99岁本月在册高龄公示名单  '!C6","v":"雷素媛"},{"$f":"'[5]90-99岁本月在册高龄公示名单  '!D6","v":"女"},{"$f":"'[5]90-99岁本月在册高龄公示名单  '!E6","v":93},{"$f":"'[5]90-99岁本月在册高龄公示名单  '!F6","v":100},{"$f":"'[5]90-99岁本月在册高龄公示名单  '!G6","v":"2025-08-01"}]
[82,{"$f":"'[5]90-99岁本月在册高龄公示名单  '!B7","v":"长风社区"},{"$f":"'[5]90-99岁本月在册高龄公示名单  '!C7","v":"熊来发"},{"$f":"'[5]90-99岁本月在册高龄公示名单  '!D7","v":"男"},{"$f":"'[5]90-99岁本月在册高龄公示名单  '!E7","v":92},{"$f":"'[5]90-99岁本月在册高龄公示名单  '!F7","v":100},{"$f":"'[5]90-99岁本月在册高龄公示名单  '!G7","v":"2025-08-01"}]
[83,{"$f":"'[5]90-99岁本月在册高龄公示名单  '!B8","v":"长风社区"},{"$f":"'[5]90-99岁本月在册高龄公示名单  '!C8","v":"严秀群"},{"$f":"'[5]90-99岁本月在册高龄公示名单  '!D8","v":"女"},{"$f":"'[5]90-99岁本月在册高龄公示名单  '!E8","v":92},{"$f":"'[5]90-99岁本月在册高龄公示名单  '!F8","v":100},{"$f":"'[5]90-99岁本月在册高龄公示名单  '!G8","v":"2025-08-01"}]
[84,{"$f":"'[5]90-99岁本月在册高龄公示名单  '!B9","v":"长风社区"},{"$f":"'[5]90-99岁本月在册高龄公示名单  '!C9","v":"陈玉珍"},{"$f":"'[5]90-99岁本月在册高龄公示名单  '!D9","v":"女"},{"$f":"'[5]90-99岁本月在册高龄公示名单  '!E9","v":92},{"$f":"'[5]90-99岁本月在册高龄公示名单  '!F9","v":100},{"$f":"'[5]90-99岁本月在册高龄公示名单  '!G9","v":"2025-08-01"}]
[85,{"$f":"'[5]90-99岁本月在册高龄公示名单  '!B10","v":"长风社区"},{"$f":"'[5]90-99岁本月在册高龄公示名单  '!C10","v":"耿淑芳"},{"$f":"'[5]90-99岁本月在册高龄公示名单  '!D10","v":"女"},{"$f":"'[5]90-99岁本月在册高龄公示名单  '!E10","v":91},{"$f":"'[5]90-99岁本月在册高龄公示名单  '!F10","v":100},{"$f":"'[5]90-99岁本月在册高龄公示名单  '!G10","v":"2025-08-01"}]
[86,{"$f":"'[5]90-99岁本月在册高龄公示名单  '!B11","v":"长风社区"},{"$f":"'[5]90-99岁本月在册高龄公示名单  '!C11","v":"朱志强"},{"$f":"'[5]90-99岁本月在册高龄公示名单  '!D11","v":"男"},{"$f":"'[5]90-99岁本月在册高龄公示名单  '!E11","v":91},{"$f":"'[5]90-99岁本月在册高龄公示名单  '!F11","v":100},{"$f":"'[5]90-99岁本月在册高龄公示名单  '!G11","v":"2025-08-01"}]
[87,{"$f":"'[5]90-99岁本月在册高龄公示名单  '!B12","v":"长风社区"},{"$f":"'[5]90-99岁本月在册高龄公示名单  '!C12","v":"刘志初"},{"$f":"'[5]90-99岁本月在册高龄公示名单  '!D12","v":"男"},{"$f":"'[5]90-99岁本月在册高龄公示名单  '!E12","v":90},{"$f":"'[5]90-99岁本月在册高龄公示名单  '!F12","v":100},{"$f":"'[5]90-99岁本月在册高龄公示名单  '!G12","v":"2025-08-01"}]
[88,{"$f":"'[5]90-99岁本月在册高龄公示名单  '!B13","v":"长风社区"},{"$f":"'[5]90-99岁本月在册高龄公示名单  '!C13","v":"王淑亭"},{"$f":"'[5]90-99岁本月在册高龄公示名单  '!D13","v":"女"},{"$f":"'[5]90-99岁本月在册高龄公示名单  '!E13","v":90},{"$f":"'[5]90-99岁本月在册高龄公示名单  '!F13","v":100},{"$f":"'[5]90-99岁本月在册高龄公示名单  '!G13","v":"2025-08-01"}]
[89,{"$f":"'[5]90-99岁本月在册高龄公示名单  '!B14","v":"长风社区"},{"$f":"'[5]90-99岁本月在册高龄公示名单  '!C14","v":"李洁珍"},{"$f":"'[5]90-99岁本月在册高龄公示名单  '!D14","v":"女"},{"$f":"'[5]90-99岁本月在册高龄公示名单  '!E14","v":90},{"$f":"'[5]90-99岁本月在册高龄公示名单  '!F14","v":100},{"$f":"'[5]90-99岁本月在册高龄公示名单  '!G14","v":"2025-08-01"}]
[90,{"$f":"'[6]90岁本月在册高龄公示名单  '!B4","v":"长林社区"},{"$f":"'[6]90岁本月在册高龄公示名单  '!C4","v":"罗秀云"},{"$f":"'[6]90岁本月在册高龄公示名单  '!D4","v":"女"},{"$f":"'[6]90岁本月在册高龄公示名单  '!E4","v":96},{"$f":"'[6]90岁本月在册高龄公示名单  '!F4","v":100},{"$f":"'[6]90岁本月在册高龄公示名单  '!G4","v":"2025-08-01"}]
[91,{"$f":"'[6]90岁本月在册高龄公示名单  '!B5","v":"长林社区"},{"$f":"'[6]90岁本月在册高龄公示名单  '!C5","v":"陈东阳"},{"$f":"'[6]90岁本月在册高龄公示名单  '!D5","v":"女"},{"$f":"'[6]90岁本月在册高龄公示名单  '!E5","v":95},{"$f":"'[6]90岁本月在册高龄公示名单  '!F5","v":100},{"$f":"'[6]90岁本月在册高龄公示名单  '!G5","v":"2025-08-01"}]
[92,{"$f":"'[6]90岁本月在册高龄公示名单  '!B6","v":"长林社区"},{"$f":"'[6]90岁本月在册高龄公示名单  '!C6","v":"邓佩珍"},{"$f":"'[6]90岁本月在册高龄公示名单  '!D6","v":"女  "},{"$f":"'[6]90岁本月在册高龄公示名单  '!E6","v":95},{"$f":"'[6]90岁本月在册高龄公示名单  '!F6","v":100},{"$f":"'[6]90岁本月在册高龄公示名单  '!G6","v":"2025-08-01"}]
[93,{"$f":"'[6]90岁本月在册高龄公示名单  '!B7","v":"长林社区"},{"$f":"'[6]90岁本月在册高龄公示名单  '!C7","v":"陆云飞"},{"$f":"'[6]90岁本月在册高龄公示名单  '!D7","v":"男"},{"$f":"'[6]90岁本月在册高龄公示名单  '!E7","v":95},{"$f":"'[6]90岁本月在册高龄公示名单  '!F7","v":100},{"$f":"'[6]90岁本月在册高龄公示名单  '!G7","v":"2025-08-01"}]
[94,{"$f":"'[6]90岁本月在册高龄公示名单  '!B8","v":"长林社区"},{"$f":"'[6]90岁本月在册高龄公示名单  '!C8","v":"谢琪"},{"$f":"'[6]90岁本月在册高龄公示名单  '!D8","v":"女"},{"$f":"'[6]90岁本月在册高龄公示名单  '!E8","v":93},{"$f":"'[6]90岁本月在册高龄公示名单  '!F8","v":100},{"$f":"'[6]90岁本月在册高龄公示名单  '!G8","v":"2025-08-01"}]
[95,{"$f":"'[6]90岁本月在册高龄公示名单  '!B9","v":"长林社区"},{"$f":"'[6]90岁本月在册高龄公示名单  '!C9","v":"练琴珍"},{"$f":"'[6]90岁本月在册高龄公示名单  '!D9","v":"女"},{"$f":"'[6]90岁本月在册高龄公示名单  '!E9","v":93},{"$f":"'[6]90岁本月在册高龄公示名单  '!F9","v":100},{"$f":"'[6]90岁本月在册高龄公示名单  '!G9","v":"2025-08-01"}]
[96,{"$f":"'[6]90岁本月在册高龄公示名单  '!B10","v":"长林社区"},{"$f":"'[6]90岁本月在册高龄公示名单  '!C10","v":"何章英"},{"$f":"'[6]90岁本月在册高龄公示名单  '!D10","v":"女"},{"$f":"'[6]90岁本月在册高龄公示名单  '!E10","v":93},{"$f":"'[6]90岁本月在册高龄公示名单  '!F10","v":100},{"$f":"'[6]90岁本月在册高龄公示名单  '!G10","v":"2025-08-01"}]
[97,{"$f":"'[6]90岁本月在册高龄公示名单  '!B11","v":"长林社区"},{"$f":"'[6]90岁本月在册高龄公示名单  '!C11","v":"何岳坚"},{"$f":"'[6]90岁本月在册高龄公示名单  '!D11","v":"男"},{"$f":"'[6]90岁本月在册高龄公示名单  '!E11","v":92},{"$f":"'[6]90岁本月在册高龄公示名单  '!F11","v":100},{"$f":"'[6]90岁本月在册高龄公示名单  '!G11","v":"2025-08-01"}]
[98,{"$f":"'[6]90岁本月在册高龄公示名单  '!B12","v":"长林社区"},{"$f":"'[6]90岁本月在册高龄公示名单  '!C12","v":"刘惠芬"},{"$f":"'[6]90岁本月在册高龄公示名单  '!D12","v":"女"},{"$f":"'[6]90岁本月在册高龄公示名单  '!E12","v":91},{"$f":"'[6]90岁本月在册高龄公示名单  '!F12","v":100},{"$f":"'[6]90岁本月在册高龄公示名单  '!G12","v":"2025-08-01"}]
[99,{"$f":"'[6]90岁本月在册高龄公示名单  '!B13","v":"长林社区"},{"$f":"'[6]90岁本月在册高龄公示名单  '!C13","v":"周佩珍"},{"$f":"'[6]90岁本月在册高龄公示名单  '!D13","v":"女"},{"$f":"'[6]90岁本月在册高龄公示名单  '!E13","v":91},{"$f":"'[6]90岁本月在册高龄公示名单  '!F13","v":100},{"$f":"'[6]90岁本月在册高龄公示名单  '!G13","v":"2025-08-01"}]
[100,{"$f":"'[6]90岁本月在册高龄公示名单  '!B14","v":"长林社区"},{"$f":"'[6]90岁本月在册高龄公示名单  '!C14","v":"李水生"},{"$f":"'[6]90岁本月在册高龄公示名单  '!D14","v":"男"},{"$f":"'[6]90岁本月在册高龄公示名单  '!E14","v":91},{"$f":"'[6]90岁本月在册高龄公示名单  '!F14","v":100},{"$f":"'[6]90岁本月在册高龄公示名单  '!G14","v":"2025-08-01"}]
[101,{"$f":"'[6]90岁本月在册高龄公示名单  '!B15","v":"长林社区"},{"$f":"'[6]90岁本月在册高龄公示名单  '!C15","v":"李琼芝"},{"$f":"'[6]90岁本月在册高龄公示名单  '!D15","v":"女"},{"$f":"'[6]90岁本月在册高龄公示名单  '!E15","v":90},{"$f":"'[6]90岁本月在册高龄公示名单  '!F15","v":100},{"$f":"'[6]90岁本月在册高龄公示名单  '!G15","v":"2025-08-01"}]
[102,{"$f":"'[6]90岁本月在册高龄公示名单  '!B16","v":"长林社区"},{"$f":"'[6]90岁本月在册高龄公示名单  '!C16","v":"彭耀林"},{"$f":"'[6]90岁本月在册高龄公示名单  '!D16","v":"男"},{"$f":"'[6]90岁本月在册高龄公示名单  '!E16","v":90},{"$f":"'[6]90岁本月在册高龄公示名单  '!F16","v":100},{"$f":"'[6]90岁本月在册高龄公示名单  '!G16","v":"2025-08-01"}]
[103,{"$f":"'[7]90岁本月在册高龄公示名单  '!B4","v":"紫薇园社区"},{"$f":"'[7]90岁本月在册高龄公示名单  '!C4","v":"海慧群"},{"$f":"'[7]90岁本月在册高龄公示名单  '!D4","v":"女"},{"$f":"'[7]90岁本月在册高龄公示名单  '!E4","v":96},{"$f":"'[7]90岁本月在册高龄公示名单  '!F4","v":100},{"$f":"'[7]90岁本月在册高龄公示名单  '!G4","v":"2025-08-01"}]
[104,{"$f":"'[7]90岁本月在册高龄公示名单  '!B5","v":"紫薇园社区"},{"$f":"'[7]90岁本月在册高龄公示名单  '!C5","v":"陈炳华"},{"$f":"'[7]90岁本月在册高龄公示名单  '!D5","v":"女"},{"$f":"'[7]90岁本月在册高龄公示名单  '!E5","v":96},{"$f":"'[7]90岁本月在册高龄公示名单  '!F5","v":100},{"$f":"'[7]90岁本月在册高龄公示名单  '!G5","v":"2025-08-02"}]
[105,{"$f":"'[7]90岁本月在册高龄公示名单  '!B6","v":"紫薇园社区"},{"$f":"'[7]90岁本月在册高龄公示名单  '!C6","v":"李彦宾"},{"$f":"'[7]90岁本月在册高龄公示名单  '!D6","v":"男"},{"$f":"'[7]90岁本月在册高龄公示名单  '!E6","v":97},{"$f":"'[7]90岁本月在册高龄公示名单  '!F6","v":100},{"$f":"'[7]90岁本月在册高龄公示名单  '!G6","v":"2025-08-03"}]
[106,{"$f":"'[7]90岁本月在册高龄公示名单  '!B7","v":"紫薇园社区"},{"$f":"'[7]90岁本月在册高龄公示名单  '!C7","v":"刘其光"},{"$f":"'[7]90岁本月在册高龄公示名单  '!D7","v":"男"},{"$f":"'[7]90岁本月在册高龄公示名单  '!E7","v":96},{"$f":"'[7]90岁本月在册高龄公示名单  '!F7","v":100},{"$f":"'[7]90岁本月在册高龄公示名单  '!G7","v":"2025-08-04"}]
[107,{"$f":"'[7]90岁本月在册高龄公示名单  '!B8","v":"紫薇园社区"},{"$f":"'[7]90岁本月在册高龄公示名单  '!C8","v":"芦志萍"},{"$f":"'[7]90岁本月在册高龄公示名单  '!D8","v":"女"},{"$f":"'[7]90岁本月在册高龄公示名单  '!E8","v":95},{"$f":"'[7]90岁本月在册高龄公示名单  '!F8","v":100},{"$f":"'[7]90岁本月在册高龄公示名单  '!G8","v":"2025-08-05"}]
[108,{"$f":"'[7]90岁本月在册高龄公示名单  '!B9","v":"紫薇园社区"},{"$f":"'[7]90岁本月在册高龄公示名单  '!C9","v":"伍元行"},{"$f":"'[7]90岁本月在册高龄公示名单  '!D9","v":"男"},{"$f":"'[7]90岁本月在册高龄公示名单  '!E9","v":93},{"$f":"'[7]90岁本月在册高龄公示名单  '!F9","v":100},{"$f":"'[7]90岁本月在册高龄公示名单  '!G9","v":"2025-08-06"}]
[109,{"$f":"'[7]90岁本月在册高龄公示名单  '!B10","v":"紫薇园社区"},{"$f":"'[7]90岁本月在册高龄公示名单  '!C10","v":"陈德芬"},{"$f":"'[7]90岁本月在册高龄公示名单  '!D10","v":"女"},{"$f":"'[7]90岁本月在册高龄公示名单  '!E10","v":93},{"$f":"'[7]90岁本月在册高龄公示名单  '!F10","v":100},{"$f":"'[7]90岁本月在册高龄公示名单  '!G10","v":"2025-08-07"}]
[110,{"$f":"'[7]90岁本月在册高龄公示名单  '!B11","v":"紫薇园社区"},{"$f":"'[7]90岁本月在册高龄公示名单  '!C11","v":"林德名"},{"$f":"'[7]90岁本月在册高龄公示名单  '!D11","v":"男"},{"$f":"'[7]90岁本月在册高龄公示名单  '!E11","v":93},{"$f":"'[7]90岁本月在册高龄公示名单  '!F11","v":100},{"$f":"'[7]90岁本月在册高龄公示名单  '!G11","v":"2025-08-08"}]
[111,{"$f":"'[7]90岁本月在册高龄公示名单  '!B12","v":"紫薇园社区"},{"$f":"'[7]90岁本月在册高龄公示名单  '!C12","v":"赖林科"},{"$f":"'[7]90岁本月在册高龄公示名单  '!D12","v":"女"},{"$f":"'[7]90岁本月在册高龄公示名单  '!E12","v":93},{"$f":"'[7]90岁本月在册高龄公示名单  '!F12","v":100},{"$f":"'[7]90岁本月在册高龄公示名单  '!G12","v":"2025-08-09"}]
[112,{"$f":"'[7]90岁本月在册高龄公示名单  '!B13","v":"紫薇园社区"},{"$f":"'[7]90岁本月在册高龄公示名单  '!C13","v":"韦桂玲"},{"$f":"'[7]90岁本月在册高龄公示名单  '!D13","v":"女"},{"$f":"'[7]90岁本月在册高龄公示名单  '!E13","v":92},{"$f":"'[7]90岁本月在册高龄公示名单  '!F13","v":100},{"$f":"'[7]90岁本月在册高龄公示名单  '!G13","v":"2025-08-12"}]
[113,{"$f":"'[7]90岁本月在册高龄公示名单  '!B14","v":"紫薇园社区"},{"$f":"'[7]90岁本月在册高龄公示名单  '!C14","v":"潘凤鸾"},{"$f":"'[7]90岁本月在册高龄公示名单  '!D14","v":"女"},{"$f":"'[7]90岁本月在册高龄公示名单  '!E14","v":92},{"$f":"'[7]90岁本月在册高龄公示名单  '!F14","v":100},{"$f":"'[7]90岁本月在册高龄公示名单  '!G14","v":"2025-08-13"}]
[114,{"$f":"'[7]90岁本月在册高龄公示名单  '!B15","v":"紫薇园社区"},{"$f":"'[7]90岁本月在册高龄公示名单  '!C15","v":"韦作质"},{"$f":"'[7]90岁本月在册高龄公示名单  '!D15","v":"男"},{"$f":"'[7]90岁本月在册高龄公示名单  '!E15","v":92},{"$f":"'[7]90岁本月在册高龄公示名单  '!F15","v":100},{"$f":"'[7]90岁本月在册高龄公示名单  '!G15","v":"2025-08-14"}]
[115,{"$f":"'[7]90岁本月在册高龄公示名单  '!B16","v":"紫薇园社区"},{"$f":"'[7]90岁本月在册高龄公示名单  '!C16","v":"许丽萍"},{"$f":"'[7]90岁本月在册高龄公示名单  '!D16","v":"女"},{"$f":"'[7]90岁本月在册高龄公示名单  '!E16","v":91},{"$f":"'[7]90岁本月在册高龄公示名单  '!F16","v":100},{"$f":"'[7]90岁本月在册高龄公示名单  '!G16","v":"2025-08-15"}]
[116,{"$f":"'[7]90岁本月在册高龄公示名单  '!B17","v":"紫薇园社区"},{"$f":"'[7]90岁本月在册高龄公示名单  '!C17","v":"黄作珍"},{"$f":"'[7]90岁本月在册高龄公示名单  '!D17","v":"女"},{"$f":"'[7]90岁本月在册高龄公示名单  '!E17","v":91},{"$f":"'[7]90岁本月在册高龄公示名单  '!F17","v":100},{"$f":"'[7]90岁本月在册高龄公示名单  '!G17","v":"2025-08-16"}]
[117,{"$f":"'[7]90岁本月在册高龄公示名单  '!B18","v":"紫薇园社区"},{"$f":"'[7]90岁本月在册高龄公示名单  '!C18","v":"应钦范"},{"$f":"'[7]90岁本月在册高龄公示名单  '!D18","v":"男"},{"$f":"'[7]90岁本月在册高龄公示名单  '!E18","v":91},{"$f":"'[7]90岁本月在册高龄公示名单  '!F18","v":100},{"$f":"'[7]90岁本月在册高龄公示名单  '!G18","v":"2025-08-17"}]
[118,{"$f":"'[7]90岁本月在册高龄公示名单  '!B19","v":"紫薇园社区"},{"$f":"'[7]90岁本月在册高龄公示名单  '!C19","v":"刁民英"},{"$f":"'[7]90岁本月在册高龄公示名单  '!D19","v":"男"},{"$f":"'[7]90岁本月在册高龄公示名单  '!E19","v":91},{"$f":"'[7]90岁本月在册高龄公示名单  '!F19","v":100},{"$f":"'[7]90岁本月在册高龄公示名单  '!G19","v":"2025-08-18"}]
[119,{"$f":"'[7]90岁本月在册高龄公示名单  '!B20","v":"紫薇园社区"},{"$f":"'[7]90岁本月在册高龄公示名单  '!C20","v":"陈月秀"},{"$f":"'[7]90岁本月在册高龄公示名单  '!D20","v":"女"},{"$f":"'[7]90岁本月在册高龄公示名单  '!E20","v":90},{"$f":"'[7]90岁本月在册高龄公示名单  '!F20","v":100},{"$f":"'[7]90岁本月在册高龄公示名单  '!G20","v":"2025-08-19"}]
["柳北民政局举报电话：0772-2857806"]
[{"$nulls":5},"2025-08-13"]

{"sheet":"90岁本月补发高龄公示名单  ","index":3,"n_rows":11,"n_cols":7,"rows_kept":11,"merged":[[0,0,0,6],[1,0,1,6],[8,0,8,6],[9,0,9,6],[10,5,10,6]]}
["跃进街道高龄老年人生活补贴公示"]
["　　本街道共有    人申请 2024 年第  月高龄补贴，根据《柳州市高龄老年人生活补贴发放管理暂行办法》（柳民规〔2020〕5号）的有关规定，现予以公示。"]
["序\n号","所属社区","申请人\n姓名","性别","年龄","补助金额\n（元/月）","发放\n时段"]
[]
[]
[]
[]
[]
["跃进街道办举报电话：0772-2066785"]
["柳北民政局举报电话：0772-2857806"]
[{"$nulls":5},"2025-06-13"]

{"sheet":"100岁本月在册高龄公示名单  ","index":4,"n_rows":12,"n_cols":7,"rows_kept":12,"merged":[[0,0,0,6],[1,0,1,6],[9,0,9,6],[10,0,10,6],[11,5,11,6]]}
["跃进街道高龄老年人生活补贴公示"]
["　　本街道共有 7 人申请 2025 年第 8 月高龄补贴，根据《柳州市高龄老年人生活补贴发放管理暂行办法》（柳民规〔2020〕5号）的有关规定，现予以公示。"]
["序\n号","所属社区","申请人\n姓名","性别","年龄","补助金额\n（元/月）","发放\n时段"]
[1,{"$f":"'[2]100岁公示'!B4","v":"柳星社区"},{"$f":"'[2]100岁公示'!C4","v":"黄兰贞"},{"$f":"'[2]100岁公示'!D4","v":"女"},{"$f":"'[2]100岁公示'!E4","v":101},{"$f":"'[2]100岁公示'!F4","v":{"v":300,"d":"300.00"}},{"$f":"'[2]100岁公示'!G4","v":"2025-08-02"}]
[2,{"$f":"'[2]100岁公示'!B5","v":"柳星社区"},{"$f":"'[2]100岁公示'!C5","v":"施素珍"},{"$f":"'[2]100岁公示'!D5","v":"女"},{"$f":"'[2]100岁公示'!E5","v":100},{"$f":"'[2]100岁公示'!F5","v":{"v":300,"d":"300.00"}},{"$f":"'[2]100岁公示'!G5","v":"2025-08-01"}]
[3,{"$f":"'[9]100岁本月在册高龄公示名单  '!B4","v":"宏福社区"},{"$f":"'[9]100岁本月在册高龄公示名单  '!C4","v":"宁富兰"},{"$f":"'[9]100岁本月在册高龄公示名单  '!D4","v":"女"},{"$f":"'[9]100岁本月在册高龄公示名单  '!E4","v":102},{"$f":"'[9]100岁本月在册高龄公示名单  '!F4","v":{"v":300,"d":"300.00"}},{"$f":"'[9]100岁本月在册高龄公示名单  '!G4","v":"2025-08-10"}]
[4,{"$f":"'[4]8月100岁本月在册高龄公示名单'!B4","v":"温馨社区"},{"$f":"'[4]8月100岁本月在册高龄公示名单'!C4","v":"张华"},{"$f":"'[4]8月100岁本月在册高龄公示名单'!D4","v":"男"},{"$f":"'[4]8月100岁本月在册高龄公示名单'!E4","v":101},{"$f":"'[4]8月100岁本月在册高龄公示名单'!F4","v":{"v":300,"d":"300.00"}},{"$f":"'[4]8月100岁本月在册高龄公示名单'!G4","v":"2025-08-01"}]
[5,"紫薇园社区","李肖萍","女",102,{"v":300,"d":"300.00"},"2025-08-05"]
[6,"长林社区","黎秀玉","女",100,{"v":300,"d":"300.00"},"2025-08-07"]
["跃进街道办举报电话：0772-2066785"]
["柳北民政局举报电话：0772-2857806"]
[{"$nulls":5},"2025-08-13"]

{"sheet":"100岁本月补发高龄公示名单  ","index":5,"n_rows":15,"n_cols":7,"rows_kept":15,"merged":[[0,0,0,6],[1,0,1,6],[12,0,12,6],[13,0,13,6],[14,5,14,6]]}
["XX街道高龄老年人生活补贴公示"]
["　　本街道共有    人申请 2022年第    月高龄补贴，根据《柳州市高龄老年人生活补贴发放管理暂行办法》（柳民规〔2020〕5号）的有关规定，现予以公示。"]
["序\n号","所属社区","申请人\n姓名","性别","年龄","补助金额\n（元/月）","发放\n时段"]
{"$rows_empty":9}
["跃进街道办举报电话：0772-2066785"]
["柳北民政局举报电话：0772-2857806"]
[{"$nulls":5},"2023/**/**"]